Workbook

Sheet Zadanie 1
A1: Nazwa i adres Wykonawcy…………………………….. | J1: Załącznik nr 2 do SWZ
A3: Nr sprawy: 7/SMED/DCZP/2026/P
A4: FORMULARZ CENOWY
A5: Zadanie nr 1
A6: 1 | B6: 2 | C6: 3 | D6: 4 | E6: 5 | F6: 6 | G6: 7 | H6: 8 | I6: 9 | J6: 10 | K6: 11 | L6: 12
A7: Lp | B7: Nazwa artykułu | C7: Zdjęcie poglądowe | D7: Nazwa, nr katalogowy i producent (podać nr strony ulotki i dokumentów rejestrowych w ofercie) | E7: Ilość | F7: Szacunkowa wielkość zamówienia na 12 mcy | G7: Cena jednost. netto | H7: % Vat | I7: Cena jednost. brutto | J7: Wartość netto | K7: Wartość Vat | L7: Wartość brutto
A8: 1 | B8: WÓZEK INWALIDZKI: - waga użytkownika: max. 120kg (+/- 2kg) - Szerokość użytkowa siedziska: 50cm (+/- 2cm) - Szerokość całkowita wózka: 67cm (+/- 2cm) - Długość całkowita z podnóżkiem: 105cm (+/- 2cm) - Szerokość wózka po złożeniu: 28,5cm (+/- 2cm) - Wysokość wózka: 90cm (+/- 2cm) - Głębokość użytkowa siedziska: 40cm (+/- 2cm) - Wysokość oparcia: 44cm (+/- 2cm) - Odległość siedziska od podnóżka: 35cm (+/- 2cm) - Średnica obręczy: 50cm (+/- 2cm) - Grubość obręczy: 2cm - Średnica kół tylnych: 60cm (+/- 2cm) - Średnica kół przednich: 19cm (+/- 2cm) - Koła pełne - Podłokietniki krótkie: dł. 26cm; szer.5,5cm (+/- 2cm) - Podnóżki: dł. 16,5cm; szer.16cm (+/- 2cm) - Odległość siedziska od podłokietnika: 26cm (+/- 2cm) - Wymiary tylnej kieszeni: dł. 28,5cm; szer.23cm (+/- 2cm) - Waga wózka: do 20 kg - zdjęcie poglądowe | E8: szt. | F8: 4 | I8: =ROUND((G8*H8+G8),2) -> 0 | J8: =F8*G8 -> 0 | K8: =L8-J8 -> 0 | L8: =F8*I8 -> 0
A9: 2 | B9: BALKONIK TRÓJFUNKCYJNY: (może być kroczący, stały lub stały z kółkami): szerokość: 60 cm, zakres regulacji wysokości: 82 - 100 cm, skokowa regulacja wysokości: co 2,5 cm; waga: do 3 kg; max. obciążenie: 110 kg; łatwy sposób zablokowania funkcji kroczącej; aluminiowa rama z możliwością złożenia; wytrzymała i stabilna konstrukcja; konstrukcja ułatwiająca wstawanie; dodatkowe wymienne stopki przednie; wyposażone w kółka o średnicy 12 cm antypoślizgowe, gumowe nasadki zapewniające; wysoki poziom bezpieczeństwa; ergonomiczne uchwyty zdjęcie poglądowe | E9: szt. | F9: 4 | I9: =ROUND((G9*H9+G9),2) -> 0 | J9: =F9*G9 -> 0 | K9: =L9-J9 -> 0 | L9: =F9*I9 -> 0
A10: 3 | B10: STOJAK DO KROPLÓWEK: Przemieszczanie statywu za pomocą kółek, możliwość regulacji wysokości; ze stali nierdzewnej; pokryty jest farbą proszkową; wyposażony w wieszaki do pojemników z płynami infuzyjnymi; Wysokość: min. 1100 – max. 2000 mm; Średnica podstawy: 680 mm zdjęcie poglądowe | E10: szt. | F10: 2 | I10: =ROUND((G10*H10+G10),2) -> 0 | J10: =F10*G10 -> 0 | K10: =L10-J10 -> 0 | L10: =F10*I10 -> 0
A11: 4 | B11: WAGA MEDYCZNA ZE WZROSTOMIERZEM I LEGALIZACJĄ: Elektroniczna waga kolumnowa przeznaczona do szpitali, przychodni oraz gabinetów lekarskich, zalegalizowana do celów medycznych wg klasy III. Rolki transportowe do celów mobilnych, posiadająca funkcję obliczania wskaźnika BMI, który stanowi stosunek wzrostu do wagi. Funkcja HOLD umożliwia zatrzymanie wyniku ważenia pacjenta na wyświetlaczu nawet wtedy, gdy zejdzie on z wagi. Dodatkowe przedmioty, które nie mają być ujęte w ważeniu mogą być wytarowane za pomocą funkcji TARA. Zasilana bateryjnie oraz za pomocą zasilacza (konieczność dostawy zasilacza wraz z wagą); Waga posiada funkcję automatycznego wyłączania. Grupa produktów: Wagi legalizowane Sposób pomiaru: Elektroniczny Rodzaj wagi: Kolumnowa Wymiary : 29,4 x 83,1 x 41,7 cm (+/- 2 cm) Waga urządzenia: do 10 kg Klasa dokładności: III Klasa Nośność wagi : 200 kg Podziałka (g): 100 g < 150 kg > 200 g Zasilanie: Zasilacz, Baterie CE: CE 0109, 0123 zdjęcie poglądowe | E11: szt. | F11: 1 | I11: =ROUND((G11*H11+G11),2) -> 0 | J11: =F11*G11 -> 0 | K11: =L11-J11 -> 0 | L11: =F11*I11 -> 0
A12: 5 | B12: KOZETKA MOBILNA / STÓŁ REHABILITACYJNY: z kołami jezdnymi z możliwością blokowania, kozetka może pełnić rolę leżanki; łatwe utrzymanie czystości; uchwyt na prześcieradło jednorazowe, poziomowane wezgłowie; konstrukcja metalowa malowana na biało; tapicerka skóropodobna; Min. 7 kolorów tapicerki do wyboru przy składaniu zamówienia. WYMIARY: Całkowita szerokość: 55 cm (+/- 2 cm) Całkowita długość: 188 cm (+/- 2 cm) Całkowita wysokość: 51 cm (+/- 2 cm) Kąt nachylenia wezgłowia, +/- 40° (+/- 2°) Dopuszczalne obciążenia: 180kg zdjęcie poglądowe | E12: szt. | F12: 2 | I12: =ROUND((G12*H12+G12),2) -> 0 | J12: =F12*G12 -> 0 | K12: =L12-J12 -> 0 | L12: =F12*I12 -> 0
A13: 6 | B13: TABORET NA KÓŁKACH: Z regulacją wysokości: 50 - 70 cm (+/- 2 cm); Wytrzymała tapicerka ze skóry syntetycznej na siedzisku; Chromowana podstawa jezdna; Maksymalne obciążenie: 110 kg; min. 5 kolorów tapicerki do wyboru przy składaniu zamówienia zdjęcie poglądowe | E13: szt. | F13: 2 | I13: =ROUND((G13*H13+G13),2) -> 0 | J13: =F13*G13 -> 0 | K13: =L13-J13 -> 0 | L13: =F13*I13 -> 0
A14: 7 | B14: PARAWAN TRZYSKRZYDŁOWY NA KÓŁKACH: Pokryty farbą proszkową; posiada kółka umożliwiające proste przemieszczenie; WYMIARY: Wysokość: 170 cm (+/- 2cm); Szerokość: 303 cm (+/- 2cm); Waga: do 13 kg; łączony za pomocą zatrzasków; parawan wykonany jest z sztywnego, zmywalnego materiału; min. 2 kolory parawanu do wyboru przy składaniu zamówienia. zdjęcie poglądowe | E14: szt. | F14: 3 | I14: =ROUND((G14*H14+G14),2) -> 0 | J14: =F14*G14 -> 0 | K14: =L14-J14 -> 0 | L14: =F14*I14 -> 0
A15: 8 | B15: PARAWAN JEDNOSKRZYDŁOWY NA KÓŁKACH: Pokryty farbą proszkową; posiada kółka umożliwiające proste przemieszczenie; Wysokość: 170 cm (+/- 2cm); Szerokość: 100 cm (+/- 2cm)Waga: do 4 kg; parawan wykonany jest ze sztywnego, zmywalnego materiału; min. 2 kolory parawanu do wyboru przy składaniu zamówienia. zdjęcie poglądowe | E15: szt. | F15: 4 | I15: =ROUND((G15*H15+G15),2) -> 0 | J15: =F15*G15 -> 0 | K15: =L15-J15 -> 0 | L15: =F15*I15 -> 0
A16: 9 | B16: TACA DO PODAWANIA LEKÓW z miejscem na 32 kieliszki. Taca posiada 16 zestawów w których znajdują się po 2 miejsca na kieliszki oraz miejsce na umieszczenie opisu identyfikującego pacjentów. Wymiary: 430 x 325 x 60 mm zdjęcie poglądowe | E16: szt. | F16: 9 | I16: =ROUND((G16*H16+G16),2) -> 0 | J16: =F16*G16 -> 0 | K16: =L16-J16 -> 0 | L16: =F16*I16 -> 0
A17: 10 | B17: TABORET POD PRYSZNIC: średnica: 33 cm (+/- 2cm), średnica nakładki obrotowej: 29,6 cm (+/- 2 cm), rozstaw nóżek: 34 cm (+/- 2cm), waga: do 2kg , wysokość siedziska (7 stopni): 34,5 – 52,5 cm (+/- 2cm), maksymalne obciążenie: 100 kg, system montażu bez użycia narzędzi, siedzisko obrotowe można przekręcić w dowolnym kierunku, nogi wykonane z aluminium, nóżki zabezpieczone antypoślizgowymi nakładkami. zdjęcie poglądowe | E17: szt. | F17: 8 | I17: =ROUND((G17*H17+G17),2) -> 0 | J17: =F17*G17 -> 0 | K17: =L17-J17 -> 0 | L17: =F17*I17 -> 0
A18: 11 | B18: MATERAC PRZECIWODLEŻYNOWY ZMIENNOCIŚNIENIOWY BĄBELKOWY: Dane techniczne: - pompa z płynną regulacją ciśnienia - wymiary po napompowaniu: 200cm x 90cm x 7 cm (plus dwie specjalne wypustki służące do podłożenia pod materac znajdujący się na łóżku) - ciśnienie robocze kompresora: 40 do 100mmHg (płynna regulacja) - czas pełnego cyklu: 6 minut - specjalne haki służące do zawieszenia pompy na łóżku Typu: Materac przeciwodleżynowy zmiennociśnieniowy bąbelkowy zdjęcie poglądowe | E18: szt. | F18: 4 | I18: =ROUND((G18*H18+G18),2) -> 0 | J18: =F18*G18 -> 0 | K18: =L18-J18 -> 0 | L18: =F18*I18 -> 0
A19: 12 | B19: KRZESŁO REHABILITACYJNO - PRYSZNICOWE - wymiar siedziska: 50x30cm (+/- 2cm) - rozstaw nóżek: 42x38cm (+/- 2cm) - zakres regulacji wysokości: 36-47cm (+/- 2cm) - waga krzesła: do 4 kg - maksymalne obciążenie: do 110kg - kolor: biały - nóżki krzesła zabezpieczone antypoślizgowymi nakładkami - rama krzesła aluminiowa anodyzowana – odporna na wodę - uchwyty ułatwiające wstawanie - siedzisko i oparcie wykonane z polietylenu - zdjęcie poglądowe | E19: szt. | F19: 8 | I19: =ROUND((G19*H19+G19),2) -> 0 | J19: =F19*G19 -> 0 | K19: =L19-J19 -> 0 | L19: =F19*I19 -> 0
... A24: 17 | B24: Chodzik balkonik czterokołowy dla osób o wadze do 200 kg Chodzik czterokołowy aluminiowy z regulowanym siedziskiem Główne cechy: - Maksymalne obciążenie wynoszące do 200 kg; - Składana rama dostępna w min dwóch kolorach - Blokada zapobiegająca przypadkowemu złożeniu; - Miękkie materiałowe siedzisko z regulacją wysokości (zakres od 48 do 57 cm); (+/-2cm) - Skrytka na dokumenty pod siedziskiem; - Materiały koszyk pod siedziskiem na małe przedmioty do 5 kg; - Blokada przeciwko wypadaniu oparcia; - Materiałowe oparcie; - Ergonomiczne uchwyty wraz z hamulcami z funkcją hamulca postojowego;(+/-2cm) - Przednie koła skrętne; - Odblaski w kolorze czerwonym umieszczone na bokach przednich kół; - Produkt medyczny, atestowany Konstrukcja ramy Aluminium, Rama składana Regulowana wysokość uchwytów, Regulowana wysokość siedziska Wysokość siedziska: 48 - 57 cm(+/-2cm) Wymiary siedziska: szer. 48 x gł. 40 cm(+/-2cm) Szerokość wewnętrzna: 53 cm (+/-2cm) Wymiary przy minimalnej wysokości ustawienia siedziska: dł. 75 x szer. 60 x wys. 81 - 102 cm (+/-2cm) Wymiary przy maksymalnej wysokości ustawienia siedziska: dł. 86 x szer. 60 x wys. 81 - 102 cm (+/-2cm) Masa całkowita:max 11 kg, zdjęcie poglądowe | E24: szt. | F24: 2 | I24: =ROUND((G24*H24+G24),2) -> 0 | J24: =F24*G24 -> 0 | K24: =L24-J24 -> 0 | L24: =F24*I24 -> 0
I25: SUMA | J25: =SUM(J8:J24) -> 0 | K25: =SUM(K8:K24) -> 0 | L25: =SUM(L8:L24) -> 0
A27: Oświadczamy, że w cenie oferty uwzględniliśmy wszystkie elementy cenotwórcze wynikające z zakresu i sposobu realizacji przedmiotu zamówienia.
A28: ………………………………………………………………………… (data i podpis Wykonawcy)

Sheet Zadanie 2 
A1: Nazwa i adres Wykonawcy…………………………….. | J1: Załącznik nr 2 do SWZ
A3: Nr sprawy: 7/SMED/DCZP/2026/P
A4: FORMULARZ CENOWY
A5: Zadanie nr 2
A6: 1 | B6: 2 | C6: 3 | D6: 4 | E6: 5 | F6: 6 | G6: 7 | H6: 8 | I6: 9 | J6: 10 | K6: 11 | L6: 12
A7: Lp | B7: Nazwa artykułu | C7: Zdjęcie poglądowe | D7: Nazwa, nr katalogowy i producent (podać nr strony ulotki i dokumentów rejestrowych w ofercie) | E7: Ilość | F7: Szacunkowa wielkość zamówienia na 12 m-cy | G7: Cena jednost. netto | H7: % Vat | I7: Cena jednost. brutto | J7: Wartość netto | K7: Wartość Vat | L7: Wartość brutto
A8: 1 | B8: TERMOMETR BEZKONTAKTOWY DO POMIARU CIAŁA: wyposażony w duży i czytelny wyświetlacz; w komplecie z bateriami, polską instrukcją obsługi i kartą gwarancyjną; działa na podczerwień; dźwiękowy alarm gorączki, kiedy temperatura jest wyższa niż 38 °C INFORMACJE TECHNICZNE: urządzenie elektroniczne bezkontaktowe; czas pomiaru: maks. 5 sekund; wyświetlacz: LCD; dokładność wyniku pomiarowego: 0,2 °C; zakres pomiaru temperatura ciała: 32°C – 42,9°C / 89,6°F – 109,2°F.; zakres pomiaru temperatura powierzchni: 0,0°C- 60,0°C / 32,0°F – 140,0°F; margines błędu pomiaru w standardowych warunkach otoczenia: +-0,2°C/0,3°C; zasilanie: baterie ; automatyczne wyłączanie po 30 sekundach; masa termometru bez baterii: około 75 g; gabaryt wielkościowy: 170 x 48 x 40 mm ; temperatura robocza otoczenia: 10°C – 40°C - zdjęcie poglądowe | E8: szt. | F8: 30 | I8: =ROUND((G8*H8+G8),2) -> 0 | J8: =F8*G8 -> 0 | K8: =L8-J8 -> 0 | L8: =F8*I8 -> 0
A9: 2 | B9: HIGROTERMOMETR: elektroniczny, zasilany bateriami lub zasilaczem; zakres pomiaru temperatury: od 0 do 50 °C; zakres pomiaru wilgotności: od 20 do 95; duży i czytelny wyświetlacz; Możliwość postawienia i powieszenia na ścianie | C9: X | E9: szt. | F9: 5 | I9: =ROUND((G9*H9+G9),2) -> 0 | J9: =F9*G9 -> 0 | K9: =L9-J9 -> 0 | L9: =F9*I9 -> 0
A10: 3 | B10: CIŚNIENIENIOMIERZ ELEKTRONICZNY NARAMIENNY: dla dorosłych; cyfrowy duży wyświetlacz, zasilany bateriami + zasilacz; mankiet w rozmiarze: 25-36 cm (+/- 2 cm); granica błędu pomiarowego w mankiecie:+/- 3 mmHg; granica pomiaru błędu tętno: +/- 5% odczyt; wymiary ciśnieniomierza: 13 x 10 x 6cm (+/- 2 cm). | C10: X | E10: szt. | F10: 30 | I10: =ROUND((G10*H10+G10),2) -> 0 | J10: =F10*G10 -> 0 | K10: =L10-J10 -> 0 | L10: =F10*I10 -> 0
A11: 4 | B11: PULSOKSYMETR NAPALCOWY: zasilany bateriami lub na akumulator ; do pomiaru wysycenia krwi tlenem i tętna; wyposażony w czytelny ekran OLED, pobiera niski poziom energii, posiada automatyczny system włączania i wyłączania urządzenie spełnia standard IEC60601-1-2 komplet baterii w zestawie; posiada smycz do zawieszenia; wymiary urządzenia: 57 x 31 x 31 mm (+/- 5mm) | C11: X | E11: szt | F11: 30 | I11: =ROUND((G11*H11+G11),2) -> 0 | J11: =F11*G11 -> 0 | K11: =L11-J11 -> 0 | L11: =F11*I11 -> 0
A12: 5 | B12: Ciśnieniomierz zegarowy, klasyczny, dwuwężykowy, z mankietem zmywalnym ze stetoskopem Zakres pomiarowy: 0-300 mmHg Metalowa obudowa Czytelna tarcza o średnicy 50 mm +/- 2mm Wysokiej jakości mankiet dla dorosłych Skład zestawu : Ciśnieniomierz Stetoskop Mankiet Etui Instrukcja w języku polskim wyrób medyczny | C12: X | E12: szt | F12: 50 | I12: =ROUND((G12*H12+G12),2) -> 0 | J12: =F12*G12 -> 0 | K12: =L12-J12 -> 0 | L12: =F12*I12 -> 0
A13: 6 | B13: Ciśnieniomierz elektroniczny z dużym mankietem obwód ramienia 51-55 cm XL 32-52cm CIŚNIENIOMIERZ Z BARDZO DUŻYM MANKIETEM +ZASILACZ | C13: X | E13: szt | F13: 1 | I13: =ROUND(G13+G13*H13,2) -> 0 | J13: =F13*G13 -> 0 | K13: =L13-J13 -> 0 | L13: =F13*I13 -> 0
A14: 7 | B14: Mankiet do ciśnieniomierza dla ludzi otyłych na ramieniu lub na udzie, z jednym przewodem | C14: X | E14: szt | F14: 2 | I14: =ROUND(G14+G14*H14,2) -> 0 | J14: =F14*G14 -> 0 | K14: =L14-J14 -> 0 | L14: =F14*I14 -> 0
I15: SUMA | J15: =SUM(J8:J14) -> 0 | K15: =SUM(K8:K14) -> 0 | L15: =SUM(L8:L14) -> 0
A17: Oświadczamy, że w cenie oferty uwzględniliśmy wszystkie elementy cenotwórcze wynikające z zakresu i sposobu realizacji przedmiotu zamówienia.
A18: ………………………………………………………………………… (data i podpis Wykonawcy)

Sheet Zadanie 3 
A1: Nazwa i adres Wykonawcy…………………………….. | J1: Załącznik nr 2 do SWZ
A3: Nr sprawy: 7/SMED/DCZP/2026/P
A4: FORMULARZ CENOWY
A5: Zadanie nr 3
A6: 1 | B6: 2 | C6: 3 | D6: 4 | E6: 5 | F6: 6 | G6: 7 | H6: 8 | I6: 9 | J6: 10 | K6: 11 | L6: 12
A7: Lp | B7: Nazwa artykułu | C7: Zdjęcie poglądowe | D7: Nazwa, nr katalogowy i producent (podać nr strony ulotki i dokumentów rejestrowych w ofercie) | E7: Ilość | F7: Szacunkowa wielkość zamówienia na 12 mcy | G7: Cena jednost. netto | H7: % Vat | I7: Cena jednost. brutto | J7: Wartość netto | K7: Wartość Vat | L7: Wartość brutto
A8: 1 | B8: Pas uniwersalny na nadgarstki do unieruchomienia w roz. S, M, L, XL wytrzymały 100 % poliester odporny na uszkodzenia bezpieczne i efektywne unieruchomienie określonych części lub partii ciała pacjenta pasy zapinane przy pomocy kluczy magnetycznych elementy metalowe oczek regulacyjnych zabezpieczone przed korozją możliwość czyszczenia lub prania w temp. do 90°C, pasy można również zamocować do pasa na tułów ograniczając ruch pacjenta na granicy łóżka. wymagana instrukacja obsługi w jezyku polskim zdjęcie poglądowe | E8: para | F8: 50 | I8: =ROUND((G8*H8+G8),2) -> 0 | J8: =F8*G8 -> 0 | K8: =L8-J8 -> 0 | L8: =F8*I8 -> 0
A9: 2 | B9: Pas uniwersalny na kostki do unieruchomienia w roz. S, M, L, XL Zaprojektowane w taki sposób, aby zabezpieczyć pacjenta przed samookaleczeniem oraz spadnięciem z łóżka. Pasy posiadają możliwość regulacji swobody ruchu zależny od potrzeb klinicznych pacjenta. wytrzymały 100 % poliester odporny na uszkodzenia bezpieczne i efektywne unieruchomienie pacjenta określonych części lub partii ciała pasy zapinane przy pomocy kluczy magnetycznych elementy metalowe oczek regulacyjnych zabezpieczone przed korozją możliwość czyszczenia lub prania w temp. do 90°C wymagana instrukacja obsługi w jezyku polskim zdjęcie poglądowe | E9: para | F9: 50 | I9: =ROUND((G9*H9+G9),2) -> 0 | J9: =F9*G9 -> 0 | K9: =L9-J9 -> 0 | L9: =F9*I9 -> 0
I10: SUMA | J10: =SUM(J8:J9) -> 0 | K10: =SUM(K8:K9) -> 0 | L10: =SUM(L8:L9) -> 0
A12: Oświadczamy, że w cenie oferty uwzględniliśmy wszystkie elementy cenotwórcze wynikające z zakresu i sposobu realizacji przedmiotu zamówienia.
A13: ………………………………………………………………………… (data i podpis Wykonawcy)

Sheet Zadanie 4
A1: Nazwa i adres Wykonawcy…………………………….. | J1: Załącznik nr 2 do SWZ
A3: Nr sprawy: 7/SMED/DCZP/2026/P
A4: FORMULARZ CENOWY
A5: Zadanie nr 4
A6: 1 | B6: 2 | C6: 3 | D6: 4 | E6: 5 | F6: 6 | G6: 7 | H6: 8 | I6: 9 | J6: 10 | K6: 11 | L6: 12
A7: Lp | B7: Nazwa artykułu | C7: Zdjęcie poglądowe | D7: Nazwa, nr katalogowy i producent (podać nr strony ulotki i dokumentów rejestrowych w ofercie) | E7: Opakowanie/ilość | F7: Szacunkowa wielkość zamówienia na 12 mcy | G7: Cena jednost. netto | H7: % Vat | I7: Cena jednost. brutto | J7: Wartość netto | K7: Wartość Vat | L7: Wartość brutto
A8: 1 | B8: Dwuwarstwowa, jednorazowa myjka do mycia ciała w formie prostokątnej rękawicy nasączona obustronnie środkami myjącymi o nautralnym PH 5,5, wykonana w 100% z włókien poliestrowych. Obie warstwy myjki nie podfoliowane. Rozmiar min. 14cm x 20 cm, gramatura min. 60g/m2. Produkowana zgodnie z wymaganiami ISO 22716:2007 oraz ISO 9001:2015 (certyfikaty dołączone do oferty). Czystość mikrobiologiczna potwierdzona badaniami nie starszymi niż 2017 rok na brak zawartości Pseudomonas aeruginosa, Candida albicans, Staphylococcus aureus oraz Escherichia coli. Opakowanie jednostkowe a'12 sztuk z graficzną instrukcją stosowania oraz składem Produkt pozbawiony latexu. Termin ważności: 5 lat od daty produkcji, wyrób należy zużyć do 12 m-cy po otwarciu opakowania. Opakowanie foliowe. | C8: X | E8: op. = min. 12 szt. | F8: 210 | I8: =ROUND((G8*H8+G8),2) -> 0 | J8: =F8*G8 -> 0 | K8: =L8-J8 -> 0 | L8: =F8*I8 -> 0
A9: 2 | B9: Pianka oczyszczajaca, nie zawierająca mydła, do skóry dla pacjentów z nietrzymaniem moczu oraz kału. Umożliwiająca wykonanie toalety po wypróżnieniu bez użycia wody. Neutralizująca nieprzyjemne zapachy. Zawierająca substancje nawilżające i pielęgnujące. Minimalizująca podrażnienia, tworząca warstwę hydrolipidową chroniącą skórę przed wilgocią i zabrudzeniami. Zawierajaca w składzie m.in. triklosan oraz dimetikon. Odpowiednia formuła pianki wnikajaca wewnątrz zabrudzenia, odsuwa je od skóry ułatwiając jej oczyszczenie. Opakowanie aluminiowe o pojemności min. 350ml zakończone atomizerem umożliwia celowaną aplikację w miejsce zabrudzenia. Termin ważności: 24 m-ce od daty produkcji | C9: X | E9: szt | F9: 110 | I9: =ROUND((G9*H9+G9),2) -> 0 | J9: =F9*G9 -> 0 | K9: =L9-J9 -> 0 | L9: =F9*I9 -> 0
I10: SUMA | J10: =SUM(J8:J9) -> 0 | K10: =SUM(K8:K9) -> 0 | L10: =SUM(L8:L9) -> 0
A12: Oświadczamy, że w cenie oferty uwzględniliśmy wszystkie elementy cenotwórcze wynikające z zakresu i sposobu realizacji przedmiotu zamówienia.
A13: ………………………………………………………………………… (data i podpis Wykonawcy)

Sheet Zadanie 5
A1: Nazwa i adres Wykonawcy……………………………. | J1: Załącznik nr 2 do SWZ
A2: Nr sprawy 7/SMED/DCZP/2026/P
A3: FORMULARZ CENOWY
A4: Zadanie nr 5
A5: 1 | B5: 2 | C5: 3 | D5: 4 | E5: 5 | F5: 6 | G5: 7 | H5: 8 | I5: 9 | J5: 10 | K5: 11 | L5: 12
A6: Lp | B6: Nazwa artykułu | C6: Zdjęcie poglądowe | D6: Nazwa, nr katalogowy i producent (podać nr strony ulotki i dokumentów rejestrowych w ofercie) | E6: Opakowanie | F6: Szacunkowa wielkość zamówienia na 12 mcy | G6: Cena jednost. netto | H6: % Vat | I6: Cena jednost. brutto | J6: Wartość netto | K6: Wartość Vat | L6: Wartość brutto
A7: 1 | B7: rękawice lateksowe chirurgiczne, jałowe, bezpudrowe, z wewnętrzną warstwą poliuretanową, lekko teksturowana, rolowany mankiet, kształt anatomiczny, AQL - 1. rozmiar 7,5 Zarejestrowane jako wyrób medyczny klasy IIa oraz środek ochrony indywidualnej kat. III. Odporne na przenikanie wirusów zgodnie z ASTM F1671 oraz EN ISO 374-5. Zgodne z ASTM D3577, EN 455. | C7: X | E7: op.=50 par | F7: 1 | I7: =ROUND((G7+G7*H7),2) -> 0 | J7: =F7*G7 -> 0 | K7: =L7-J7 -> 0 | L7: =F7*I7 -> 0
A8: 2 | B8: rękawice foliowe, rozm. M,L | C8: X | E8: op = 100 szt. | F8: 100 | I8: =ROUND((G8+G8*H8),2) -> 0 | J8: =F8*G8 -> 0 | K8: =L8-J8 -> 0 | L8: =F8*I8 -> 0
A9: 3 | B9: rękawice lateksowe, bezpudrowe, anatomiczny kształt, pasujące na prawą i lewą dłoń, rozm. S, M,L; AQL - 1,5 Zgodne z normami EN ISO 374-1, EN 374-2, EN 16523-1, EN 374-4 oraz odporne na przenikanie bakterii, grzybów i wirusów zgodnie z EN ISO 374-5 i ASTMF 1671. Rękawice zarejestrowane jako wyrób medyczny klasy I i środek ochrony indywidualnej kat. III. | C9: X | E9: op = 100 szt. | F9: 80 | I9: =ROUND((G9+G9*H9),2) -> 0 | J9: =F9*G9 -> 0 | K9: =L9-J9 -> 0 | L9: =F9*I9 -> 0
A10: 4 | B10: Rękawice nitrylowe diagnostyczne, bezpudrowe, z zewnętrzną warstwą polimerową, lekko teksturowana, rolowany mankiet, kształt anatomiczny, pasujące na prawą i lewą dłoń, rozm. S, M, L, AQL - 1. Zgodne z normami EN ISO 374-1, EN 374-2, EN 16523-1, EN 374-4 oraz odporne na przenikanie bakterii, grzybów i wirusów zgodnie z EN ISO 374-5 oraz przebadane na min. 12 cytostatyków wg. ASTM D6978 potwierdzone badaniami z jednostki niezależnej. Rękawice zarejestrowane jako wyrób medyczny klasy I i środek ochrony indywidualnej kat. III. , pozbawione dodatków chemicznych: MBT, ZMBT,BHT,BHA,TMTD-potwierdzone badaniem metodą HPLC z jednostki niezależnej | C10: X | E10: op. = 100 szt. | F10: 4000 | I10: =ROUND((G10+G10*H10),2) -> 0 | J10: =F10*G10 -> 0 | K10: =L10-J10 -> 0 | L10: =F10*I10 -> 0
I11: SUMA | J11: =SUM(J7:J10) -> 0 | K11: =SUM(K7:K10) -> 0 | L11: =SUM(L7:L10) -> 0

Sheet Zadanie 6
A1: Nazwa i adres Wykonawcy……………………………. | J1: Załącznik nr 2 do SWZ
A2: Nr sprawy 7/SMED/DCZP/2026/P
A3: FORMULARZ CENOWY
A4: Zadanie nr 5
A5: 1 | B5: 2 | C5: 3 | D5: 4 | E5: 5 | F5: 6 | G5: 7 | H5: 8 | I5: 9 | J5: 10 | K5: 11 | L5: 12
A6: Lp | B6: Nazwa artykułu | C6: Zdjęcie poglądowe | D6: Nazwa, nr katalogowy i producent (podać nr strony ulotki i dokumentów rejestrowych w ofercie) | E6: Opakowanie | F6: Szacunkowa wielkość zamówienia na 24 miesiące | G6: Cena jednost. netto | H6: % Vat | I6: Cena jednost. brutto | J6: Wartość netto | K6: Wartość Vat | L6: Wartość brutto
A7: 1 | B7: Rurka ustno-gardłowa typu guedel utrzymująca drożność ustnej części gardła, charakterystyczne anatomiczne wygięcie rurki, rozmiary kodowane kolorami, jednorazowa, sterylna o rozmiarach : 3, 4 ,5 | C7: X | E7: szt | F7: 200 | I7: =ROUND(G7*H7+G7,2) -> 0 | J7: =F7*G7 -> 0 | K7: =L7-J7 -> 0 | L7: =I7*F7 -> 0
A8: 2 | B8: Sonda - zgłębnik żołądkowy wykonana z miękkiego PCV, odporny na załamania i skręcania, atraumatyczna, lekko zaokrąglona zamknięta końcówka, cztery otwory boczne o łagodnych krawedziach, kolorystyczny kod rozmiarowy, rozmiar CH 16, 18, 20, 22, 24; dł. 80 cm | C8: X | E8: szt | F8: 25 | I8: =ROUND(G8*H8+G8,2) -> 0 | J8: =F8*G8 -> 0 | K8: =L8-J8 -> 0 | L8: =I8*F8 -> 0
A9: 3 | B9: Zgłębnik z prowadnicą oraz łącznikiem - do żywienia dożołądkowego lub dojelitowego; wykonany z miękkiego poliuretanu, elementy zgłębnika nie zawierają DEHP i lateksu, przewód posiada centymetrową podziałkę, co ułatwia mierzenie głębokości wprowadzania zgłębnika oraz linie kontrastujące w promieniach RTG; produkt sterylny; prowadnica umożliwiająca wprowadzenie zgłębnika do przewodu pokarmowego; końcówka zgłebnika z dwoma bocznymi otworami oraz otworem kończącym przewód zgłębnika; oznaczony znakiem CE; sterylizowany tlenkiem etylenu; Port żywieniowy z łącznikiem umożliwiający połączenie z zestawem do żywienia lub/i strzykawką; Rozmiary: Ch8 - długość 110cm; Ch10 - długość 110 cm; Ch12 - długość 110 cm; kompatybilny z pozycją 5 | C9: X | E9: szt. | F9: 11 | I9: =ROUND(G9*H9+G9,2) -> 0 | J9: =F9*G9 -> 0 | K9: =L9-J9 -> 0 | L9: =I9*F9 -> 0
A10: 4 | B10: Zgłębnik z prowadnicą oraz łącznikiem - do żywienia dożołądkowego lub dojelitowego; wykonany z miękkiego poliuretanu, elementy zgłębnika nie zawierają DEHP i lateksu, przewód posiada centymetrową podziałkę, co ułatwia mierzenie głębokości wprowadzania zgłębnika oraz linie kontrastujące w promieniach RTG; produkt sterylny; prowadnica umożliwiająca wprowadzenie zgłębnika do przewodu pokarmowego; końcówka zgłebnika z dwoma bocznymi otworami oraz otworem kończącym przewód zgłębnika; oznaczony znakiem CE; sterylizowany tlenkiem etylenuPort żywieniowy z łącznikiem umożliwiający połączenie z zestawem do żywienia lub/i strzykawką; Rozmiar:Ch14 - długość 110cm; kompatybilny z pozycją 5 | C10: X | E10: szt | F10: 4 | I10: =ROUND(G10*H10+G10,2) -> 0 | J10: =F10*G10 -> 0 | K10: =L10-J10 -> 0 | L10: =I10*F10 -> 0
A11: 5 | B11: Strzykawka do obsługi żywienia drogą przewodu pokarmowego; pojemność: 60ml; wyrób medyczny; sterylna; pakowana pojedyńczo; kompatybilna z pozycją 3,4 | C11: X | E11: szt. | F11: 100 | I11: =ROUND(G11*H11+G11,2) -> 0 | J11: =F11*G11 -> 0 | K11: =L11-J11 -> 0 | L11: =I11*F11 -> 0
I12: SUMA | J12: =SUM(J7:J11) -> 0 | K12: =SUM(K7:K11) -> 0 | L12: =SUM(L7:L11) -> 0

Sheet Wartość
A1: Nr sprawy 7/SMED/DCZP/2026/P
A2: Zadanie | B2: wartość netto w PLN | C2: wartośc brutto w PLN
A3: 1 | B3: ='Zadanie 1'!J25 -> 0 | C3: ='Zadanie 1'!L25 -> 0
A4: 2 | B4: ='Zadanie 2 '!J15 -> 0 | C4: ='Zadanie 2 '!L15 -> 0
A5: 3 | B5: ='Zadanie 3 '!J10 -> 0 | C5: ='Zadanie 3 '!L10 -> 0
A6: 4 | B6: ='Zadanie 4'!J10 -> 0 | C6: ='Zadanie 4'!L10 -> 0
A7: 5 | B7: ='Zadanie 5'!J11 -> 0 | C7: ='Zadanie 5'!L11 -> 0
A8: 6 | B8: ='Zadanie 6'!J12 -> 0 | C8: ='Zadanie 6'!L12 -> 0
A9: RAZEM | B9: =SUM(B3:B8) -> 0 | C9: =SUM(C3:C8) -> 0
