Workbook

Sheet Zadanie nr 1
A1: Nazwa i adres Wykonawcy…………………………….. | J1: Załącznik nr 2 do SWZ
A3: Nr sprawy: 27/WYP/DCZP/2025/P
A4: Formularz cenowy
A5: Zadanie nr 1
A6: 1 | B6: 2 | C6: 3 | D6: 4 | E6: 5 | F6: 6 | G6: 7 | H6: 8 | I6: 9 | J6: 10 | K6: 11 | L6: 12
A7: Lp | B7: Nazwa artykułu | C7: j.m | D7: Ilość | E7: Rysunek poglądowy | F7: Producent; model/numer katalogowy producenta | G7: Cena jednost. netto | H7: % Vat | I7: Cena jednost. brutto | J7: Wartość netto | K7: Wartość Vat | L7: Wartość brutto
A8: 1 | B8: Metalowa szafa kartotekowa: - szafa na dokumenty z 5 szufladami - wymiary zewnętrzne: 128,5x63x60cm (WxSxG) +/- 2 cm - każda szuflada przystosowana do przechowywania kopert, format B5 poziomo x 2 rzędy obok siebie - maksymalny wymiar przechowywanego dokumentu: 215 x 258 mm (WxS) - szuflady wysuwane w 100%, z blokadą wysuwu więcej niż 1 szuflady - nośność szuflady 50kg - zamek centralny, 2 kluczyki w komplecie wykonana z metalalu, min 3 kolory do wybory w tym szary, czarny, biały, malowana farbami proszkowymi poliestrowo-epoksydowymi, posiadającymi atest higieniczny wydany przez PZH. rysunek poglądowy | C8: szt. | D8: 1 | I8: =ROUND(G8+G8*H8,2) -> 0 | J8: =D8*G8 -> 0 | K8: =L8-J8 -> 0 | L8: =D8*I8 -> 0
A9: 2 | B9: Komoda z 1 szufladą i dwoma półkami, o wymiarach: Szerokość: 86 cm (+/- 2 cm); Wysokość: 85 cm (+/- 2 cm); Głębokość: 41 cm (+/- 2 cm); wykonana z płyty meblowej obustronnie laminowanej, odpornej na ścieranie, działanie światła; grubość płyty meblowej: korpus, cokół, fronty - 18 mm; wieniec górny i dolny, półka - 25 mm; zamykana na klucz (min. 2 kluczyki); wszystkie krawędzie zabezpieczone trwałym obrzeżem w kolorze płyty; uchwyty w kolorze srebrnym do wyboru przed złożeniem zamówienia min. 4 do wyboru; tylna ściana wykonana z płyty HDF; kolor okleiny: dąb sonoma rysunek poglądowy | C9: szt. | D9: 1 | I9: =ROUND(G9+G9*H9,2) -> 0 | J9: =D9*G9 -> 0 | K9: =L9-J9 -> 0 | L9: =D9*I9 -> 0
A10: 3 | B10: Kontener biurowy 3 szufladowy na kółkach o wymiarach: szer. 43 cm x gł. 50 cm x h 62 cm (+ - 2 cm); wykonany z płyty wiórowej trzywarstwowej pokrytej obustronnie melaminą : boki z boczną listwą dystansową o szerokości 18 mm z tworzywa PCV; wieniec dolny wyposażony w 4 kółka jezdne w tym dwa z hamulcem; ścianka tylna wpuszczana między korpusy zewnętrzne zlicowane z ich krawędziami i mocowane na kołki drewniane; 3 szuflady zamykane zamkiem centralnym z kluczykiem (min. 2 szt.); uchwyty w kolorze srebrnym do wyboru przed złożeniem zamówienia min. 4 do wyboru; szuflady wysuwane na prowadnicach rolkowych; wszystkie obrzeża oklejone taśmą PCV o grubości 2 mm i szerokości odpowiadającej grubości zastosowanej płyty (wieńce górne oklejone PCV gr. 2 mm, pozostałe elementy oklejone PCV gr. 0,8mm; kółka plastikowe; Kolor okleiny płyty meblowej do wyboru: dąb sonoma - D3025, rockford jasny K085, Orzech toskania D2453BS Swiss Krono, orzech select ciemny K009 lub równoważne ; rysunek poglądowy | C10: szt. | D10: 1 | I10: =ROUND(G10+G10*H10,2) -> 0 | J10: =D10*G10 -> 0 | K10: =L10-J10 -> 0 | L10: =D10*I10 -> 0
A11: 4 | B11: Szafka zamykana z półkami: o wymiarach wys. 114 cm, szer. 80cm, gł. 40 cm (+/- 2cm) ; wykonana z płyty meblowej obustronnie laminowanej, odpornej na ścieranie, działanie światła; grubość płyty meblowej: korpus, cokół, fronty - 18 mm; wieniec górny i dolny, półka - 25 mm; zamykana na klucz (min. 2 kluczyki); wszystkie krawędzie zabezpieczone trwałym obrzeżem w kolorze płyty; uchwyty w kolorze srebrnym do wyboru przed złożeniem zamówienia min. 4 do wyboru; tylna ściana wykonana z płyty HDF; Kolor okleiny dąb sonoma lub równoważna, ciemnyh orzech lub równoważna; rysunek poglądowy | C11: szt. | D11: 1 | I11: =ROUND(G11+G11*H11,2) -> 0 | J11: =D11*G11 -> 0 | K11: =L11-J11 -> 0 | L11: =D11*I11 -> 0
A12: 5 | B12: Sofa rozkładana z pojemnikiem na pościel o wymiarach: wysokość 88 cm (+/- 2 cm), głębokość 90 cm (+/- 2 cm), szerokość 188 cm (+/- 2 cm); powierzchnia spania 118cm (+/- 2 cm) × 188 cm (+/- 2 cm), siedzisko i oparcie sofy wypełnione są miękką pianką tapicerską oraz sprężynami typu bonell, wbudowany pojemnik na pościel, niskie, okrągłe nóżki wykonane z trwałego tworzywa sztucznego w kolorze czarnym, tkanina odporna na zabrudzenia; min. 3 kolory do wyboru w tym szary, grafitowy. Typu sofa rozkładana Aruba lub równoważna, rysunek poglądowy | C12: szt. | D12: 1 | I12: =ROUND(G12+G12*H12,2) -> 0 | J12: =D12*G12 -> 0 | K12: =L12-J12 -> 0 | L12: =D12*I12 -> 0
I13: RAZEM | J13: =SUM(J8:J12) -> 0 | K13: =SUM(K8:K12) -> 0 | L13: =SUM(L8:L12) -> 0
A15: Oświadczamy, że w cenie oferty uwzględniliśmy wszystkie elementy cenotwórcze wynikajace z zakresu i sposobu realizacji przedmiotu zamówienia.
A17: ………………………………………….
A18: (data i podpis Wykonawcy)

Sheet Zadanie nr 2
A1: Nazwa i adres Wykonawcy…………………………….. | K1: Załącznik nr 2 do SWZ
A3: Nr sprawy 27/WYP/DCZP/2025/P
A5: Formularz cenowy
A6: Zadanie nr 2
A7: 1 | B7: 2 | C7: 3 | D7: 4 | E7: 5 | F7: 6 | G7: 7 | H7: 8 | I7: 9 | J7: 10 | K7: 11 | L7: 12
A8: Lp | B8: Nazwa artykułu | C8: j.m | D8: Ilość | E8: Rysunek poglądowy | F8: Producent; model/numer katalogowy producenta | G8: Cena jednost. netto | H8: % Vat | I8: Cena jednost. brutto | J8: Wartość netto | K8: Wartość Vat | L8: Wartość brutto
A9: 1 | B9: Krzesło - jednoczęściowe formowane ze wzmocnionego polipropylenu, bez części odkręcanych i demontowanych. Krawędzie zaokrąglone. Zaprojektowane do ciągłego intensywnego użytkowania; Wysokość siedziska: 460 mm Szerokość siedziska: 365 mm; Głębokość siedziska: 378 mm; Wysokość całkowita: 800 mm Głębokość całkowita: 515 mm Szerokość całkowita: 500 mm Udźwig: min. 150 kg Waga: 3,6 kg W 100% nadaje się do recyklingu; Siedzisko ergonomiczne z opadającą krawędzią. Elastyczne oparcie z otworem wentylacyjnym w dolnej jego części Odporne na uszkodzenia mechaniczne. Odporne na uderzenia. Stabilna konstrukcja uniemożliwia “bujanie się” ; Odporne na plamy, łatwe do czyszczenia. Moliwość użytkowania wewnątrz jak i na zwenątrz. Możliwość sztaplowania do 21 sztuk. Możliwośc łączenia w rzedy przy pomocy łacznika - łącznik pasujący do krzeseł - wymagane 6 łączników Łacznik łatwy do mycia i dezynfekcji,montaż i demontaż za pomocą systemu bez ingerencji w strukturę krzesła (brak potrzeby przewiercenia) Wymiary łącznika: 10cmx10cmx8,5cm +/- 1cm Łącznik w min. 4 kolorach do wyboru przez Zamawiającego Krzeła: możliwość wyboru spośród min. 10 kolorów (uzgodnione z Zamawiającym przed dostawą); Spełnia normę EN 1729 część 1 i 2, BSEN 16139: 2013 poziom 2, zdjęcia poglądowe | C9: szt | D9: 40 | I9: =ROUND(G9+G9*H9,2) -> 0 | J9: =D9*G9 -> 0 | K9: =L9-J9 -> 0 | L9: =D9*I9 -> 0
I10: RAZEM | J10: =SUM(J9:J9) -> 0 | K10: =SUM(K9:K9) -> 0 | L10: =SUM(L9:L9) -> 0
A12: Oświadczamy, że w cenie oferty uwzględniliśmy wszystkie elementy cenotwórcze wynikajace z zakresu i sposobu realizacji przedmiotu zamówienia.
A14: ………………………………………….
A15: (data i podpis Wykonawcy)

Sheet Zadanie nr 3
A1: Nazwa i adres Wykonawcy…………………………….. | K1: Załącznik nr 2 do SWZ
A3: Nr sprawy: 27/WYP/DCZP/2025/P
A5: Formularz cenowy
A6: Zadanie nr 3
A7: 1 | B7: 2 | C7: 3 | D7: 4 | E7: 5 | F7: 6 | G7: 7 | H7: 8 | I7: 9 | J7: 10 | K7: 11 | L7: 12
A8: Lp | B8: Nazwa artykułu | C8: j.m | D8: Ilość | E8: Rysunek poglądowy | F8: Producent; model/numer katalogowy producenta | G8: Cena jednost. netto | H8: % Vat | I8: Cena jednost. brutto | J8: Wartość netto | K8: Wartość Vat | L8: Wartość brutto
A9: 1 | B9: Klimatyzator przenośny: Wydajność/moc chłodnicza: min. 2,6 kW Liczba poziomów mocy: min. 3 Funkcje: Regulacja poziomów mocy, Regulacja prędkości nawiewu, Sterowanie za pomocą pilota Funkcje dodatkowe: automatyczne wachlowanie w pionie, automatyczne wyłączanie, timer, tryb auto, tryb nocny, wyświetlacz LED; Wyposażenie: Pilot+baterie, rura do odprowadzania powietrza, wąż spustowy W komplecie: rękaw/mankiet/uszczelka do okna | C9: szt. | D9: 2 | E9: X | I9: =ROUND(G9+G9*H9,2) -> 0 | J9: =D9*G9 -> 0 | K9: =L9-J9 -> 0 | L9: =D9*I9 -> 0
A10: 2 | B10: Wentylator stojący podłogowy, 3 stopnie ustawienia prędkości, oscylacja w poziomie 90°, moc chłodzenia min. 45 W, regulacja wysokości, średnica skrzydła 30cm-40cm | C10: szt. | D10: 8 | E10: X | I10: =ROUND(G10+G10*H10,2) -> 0 | J10: =D10*G10 -> 0 | K10: =L10-J10 -> 0 | L10: =D10*I10 -> 0
I11: RAZEM | J11: =SUM(J9:J10) -> 0 | K11: =SUM(K9:K10) -> 0 | L11: =SUM(L9:L10) -> 0
A13: Oświadczamy, że w cenie oferty uwzględniliśmy wszystkie elementy cenotwórcze wynikajace z zakresu i sposobu realizacji przedmiotu zamówienia.
A15: ………………………………………….
A16: (data i podpis Wykonawcy)

Sheet Zadanie 4
A1: Nazwa i adres Wykonawcy…………………………….. | K1: Załącznik nr 2 do SWZ
A3: Nr sprawy: 27/WYP/DCZP/2025/P
A5: Formularz cenowy
A6: Zadanie nr 4
A7: 1 | B7: 2 | C7: 3 | D7: 4 | E7: 5 | F7: 6 | G7: 7 | H7: 8 | I7: 9 | J7: 10 | K7: 11 | L7: 12
A8: Lp | B8: Nazwa artykułu | C8: j.m | D8: Ilość | E8: Rysunek poglądowy | F8: Producent; model/numer katalogowy producenta | G8: Cena jednost. netto | H8: % Vat | I8: Cena jednost. brutto | J8: Wartość netto | K8: Wartość Vat | L8: Wartość brutto
A9: 1 | B9: Materac szpitalny medyczny wraz z pokrowcem, materac piankowy typu gofer, wymiary 90cmx200 cm, wysokość: 12 cm; materac i pokrowiec - wyrób medyczny; Wkład materaca: wysokoelastyczna pianka poliuretanowa; gęstość pianki: min. 35kg/m3; odporność na deformacje przy długotrwałym użytkowaniu; Maksymalne obciążenie: 130 kg; Pokrowiec: zdejmowany, na zamek z co najmniej dwóch stron (w kształcie litery L), z okapnikiem, paroprzepuszczalny, odporny na działanie środków dezynfekcyjnych, wodoodporny, możliwość prania w temp. min 90°C; Materiał pokrowca: trudnopalny, posiadający certyfikat na test „tlącego papierosa i płomień zapałki"; gramatura min. 150g/m2. | C9: szt. | D9: 10 | E9: x | I9: =ROUND(G9+G9*H9,2) -> 0 | J9: =D9*G9 -> 0 | K9: =L9-J9 -> 0 | L9: =D9*I9 -> 0
I10: RAZEM | J10: =SUM(J9:J9) -> 0 | K10: =SUM(K9:K9) -> 0 | L10: =SUM(L9:L9) -> 0
A12: Oświadczamy, że w cenie oferty uwzględniliśmy wszystkie elementy cenotwórcze wynikajace z zakresu i sposobu realizacji przedmiotu zamówienia.
A14: ………………………………………….
A15: (data i podpis Wykonawcy)

Sheet Zadanie 5
A1: Nazwa i adres Wykonawcy…………………………….. | J1: Załącznik nr 2 do SWZ
A3: Nr sprawy: 27/WYP/DCZP/2025/P
A4: Formularz cenowy
A5: Zadanie nr 5
A6: 1 | B6: 2 | C6: 3 | D6: 4 | E6: 5 | F6: 6 | G6: 7 | H6: 8 | I6: 9 | J6: 10 | K6: 11 | L6: 12
A7: Lp | B7: Nazwa artykułu | C7: j.m | D7: Ilość | E7: Rysunek poglądowy | F7: Producent; model/numer katalogowy producenta | G7: Cena jednost. netto | H7: % Vat | I7: Cena jednost. brutto | J7: Wartość netto | K7: Wartość Vat | L7: Wartość brutto
A8: 1 | B8: Ekspres do kawy typu: Ekspres do kawy MIELE CM 5710 Silence 11872260 lub równoważny: ciśnieniowy, automatyczny, Przeznaczenie : Do domu Do biura Menu w języku polskim: Tak Konserwacja ekspresu: Automatyczne czyszczenie Przypomnienie o zmianie wkładu odkamieniającego Ręczne odkamienianie Przypomnienie o konieczności konserwacji Rodzaj żaren: Stożkowe Stalowe, Ciśnienie / Moc : 15 barów / 1500 W Możliwość stosowania kawy mielonej: Tak Wyjmowany moduł zaparzający, Wyjmowany zbiornik na wodę, Wbudowany młynek, Monitorowana ilość kawy w zbiorniku: Tak Technologie i funkcje : Funkcja OneTouch for Two Programowalne profile użytkowników MultiLingua ComfortClean Blokada uruchamiania Wyjmowany przewód mlekowy Aromatic System Funkcja dzbanka Wyświetlacz: Graficzny, Funkcja One Touch: Tak Liczba napojów w menu: 20, Podwójna wylewka kawy, Możliwość regulacji: Stopnia zmielenia kawy Mielonej ilości Ilości wody Ilosci pianki mlecznej Ilości mleka Mocy kawy Temperatury kawy Pojemność zbiornika na wodę: 1300 ml, Pojemność zbiornika na kawę: 200 g System grzewczy : Termoblok, Kolor: Czarny Brązowy Akcesoria dołączone do zestawu: Tabletki czyszczące Tabletki odkamieniające Wydajność Ekspresu: Do 20 kaw dziennie Kawy mleczne: Tak, Kawy czarne: Tak Wymagana gwarancja min 24 miesiące Dodatkowo filtry do wody zapobiegający osadzaniu się kamienia: 30 szt. | C8: szt. | D8: 1 | E8: X | I8: =ROUND(G8+G8*H8,2) -> 0 | J8: =D8*G8 -> 0 | K8: =L8-J8 -> 0 | L8: =D8*I8 -> 0
I9: RAZEM | J9: =SUM(J8:J8) -> 0 | K9: =SUM(K8:K8) -> 0 | L9: =SUM(L8:L8) -> 0
A11: Oświadczamy, że w cenie oferty uwzględniliśmy wszystkie elementy cenotwórcze wynikajace z zakresu i sposobu realizacji przedmiotu zamówienia.
A13: ………………………………………….
A14: (data i podpis Wykonawcy)

Sheet Zadanie 6
A1: Nazwa i adres Wykonawcy…………………………….. | K1: Załącznik nr 2 do SWZ
A3: Nr sprawy: 27/WYP/DCZP/2025/P
A5: Formularz cenowy
A6: Zadanie nr 6
A7: 1 | B7: 2 | C7: 3 | D7: 4 | E7: 5 | F7: 6 | G7: 7 | H7: 8 | I7: 9 | J7: 10 | K7: 11 | L7: 12
A8: Lp | B8: Nazwa artykułu | C8: j.m | D8: Ilość | E8: Rysunek poglądowy | F8: Producent; model/numer katalogowy producenta | G8: Cena jednost. netto | H8: % Vat | I8: Cena jednost. brutto | J8: Wartość netto | K8: Wartość Vat | L8: Wartość brutto
A9: 1 | B9: Zestaw mebli ogrodowych : stół + 6 krzeseł Wykonany z tworzywa sztucznego, odpornego na wilgoć, promieniowanie UV oraz zmiany temperatur. Stół owalny, wymiary stołu: szerokość 135 cm, głębokość 80 cm, wysokość 70 cm (+/- 2 cm) .Stół składany - łatwy demontaż nóg. Otwór na parasol: średnica 3,5 cm, kompatybilny z parasolami do 240 cm Krzesła o wymiarach: Wymiary całkowite: 54 x 53 x 79 cm Wymiary siedziska: 27/43,5 x 38 cm Wysokość oparcia: 40 cm Materiał wykonania: wysokiej jakości trwałe tworzywo sztuczne odporne na wilgoć, promieniowanie UV oraz zmiany temperatur. Maksymalna dopuszczalna waga użytkownika: do 110 kg Kolor zestawu mebli: grafitowy/ciemnoszary | C9: szt. | D9: 2 | I9: =ROUND(G9+G9*H9,2) -> 0 | J9: =D9*G9 -> 0 | K9: =L9-J9 -> 0 | L9: =D9*I9 -> 0
A10: 2 | B10: Fotel ogrodowy z niskim oparciem i ergonomicznym kształtem Wymiary całkowite: 54 x 53 x 79 cm Wymiary siedziska: 27/43,5 x 38 cm Wysokość oparcia: 40 cm Materiał wykonania: wysokiej jakości trwałe tworzywo sztuczne odporne na wilgoć, promieniowanie UV oraz zmiany temperatur. Maksymalna dopuszczalna waga użytkownika: do 110 kg Kolor: grafitowy/ciemnoszary | C10: szt. | D10: 8 | I10: =ROUND(G10+G10*H10,2) -> 0 | J10: =D10*G10 -> 0 | K10: =L10-J10 -> 0 | L10: =D10*I10 -> 0
A11: 3 | B11: Parasol ogrodowy 240 cm Czasza parasola została wykonana z poliestru o gramaturze 160 g/m², kolor grafitowy Solidna konstrukcja: stelaż parasola wykonany z wytrzymałego metalu, odporna na podmuchy wiatru. Wysokość parasola wynosi 235 cm Średnica czaszy: 240 cm Kolor dominujący: szary/grafit Materiał wykonania: poliester 160 g/m² Rozmiar czaszy: 240 cm Wysokość produktu: 235 cm Konstrukcja stelaża: metal Waga: 15 kg Dodatkowo: Podstawa parasola - grafitowa (z możliwością dociążenia piaskiem lub betonem) | C11: szt. | D11: 2 | I11: =ROUND(G11+G11*H11,2) -> 0 | J11: =D11*G11 -> 0 | K11: =L11-J11 -> 0 | L11: =D11*I11 -> 0
A12: 4 | B12: Grill weglowy: Kształt rusztu głównego: Prostokątny Powierzchnia rusztu [cm]: 48 x 29, 48 x 8 (+/- 2 cm) Liczba rusztów: 2 Materiał wykonania grilla: Stal emaliowana Materiał wykonania rusztu: Stal chromowana Wyposażenie: 2 x ruszt Kółka: Tak Półki boczne: Tak Szerokość [cm]: 86 (+/- 2 cm) Wysokość [cm]: 82 Funkcje: Kółka, Półki boczne Waga z opakowaniem [kg]: max 7 kg Kolor: Czarno-zielony Gwarancja: 24 miesiące | C12: szt. | D12: 1 | I12: =ROUND(G12+G12*H12,2) -> 0 | J12: =D12*G12 -> 0 | K12: =L12-J12 -> 0 | L12: =D12*I12 -> 0
I13: RAZEM | J13: =SUM(J9:J12) -> 0 | K13: =SUM(K9:K12) -> 0 | L13: =SUM(L9:L12) -> 0
A15: Oświadczamy, że w cenie oferty uwzględniliśmy wszystkie elementy cenotwórcze wynikajace z zakresu i sposobu realizacji przedmiotu zamówienia.
A17: ………………………………………….
A18: (data i podpis Wykonawcy)

Sheet koszty
A1: nr zadania | B1: wartość netto | C1: wartość brutto
A2: 1 | B2: ='Zadanie nr 1'!J13 -> 0 | C2: ='Zadanie nr 1'!L13 -> 0
A3: 2 | B3: ='Zadanie nr 2'!J10 -> 0 | C3: ='Zadanie nr 2'!L10 -> 0
A4: 3 | B4: ='Zadanie nr 3'!J11 -> 0 | C4: ='Zadanie nr 3'!L11 -> 0
A5: 4 | B5: ='Zadanie 4'!J10 -> 0 | C5: ='Zadanie 4'!L10 -> 0
A6: 5 | B6: ='Zadanie 5'!J9 -> 0 | C6: ='Zadanie 5'!L9 -> 0
A7: 6 | B7: ='Zadanie 6'!J13 -> 0 | C7: ='Zadanie 6'!L13 -> 0
A8: RAZEM | B8: =SUM(B2:B7) -> 0 | C8: =SUM(C2:C7) -> 0
