Workbook

Sheet Zadanie 1
A1: Nazwa i adres Wykonawcy……………………………. | I1: Załącznik nr 2 do SWZ
A2: Nr sprawy: 29/SMED/DCZP/2025/P
A3: FORMULARZ CENOWY
A4: Zadanie nr 1
A5: 1 | B5: 2 | C5: 3 | D5: 4 | E5: 5 | F5: 6 | G5: 7 | H5: 8 | I5: 9 | J5: 10 | K5: 11
A6: Lp | B6: Nazwa artykułu | C6: Nazwa, nr katalogowy i producent (podać nr strony ulotki i dokumentów rejestrowych w ofercie) | D6: Opakowanie | E6: Szacunkowa wielkość zamówienia na 24 miesiące | F6: Cena jednost. netto | G6: % Vat | H6: Cena jednost. brutto | I6: Wartość netto | J6: Wartość Vat | K6: Wartość brutto
A7: 1 | B7: Ustniki do alkomatu AlcoSensor IV; pakowane po min. 250 szt. | D7: 1op -250 szt | E7: 55 | H7: =ROUND(F7+F7*G7,2) -> 0 | I7: =E7*F7 -> 0 | J7: =K7-I7 -> 0 | K7: =H7*E7 -> 0
A8: 2 | B8: Ustniki do alkomatu ALKOHIT X100; pakowane po 100szt | D8: op - 100 szt | E8: 3 | H8: =ROUND(F8+F8*G8,2) -> 0 | I8: =E8*F8 -> 0 | J8: =K8-I8 -> 0 | K8: =H8*E8 -> 0
H9: SUMA | I9: =SUM(I7:I8) -> 0 | J9: =SUM(J7:J8) -> 0 | K9: =SUM(K7:K8) -> 0
A11: Oświadczamy, że w cenie oferty uwzględniliśmy wszystkie elementy cenotwórcze wynikające z zakresu i sposobu realizacji przedmiotu zamówienia.

Sheet Zadanie 2
A1: Nazwa i adres Wykonawcy……………………………. | I1: Załącznik nr 2 do SWZ
A2: Nr sprawy: 29/SMED/DCZP/2025/P
A3: FORMULARZ CENOWY
A4: Zadanie nr 2
A5: 1 | B5: 2 | C5: 3 | D5: 4 | E5: 5 | F5: 6 | G5: 7 | H5: 8 | I5: 9 | J5: 10 | K5: 11
A6: Lp | B6: Nazwa artykułu | C6: Nazwa, nr katalogowy i producent (podać nr strony ulotki i dokumentów rejestrowych w ofercie) | D6: Opakowanie | E6: Szacunkowa wielkość zamówienia na 24 miesiące | F6: Cena jednost. netto | G6: % Vat | H6: Cena jednost. brutto | I6: Wartość netto | J6: Wartość Vat | K6: Wartość brutto
A7: 1 | B7: Rurka ustno-gardłowa typu guedel utrzymująca drożność ustnej części gardła, charakterystyczne anatomiczne wygięcie rurki, rozmiary kodowane kolorami, jednorazowa, sterylna o rozmiarach : 3, 4 ,5 | D7: szt | E7: 100 | H7: =ROUND(F7*G7+F7,2) -> 0 | I7: =E7*F7 -> 0 | J7: =K7-I7 -> 0 | K7: =H7*E7 -> 0
A8: 2 | B8: Sonda - zgłębnik żołądkowy wykonana z miękkiego PCV, odporny na załamania i skręcania, atraumatyczna, lekko zaokrąglona zamknięta końcówka, cztery otwory boczne o łagodnych krawedziach, kolorystyczny kod rozmiarowy, rozmiar CH 16, 18, 20, 22, 24; dł. 80 cm | D8: szt | E8: 25 | H8: =ROUND(F8*G8+F8,2) -> 0 | I8: =E8*F8 -> 0 | J8: =K8-I8 -> 0 | K8: =H8*E8 -> 0
A9: 3 | B9: Zgłębnik z prowadnicą oraz łącznikiem - do żywienia dożołądkowego lub dojelitowego; wykonany z miękkiego poliuretanu, elementy zgłębnika nie zawierają DEHP i lateksu, przewód posiada centymetrową podziałkę, co ułatwia mierzenie głębokości wprowadzania zgłębnika oraz linie kontrastujące w promieniach RTG; produkt sterylny; prowadnica umożliwiająca wprowadzenie zgłębnika do przewodu pokarmowego; końcówka zgłebnika z dwoma bocznymi otworami oraz otworem kończącym przewód zgłębnika; oznaczony znakiem CE; sterylizowany tlenkiem etylenu; Port żywieniowy z łącznikiem umożliwiający połączenie z zestawem do żywienia lub/i strzykawką; Rozmiary: Ch8 - długość 110cm; Ch10 - długość 110 cm; Ch12 - długość 110 cm; kompatybilny z pozycją 5 | D9: szt. | E9: 11 | H9: =ROUND(F9*G9+F9,2) -> 0 | I9: =E9*F9 -> 0 | J9: =K9-I9 -> 0 | K9: =H9*E9 -> 0
A10: 4 | B10: Zgłębnik z prowadnicą oraz łącznikiem - do żywienia dożołądkowego lub dojelitowego; wykonany z miękkiego poliuretanu, elementy zgłębnika nie zawierają DEHP i lateksu, przewód posiada centymetrową podziałkę, co ułatwia mierzenie głębokości wprowadzania zgłębnika oraz linie kontrastujące w promieniach RTG; produkt sterylny; prowadnica umożliwiająca wprowadzenie zgłębnika do przewodu pokarmowego; końcówka zgłebnika z dwoma bocznymi otworami oraz otworem kończącym przewód zgłębnika; oznaczony znakiem CE; sterylizowany tlenkiem etylenuPort żywieniowy z łącznikiem umożliwiający połączenie z zestawem do żywienia lub/i strzykawką; Rozmiar:Ch14 - długość 110cm; kompatybilny z pozycją 5 | D10: szt | E10: 4 | H10: =ROUND(F10*G10+F10,2) -> 0 | I10: =E10*F10 -> 0 | J10: =K10-I10 -> 0 | K10: =H10*E10 -> 0
A11: 5 | B11: Strzykawka do obsługi żywienia drogą przewodu pokarmowego; pojemność: 60ml; wyrób medyczny; sterylna; pakowana pojedyńczo; kompatybilna z pozycją 3,4 | D11: szt. | E11: 100 | H11: =ROUND(F11*G11+F11,2) -> 0 | I11: =E11*F11 -> 0 | J11: =K11-I11 -> 0 | K11: =H11*E11 -> 0
H12: SUMA | I12: =SUM(I7:I11) -> 0 | J12: =SUM(J7:J11) -> 0 | K12: =SUM(K7:K11) -> 0
A14: Oświadczamy, że w cenie oferty uwzględniliśmy wszystkie elementy cenotwórcze wynikające z zakresu i sposobu realizacji przedmiotu zamówienia.
A15: ………………………………………………………………………… (data i podpis Wykonawcy)

Sheet Zadanie 3
A1: Nazwa i adres Wykonawcy……………………………. | I1: Załącznik nr 2 do SWZ
A2: Nr sprawy: 29/SMED/DCZP/2025/P
A3: FORMULARZ CENOWY
A4: Zadanie nr 3
A5: 1 | B5: 2 | C5: 3 | D5: 4 | E5: 5 | F5: 6 | G5: 7 | H5: 8 | I5: 9 | J5: 10 | K5: 11
A6: Lp | B6: Nazwa artykułu | C6: Nazwa, nr katalogowy i producent (podać nr strony ulotki i dokumentów rejestrowych w ofercie) | D6: Opakowanie | E6: Szacunkowa wielkość zamówienia na 24 miesiące | F6: Cena jednost. netto | G6: % Vat | H6: Cena jednost. brutto | I6: Wartość netto | J6: Wartość Vat | K6: Wartość brutto
A7: 1 | B7: Resuscytator silikonowy Ambu wielorazowego użytku dla dorosłych, z zaworem zwrotnym (jednostronnym). Maksymalna objętość wtłaczania: jednoręcznie: 800 ml; oburęcznie: 1100ml, Łącznik pacjenta: 15/22 mm, Łącznik wydechowy: 30 mm Obszar nieaktywny: <6 ml; Maksymalne ciśnienie wtłaczania: 4.0 kPa , Objętość worka: 2600 ml; kompatybilny z pozycją 3, 4, 5 i 6 | D7: szt. | E7: 15 | H7: =ROUND(F7+F7*G7,2) -> 0 | I7: =E7*F7 -> 0 | J7: =K7-I7 -> 0 | K7: =E7*H7 -> 0
A8: 2 | B8: Resuscytator Ambu jednorazowego użytku dla dorosłych, przeznaczony do prowadzenia wentylacji pacjenta. Resuscytator PCV posiada zawór bezpieczeństwa, który ogranicza ciśnienie do 60 mbar dla dorosłych. Jednorazowy resuscytator nie zawiera lateksu, dzięki czemu jest idealny dla pacjentów z alergią. Produkt jednorazowego użytku. Zestaw zawiera: resuscytator PVC o objętości 1650 ml, worek samorozprężalny z zastawką bezpieczeństwa maska silikonowa nr 5 rezerwuar tlenu 2000 ml zawór ciśnieniowy 60 cm H2O przewód tlenowy 2,1 m | D8: szt. | E8: 25 | H8: =ROUND(F8+F8*G8,2) -> 0 | I8: =E8*F8 -> 0 | J8: =K8-I8 -> 0 | K8: =E8*H8 -> 0
A9: 3 | B9: Maski anestetyczne dla dorosłych; rozmiary: 3; Wyrób przeznaczony do przesyłania mieszaniny gazów w połączeniu z urządzeniami do sztucznej wentylacji; Właściwości produktu: ukształtowane zgodnie z budową anatomiczną twarzy, pompowany mankiet, zapewniający doskonałą szczelność maski przy minimalnym nacisku, przeźroczyste sklepienie, kolorystyczne pierścienie mocujące - ozaczające poszczególne rozmiary masek; pozbawione lateksów oraz ftalanów; jednorazowe, sterylne, pakowane pojedyńczo; Kompatybilne z pozycją 1 i 6 | D9: szt. | E9: 100 | H9: =ROUND(F9+F9*G9,2) -> 0 | I9: =E9*F9 -> 0 | J9: =K9-I9 -> 0 | K9: =E9*H9 -> 0
A10: 4 | B10: Maski anestetyczne dla dorosłych; rozmiary: 4,; Wyrób przeznaczony do przesyłania mieszaniny gazów w połączeniu z urządzeniami do sztucznej wentylacji; Właściwości produktu: ukształtowane zgodnie z budową anatomiczną twarzy, pompowany mankiet, zapewniający doskonałą szczelność maski przy minimalnym nacisku, przeźroczyste sklepienie, kolorystyczne pierścienie mocujące - ozaczające poszczególne rozmiary masek; pozbawione lateksów oraz ftalanów; jednorazowe, sterylne, pakowane pojedyńczo; Kompatybilne z pozycją 1 i 6 | D10: szt. | E10: 100 | H10: =ROUND(F10+F10*G10,2) -> 0 | I10: =E10*F10 -> 0 | J10: =K10-I10 -> 0 | K10: =E10*H10 -> 0
A11: 5 | B11: Maski anestetyczne dla dorosłych; rozmiary: 5; Wyrób przeznaczony do przesyłania mieszaniny gazów w połączeniu z urządzeniami do sztucznej wentylacji; Właściwości produktu: ukształtowane zgodnie z budową anatomiczną twarzy, pompowany mankiet, zapewniający doskonałą szczelność maski przy minimalnym nacisku, przeźroczyste sklepienie, kolorystyczne pierścienie mocujące - ozaczające poszczególne rozmiary masek; pozbawione lateksów oraz ftalanów; jednorazowe, sterylne, pakowane pojedyńczo; Kompatybilne z pozycją 1 i 6 | D11: szt. | E11: 100 | H11: =ROUND(F11+F11*G11,2) -> 0 | I11: =E11*F11 -> 0 | J11: =K11-I11 -> 0 | K11: =E11*H11 -> 0
A12: 6 | B12: Filtr antybakteryjny - przeciwwirusowy do worka samorozprężalnego tzw. ambu; Zalecana objętośc oddechowa od 150 ml do 1500 ml z łącznikiem na reduktor/ dozownik; kompatybilny z pozycją 1,3,4, 5 | D12: szt. | E12: 100 | H12: =ROUND(F12+F12*G12,2) -> 0 | I12: =E12*F12 -> 0 | J12: =K12-I12 -> 0 | K12: =E12*H12 -> 0
A13: 7 | B13: Jednorazowe pojemniki do reduktorów tlenowych z wodą sterylną o pojemności min. 350 ml maks. 500 ml z łącznikiem na reduktor/dozownik | D13: szt. | E13: 100 | H13: =ROUND(F13+F13*G13,2) -> 0 | I13: =E13*F13 -> 0 | J13: =K13-I13 -> 0 | K13: =E13*H13 -> 0
H14: SUMA | I14: =SUM(I7:I13) -> 0 | J14: =SUM(J7:J13) -> 0 | K14: =SUM(K7:K13) -> 0
A15: Oświadczamy, że w cenie oferty uwzględniliśmy wszystkie elementy cenotwórcze wynikające z zakresu i sposobu realizacji przedmiotu zamówienia.
A16: ………………………………………………………………………… (data i podpis Wykonawcy)

Sheet Zadanie 4
A1: Nazwa i adres Wykonawcy……………………………. | J1: Załącznik nr 2 do SWZ
A2: Nr sprawy: 29/SMED/DCZP/2025/P
A3: FORMULARZ CENOWY
A4: Zadanie nr 4
A5: 1 | B5: 2 | C5: 3 | D5: 4 | E5: 5 | F5: 6 | G5: 7 | H5: 8 | I5: 9 | J5: 10 | K5: 11 | L5: 12
A6: Lp | B6: Nazwa artykułu | C6: Rysunek poglądowy | D6: Nazwa, nr katalogowy i producent (podać nr strony ulotki i dokumentów rejestrowych w ofercie) | E6: Opakowanie | F6: Szacunkowa wielkość zamówienia na 24 miesiące | G6: Cena jednost. netto | H6: % Vat | I6: Cena jednost. brutto | J6: Wartość netto | K6: Wartość Vat | L6: Wartość brutto
A7: 1 | B7: Wózek zabiegowy oddziałowy typu WZ – 03 lub równoważny Wózek zabiegowy oddziałowy WZ-03 przeznaczony do szpitali na oddziały szpitalne służące w drobnych zabiegach. Wózek posiada cztery koła, worek na odpady, druciany kosz, trzy półki oraz cztery koła jezdne w tym dwa z blokadą. PARAMETRY TECHNICZNE: Długość: 645 mm Szerokość 425 mm Wysokość 905 mm zdjęcie poglądowe | E7: szt | F7: 1 | I7: =ROUND(G7+G7*H7,2) -> 0 | J7: =F7*G7 -> 0 | K7: =L7-J7 -> 0 | L7: =F7*I7 -> 0
A8: 2 | B8: Wózek do przewożenia chorych typu: MEDOTTI Wózek do przewożenia chorych PROFIMAX lub równowważny, wyposażony w korbę do regulacji wysokości, oraz podparcie pleców z regulacją nachylenia, co czyni go bardzo funkcjonalnym, wykonany z wysokiej jakości tworzywa oraz profili stalowych, wyposażony w składane, ergonomiczne barierki o nowoczesnej stylistyce wykonane z tworzywa. Mechanizm korbowy daje możliwość regulacji. Cichobieżne kółka jezdne oraz dodatkowe piąte koło zapewniają łatwe i ciche przemieszczanie łóżka. Dookoła wózka znajdują się ergonomiczne uchywty ułatwiające prowadzenie. W części głowy znajduje się uchwyt na butlę z tlenem, wyposażony w stojak na kroplówki oraz centralny hamulec. Dane techniczne(±5%): - długość: 190cm - szerokość leżyska: 64cm - wysokość: 55-85cm - zakres regulacji podparcia pleców = 0-75°(?10°) zdjęcie poglądowe | E8: szt | F8: 2 | I8: =ROUND(G8+G8*H8,2) -> 0 | J8: =F8*G8 -> 0 | K8: =L8-J8 -> 0 | L8: =F8*I8 -> 0
A9: 3 | B9: Chodzik balkonik czterokołowy dla osób o wadze do 200 kg typu: Chodzik czterokołowy aluminiowy XXL do 200 kg z regulowanym siedziskiem GOLIAT Vermeiren lub równoważny Główne cechy: - Maksymalne obciążenie wynoszące do 200 kg; - Składana rama dostępna w dwóch kolorach: bordowy oraz szary; - Blokada zapobiegająca przypadkowemu złożeniu; - Miękkie materiałowe siedzisko z regulacją wysokości (zakres od 48 do 57 cm); - Skrytka na dokumenty pod siedziskiem; - Materiały koszyk pod siedziskiem na małe przedmioty do 5 kg; - Blokada przeciwko wypadaniu oparcia; - Materiałowe oparcie; - Regulowana wysokość uchwytów (zakres od 81 przy minimalnym ustawieniu siedziska do 102 cm przy maksymalnym ustawieniu siedziska) - Ergonomiczne uchwyty wraz z hamulcami z funkcją hamulca postojowego; - Przednie koła skrętne; - Odblaski w kolorze czerwonym umieszczone na bokach przednich kół; - Produkt medyczny, atestowany Konstrukcja ramy Aluminium, Rama składana Regulowana wysokość uchwytów, Regulowana wysokość siedziska Wysokość siedziska: 48 - 57 cm Wymiary siedziska: szer. 48 x gł. 40 cm Szerokość wewnętrzna: 53 cm Wymiary przy minimalnej wysokości ustawienia siedziska: dł. 75 x szer. 60 x wys. 81 - 102 cm Wymiary przy maksymalnej wysokości ustawienia siedziska: dł. 86 x szer. 60 x wys. 81 - 102 cm Wymiary rozłożonej podpórki: dł. 75 - 86 x szer. 60 x wys. 81 - 102 cm Wymiary złożonej podpórki: dł. 100 x szer. 67 x wys. 40 cm Masa całkowita:10,7 kg zdjęcie poglądowe | E9: szt | F9: 1 | I9: =ROUND(G9+G9*H9,2) -> 0 | J9: =F9*G9 -> 0 | K9: =L9-J9 -> 0 | L9: =F9*I9 -> 0
A10: 4 | B10: Ciśnieniomierz elektroniczny z dużym mankietem typu: CIŚNIENIOMIERZ Z BARDZO DUŻYM MANKIETEM MICROLIFE A2 +ZASILACZ obwód ramienia XL 32-52cm lub równoważny Specyfikacje Techniczne: Dokładność pomiaru ciśnienia: ±3 mmHg. Dokładność pomiaru tętna: ±5 % odczytu. Zakres pomiaru ciśnienia krwi: 20 - 280 mmHg. Zakres pomiaru tętna: 40 - 200 uderzeń na minutę. Rozmiar mankietu: L-XL (32-52 cm). Pamięć: 30 ostatnich wyników pomiarów. Zasilanie: 4 baterie AA (w zestawie) lub zasilacz sieciowy (GRATIS w zestawie). Wykrywanie arytmii: Tak (system PAD/IHB). Zawartość Zestawu: Ciśnieniomierz Microlife BP A2 Classic Mankiet stożkowy L-XL (32-52 cm) z wężykiem Komplet baterii Instrukcja obsługi w języku polskim Zasilacz | E10: szt | F10: 1 | I10: =ROUND(G10+G10*H10,2) -> 0 | J10: =F10*G10 -> 0 | K10: =L10-J10 -> 0 | L10: =F10*I10 -> 0
A11: 5 | B11: Mankiet do ciśnieniomierza dla ludzi otyłych lub na udzie z jednym przewodem kompatybilny z ciśnienimierzem z poz 4 typu: Mankiet do ciśnieniomierza automatycznego Microlife z jednym wężykiem - L-XL lub równoważny Wymiar mankietu: 32-52 cm | C11: X | E11: szt | F11: 2 | I11: =ROUND(G11+G11*H11,2) -> 0 | J11: =F11*G11 -> 0 | K11: =L11-J11 -> 0 | L11: =F11*I11 -> 0
I12: SUMA | J12: =SUM(J7:J11) -> 0 | K12: =SUM(K7:K11) -> 0 | L12: =SUM(L7:L11) -> 0
A13: Oświadczamy, że w cenie oferty uwzględniliśmy wszystkie elementy cenotwórcze wynikające z zakresu i sposobu realizacji przedmiotu zamówienia.
A14: ………………………………………………………………………… (data i podpis Wykonawcy)

Sheet Zadanie 5
A1: Nazwa i adres Wykonawcy……………………………. | J1: Załącznik nr 2 do SWZ
A2: Nr sprawy: 29/SMED/DCZP/2025/P
A3: FORMULARZ CENOWY
A4: Zadanie nr 5
A5: 1 | B5: 2 | C5: 3 | D5: 4 | E5: 5 | F5: 6 | G5: 7 | H5: 8 | I5: 9 | J5: 10 | K5: 11 | L5: 12
A6: Lp | B6: Nazwa artykułu | C6: Rysunek poglądowy | D6: Nazwa, nr katalogowy i producent (podać nr strony ulotki i dokumentów rejestrowych w ofercie) | E6: Opakowanie | F6: Szacunkowa wielkość zamówienia na 24 miesiące | G6: Cena jednost. netto | H6: % Vat | I6: Cena jednost. brutto | J6: Wartość netto | K6: Wartość Vat | L6: Wartość brutto
A7: 1 | B7: Kadiomonitor wieloparametrowy z drukarką typu: GIMA UP7000 z drukarką lub równoważny urządzenie przeznaczony do monitorowania i nadzoru podstawowych funkcji życiowych pacjenta, dla dorosłych, dzieci i niemowląt. Monitoruje takie parametry jak: EKG, RR (częstotliwość oddechów, SpO2 (saturacje), NIBP (nieinwazyjny pomiar ciśnienia), TEMP (temperatura), PR (puls) Cechy: Kolorowy wyświetlacz TFT 12,1" o wysokiej rozdzielczości z podświetleniem LED, 3-kanałowe wzmocnienie EKG, Analiza arytmii i analiza odcinka ST, Do 2000 grup danych parametrów i 24-godzinne przechowywanie i przywoływanie krzywych EKG;, 9 śladowych krzywych EKG jednocześnie wyświetlanych; Tryby pomiaru dorosłych/pediatrycznych/noworodków, Alarmy wizualne i dźwiękowe, Wbudowany akumulator litowy wielokrotnego ładowania, Wbudowana drukarka termiczna, Wielojęzyczne oprogramowanie wewnętrzne: PL, GB, FR, IT, ES, PT, TR, RU, CN Specyfikacja techniczna Monitorowanie NIBP — oscylometryczny* Zakres pomiarowy (ciśnienie skurczowe): Dorosły: 40~275 mmHg, Dzieci: 40~200 mmHg, Noworodek: 40~135 mmHg Zakres pomiarowy (ciśnienie rozkurczowe): Dorosły: 10~210 mmHg, Dzieci: 10~150 mmHg, Noworodek: 20~165 mmHg Zakres pomiarowy (średnie ciśnienie tętnicze): Dorosły: 40~135 mmHg, Dzieci: 10~95 mmHg, Noworodek: 20~110 mmHg Monitorowanie TEMP Zakres pomiarowy: 21,0°C ~ 50,0°C ± 0,2°C, Czas odpowiedzi: = 150 s Monitorowanie SpO2 i tętna Zakres dynamiki wejścia: 0% ~ 100%, Zakres pomiaru PR: 0 bpm ~ 250 bpm Monitorowanie EKG Zakres dynamiki wejściowej: ±0,5 mVp ~ ±5 mVp, Zakres pomiaru tętna: 15 uderzeń na minutę ~ 350 uderzeń na minutę Monitorowanie RESP Metoda pomiaru: Impedancja klatki piersiowej, Zakres monitorowania: 0 obr./min ~ 120 obr./min, ±5% lub ± obr./min, w zależności od tego większa Inne dane techniczne Zasilanie: 100 ~ 240 Vac, 50/60 Hz, Pobór mocy: <80 VA, Tryb alarmowania: Alarm dźwiękowo-wizualny, Port sieciowy: Port Ethernet Standardowe akcesoria: • Sonda SpO2 dla dorosłych, • Mankiet NIBP dla dorosłych, • Czujnik temperatury – skóra, • Kabel EKG 5 odprowadzeń (RA - LA - LL - PL - C,) • Akumulator, • Drukarka, • Kabel zasilający, • Elektroda jednorazowa, • Płaszcz przeciwpyłowy, • Instrukcja w języku polskim. Rysunek poglądowy | E7: szt | F7: 1 | I7: =ROUND(G7+G7*H7,2) -> 0 | J7: =F7*G7 -> 0 | K7: =L7-J7 -> 0 | L7: =F7*I7 -> 0
I8: SUMA | J8: =SUM(J7:J7) -> 0 | K8: =SUM(K7:K7) -> 0 | L8: =SUM(L7:L7) -> 0
A9: Oświadczamy, że w cenie oferty uwzględniliśmy wszystkie elementy cenotwórcze wynikające z zakresu i sposobu realizacji przedmiotu zamówienia.
A10: ………………………………………………………………………… (data i podpis Wykonawcy)

Sheet Wartość
A2: Zadanie | B2: wartość netto | C2: wartośc brutto
A3: 1 | B3: ='Zadanie 1'!I9 -> 0 | C3: ='Zadanie 1'!K9 -> 0
A4: 2 | B4: ='Zadanie 2'!I12 -> 0 | C4: ='Zadanie 2'!K12 -> 0
A5: 3 | B5: ='Zadanie 3'!I14 -> 0 | C5: ='Zadanie 3'!K14 -> 0
A6: 4 | B6: ='Zadanie 4'!J12 -> 0 | C6: ='Zadanie 4'!L12 -> 0
A7: 5 | B7: ='Zadanie 5'!J8 -> 0 | C7: ='Zadanie 5'!L8 -> 0
A8: RAZEM | B8: =SUM(B3:B7) -> 0 | C8: =SUM(C3:C7) -> 0
