Workbook

Sheet Zadanie nr 1
A1: Nazwa i adres Wykonawcy……………………………..
K2: Załącznik nr 2 do SWZ
A4: Nr sprawy: 8/MEB/DCZP/2025/P
A5: Formularz cenowy
A6: Zadanie nr 1 *
A7: Lp | B7: Nazwa artykułu | C7: j.m | D7: Ilość | E7: Rysunek poglądowy | F7: Producent; model/numer katalogowy producenta | G7: Cena jednost. netto | H7: % Vat | I7: Cena jednost. brutto | J7: Wartość netto | K7: Wartość Vat | L7: Wartość brutto
A8: 1 | B8: 2 | C8: 3 | D8: 4 | E8: 5 | F8: 6 | G8: 7 | H8: 8 | I8: 9 | J8: 10 | K8: 11 | L8: 12
A9: 2 | B9: BIURKO JEDNOOSOBOWE wolnostojące o wymiarach: długość 120 cm; głębokość 70 cm, wysokość 76 (+/-2 cm); blat wykonany z płyty wiórowej, trzywarstwowej o gr. min. 25 mm, obustronnie melaminowanej; wszystkie krawędzie zabezpieczone obrzeżem PCV o gr. min. 2 mm; stelaż o konstrukcji z płyty meblowej tej samej co blat, zakończone regulatorem o zakresie regulacji od 0 - 20mm; osłona z płyty meblowej przymontowana trwale do przedniej krawędzi blatu biurka w kolorze mebla, zakrywająca ½ wysokości mebla; Łączenie osłony do biurka w sposób niewidoczny i na równym poziomie wysokości; Kolor okleiny do wyboru: dąb sonoma - D3025 lub równoważny/ rockford jasny K085 lub równoważny/ olcha lub równoważny ;dąb craft złoty lub równoważny, rysunek poglądowy | C9: szt. | D9: 3 | I9: =ROUND(G9+H9*G9,2) -> 0 | J9: =D9*G9 -> 0 | K9: =L9-J9 -> 0 | L9: =D9*I9 -> 0
A10: 3 | B10: BIURKO JEDNOOSOBOWE wolnostojące o wymiarach: długość 110 cm; głębokość 70 cm, wysokość 76 (+/-2 cm); blat wykonany z płyty wiórowej, trzywarstwowej o gr. min. 25 mm, obustronnie melaminowanej; wszystkie krawędzie zabezpieczone obrzeżem PCV o gr. min. 2 mm; stelaż o konstrukcji z płyty meblowej tej samej co blat, zakończone regulatorem o zakresie regulacji od 0 - 20mm; osłona z płyty meblowej przymontowana trwale do przedniej krawędzi blatu biurka w kolorze mebla, zakrywająca ½ wysokości mebla; Łączenie osłony do biurka w sposób niewidoczny i na równym poziomie wysokości; Kolor okleiny do wyboru: dąb sonoma - D3025 lub równoważny/ rockford jasny K085 lub równoważny/ olcha lub równoważny ; rysunek poglądowy | C10: szt. | D10: 4 | I10: =ROUND(G10+H10*G10,2) -> 0 | J10: =D10*G10 -> 0 | K10: =L10-J10 -> 0 | L10: =D10*I10 -> 0
A11: 4 | B11: BIURKO JEDNOOSOBOWE wolnostojące o wymiarach: długość 160 cm; głębokość 70 cm, wysokość 76 (+/-2 cm); blat wykonany z płyty wiórowej, trzywarstwowej o gr. min. 25 mm, obustronnie melaminowanej; wszystkie krawędzie zabezpieczone obrzeżem PCV o gr. min. 2 mm; stelaż o konstrukcji z płyty meblowej tej samej co blat, zakończone regulatorem o zakresie regulacji od 0 - 20mm; osłona z płyty meblowej przymontowana trwale do przedniej krawędzi blatu biurka w kolorze mebla, zakrywająca ½ wysokości mebla; Łączenie osłony do biurka w sposób niewidoczny i na równym poziomie wysokości; Kolor okleiny: Orzech toskania D2453BS Swiss Krono, Orzech burgundia, dąb craft złoty lub równoważny | C11: szt. | D11: 3 | I11: =ROUND(G11+H11*G11,2) -> 0 | J11: =D11*G11 -> 0 | K11: =L11-J11 -> 0 | L11: =D11*I11 -> 0
A12: 5 | B12: BIURKO JEDNOOSOBOWE prawostronne o wymiarach: długość 140-(100z prawej storny) cm; głębokość 70 cm, wysokość 76 (+/-2 cm); na nóżce z prawej strony, blat wykonany z płyty wiórowej, trzywarstwowej o gr. min. 25 mm, obustronnie melaminowanej; wszystkie krawędzie zabezpieczone obrzeżem PCV o gr. min. 2 mm; stelaż o konstrukcji z płyty meblowej tej samej co blat, zakończone regulatorem o zakresie regulacji od 0 - 20mm; osłona z płyty meblowej przymontowana trwale do przedniej krawędzi blatu biurka w kolorze mebla, zakrywająca ½ wysokości mebla; Łączenie osłony do biurka w sposób niewidoczny i na równym poziomie wysokości; Kolor okleiny do wyboru: dąb sonoma - D3025 lub równoważny/ rockford jasny K085 lub równoważny/ olcha lub równoważny ;dąb craft złoty, rysunek poglądowy | C12: szt. | D12: 1 | I12: =ROUND(G12+H12*G12,2) -> 0 | J12: =D12*G12 -> 0 | K12: =L12-J12 -> 0 | L12: =D12*I12 -> 0
A13: 6 | B13: Kontener biurowy z półką: o wymiarach: wysokość 760 cm, szerokość 80cm, głębokość 40cm; kontener dzielony na pół – lewa część składająca się z 4 szuflad, prawa część zamykana z jedną półką w środku. Każda z części zamykana na niezależny zamek patentowy; kolor okleiny olcha; | C13: szt. | D13: 1 | I13: =ROUND(G13+H13*G13,2) -> 0 | J13: =D13*G13 -> 0 | K13: =L13-J13 -> 0 | L13: =D13*I13 -> 0
A14: 7 | B14: Kontener biurowy 3 szufladowy na kółkach o wymiarach: szer. 43 cm x gł. 50 cm x h 62 cm (+ - 2 cm); wykonany z płyty wiórowej trzywarstwowej pokrytej obustronnie melaminą : boki z boczną listwą dystansową o szerokości 18 mm z tworzywa PCV; wieniec dolny wyposażony w 4 kółka jezdne w tym dwa z hamulcem; ścianka tylna wpuszczana między korpusy zewnętrzne zlicowane z ich krawędziami i mocowane na kołki drewniane; 3 szuflady zamykane zamkiem centralnym z kluczykiem (min. 2 szt.); uchwyty w kolorze srebrnym do wyboru przed złożeniem zamówienia min. 4 do wyboru; szuflady wysuwane na prowadnicach rolkowych; wszystkie obrzeża oklejone taśmą PCV o grubości 2 mm i szerokości odpowiadającej grubości zastosowanej płyty (wieńce górne oklejone PCV gr. 2 mm, pozostałe elementy oklejone PCV gr. 0,8mm; kółka plastikowe; Kolor okleiny płyty meblowej do wyboru: dąb sonoma - D3025, rockford jasny K085, Orzech toskania D2453BS Swiss Krono, orzech select ciemny K009 lub równoważne ; orzech burgundia lub równoważne, dąb craft złoty lub równoważy, rysunek poglądowy | C14: szt. | D14: 8 | I14: =ROUND(G14+H14*G14,2) -> 0 | J14: =D14*G14 -> 0 | K14: =L14-J14 -> 0 | L14: =D14*I14 -> 0
A15: 8 | B15: Kontener biurowy na kółkach z dzwiczkami o wymiarach: szer. 43 cm x gł. 50 cm x wysokość 62 cm (+ - 2 cm); 1 szuflada zamykana zamkiem centralnym z kluczykiem (min. 2 szt.); uchwyty w kolorze srebrnym do wyboru przed złożeniem zamówienia min. 4 do wyboru; szuflada wysuwana na prowadnicach rolkowych; w środku kontenerka jedna półka w połowie wysokosci, wykonany z płyty wiórowej trzywarstwowej pokrytej obustronnie melaminą : boki z boczną listwą dystansową o szerokości 18 mm z tworzywa PCV; wieniec dolny wyposażony w 4 kółka jezdne w tym dwa z hamulcem; ścianka tylna wpuszczana między korpusy zewnętrzne zlicowane z ich krawędziami i mocowane na kołki drewniane; zamykanie dzwiczkami z zamkiem centralnym z kluczykiem (min. 2 szt.); uchwyty w kolorze srebrnym do wyboru przed złożeniem zamówienia min. 4 do wyboru; kółka plastikowe; Kolor okleiny płyty meblowej do wyboru: dąb sonoma - D3025, rockford jasny K085, Orzech toskania D2453BS Swiss Krono, orzech select ciemny K009 lub równoważne Orzech burgundia lub równoważny ; rysunek poglądowy | C15: szt. | D15: 3 | I15: =ROUND(G15+H15*G15,2) -> 0 | J15: =D15*G15 -> 0 | K15: =L15-J15 -> 0 | L15: =D15*I15 -> 0
A16: 9 | B16: Szafa biurowa półotwarta 1 o wymiarach: wys. 220cm, gł. 42 cm, szer. 98 cm (+/- 2cm); Szafa wykonana z płyty meblowej, obustronnie laminowanej; wszystkie krawędzie boczne wykończone doklejką PCV o grubości 2mm; uchwyty metalowe srebrne; wieńce górne i dolne oraz półki o grubości 25 mm, obrzeże 3 mm; ściany boczne o grubości 18 mm; wszystkie półki płytowe o grubości min. 18 mm, obrzeże 2 mm; górny moduł szafy otwarty z półkami, dolny moduł zamykany drzwiczkami na zamek (min 2 kluiczyki); tylna ściana wykonana z płyty HDF;Kolor okleiny dąb sonoma,rockford jasny, olcha - D3025 lub równoważna; rysunek poglądowy | C16: szt. | D16: 1 | I16: =ROUND(G16+H16*G16,2) -> 0 | J16: =D16*G16 -> 0 | K16: =L16-J16 -> 0 | L16: =D16*I16 -> 0
A17: 10 | B17: Szafa biurowa półotwarta 2 o wymiarach: wys. 184cm, gł. 40 cm, szer. 80 cm (+/- 2cm); Szafa wykonana z płyty meblowej, obustronnie laminowanej; wszystkie krawędzie boczne wykończone doklejką PCV o grubości 2mm; uchwyty metalowe srebrne; wieńce górne i dolne oraz półki o grubości 25 mm, obrzeże 3 mm; ściany boczne o grubości 18 mm; wszystkie półki płytowe o grubości min. 18 mm, obrzeże 2 mm; górny moduł szafy otwarty z półkami, dolny moduł zamykany drzwiczkami na zamek (min 2 kluiczyki); tylna ściana wykonana z płyty HDF;Kolor okleiny dąb sonoma,rockford jasny, olcha - D3025 lub równoważna; rysunek poglądowy | C17: szt | D17: 1 | I17: =ROUND(G17+H17*G17,2) -> 0 | J17: =D17*G17 -> 0 | K17: =L17-J17 -> 0 | L17: =D17*I17 -> 0
A18: 11 | B18: Regał z półkami otwarty: 5-półek, o wymiarach: wys. 220 cm, gł. 40cm, szer. 80 cm (+/- 2cm); wykonany z płyty meblowej, obustronnie laminowanej; wszystkie krawędzie boczne wykończone doklejką PCV o grubości 2mm; wieńce górne i dolne o grubości 25 mm, obrzeże 3 mm; ściany boczne o grubości 18 mm; wszystkie półki płytowe o grubości min. 18 mm, obrzeże 2 mm; tylna ściana wykonana z płyty HDF ; kolor płyty meblowej dąb sonoma - D3025 lub równoważny; rysunek poglądowy | C18: szt. | D18: 1 | I18: =ROUND(G18+H18*G18,2) -> 0 | J18: =D18*G18 -> 0 | K18: =L18-J18 -> 0 | L18: =D18*I18 -> 0
A19: 12 | B19: Regał półotwarty o wymiarach: wys. 160cm, gł. 40 cm, szer. 80 cm (+/- 2cm); Szafa wykonana z płyty meblowej, obustronnie laminowanej; wszystkie krawędzie boczne wykończone doklejką PCV o grubości 2mm; uchwyty metalowe srebrne; wieńce górne i dolne oraz półki o grubości 25 mm, obrzeże 3 mm; ściany boczne o grubości 18 mm; wszystkie półki płytowe o grubości min. 18 mm, obrzeże 2 mm; górny moduł szafy otwarty z 1 półką, dolny moduł zamykany drzwiczkami na zamek (min 2 kluiczyki); tylna ściana wykonana z płyty HDF;Kolor okleiny dąb sonoma,rockford jasny, olcha - D3025, dąb craft złoty, fronty i plecy białe; rysunek poglądowy | C19: szt. | D19: 1 | I19: =ROUND(G19+H19*G19,2) -> 0 | J19: =D19*G19 -> 0 | K19: =L19-J19 -> 0 | L19: =D19*I19 -> 0
A20: 13 | B20: Regał otwarty 1:, o wymiarach: wys. 120 cm, gł. 40cm, szer. 160 cm (+/- 2cm); 12 kwadratowych półek, plus 6 frontów do wybranych półek otwieranych za pomocą TIP ON,, wykonany z płyty meblowej, obustronnie laminowanej; wszystkie krawędzie boczne wykończone doklejką PCV o grubości 2mm; wieńce górne i dolne o grubości 25 mm, obrzeże 3 mm; ściany boczne o grubości 18 mm; wszystkie półki płytowe o grubości min. 18 mm, obrzeże 2 mm; tylna ściana wykonana z płyty HDF- białe plecy ; kolor płyty meblowej dąb craft złoty lub równoważny; rysunek poglądowy | C20: szt. | D20: 1 | I20: =ROUND(G20+H20*G20,2) -> 0 | J20: =D20*G20 -> 0 | K20: =L20-J20 -> 0 | L20: =D20*I20 -> 0
... A51: 44 | B51: Taboret kuchanny - o wymiarach: siedzisko: 32 x 32 cm (+/- 2cm); wysokość ok. 45 cm (+/- 2cm); grubość nogi: 3,5 x 3,5 cm (+/- 2cm); grubość siedziska: 1,8 cm (+/- 2cm); stelaż stalowy CZARNY MAT drobna struktura; spawy szlifowane na gładko; nogi proste, wzmocnione poprzeczkami siedzisko z płyty w kolorze: dąb sonoma lub równoważny; rysunek poglądowy; | C51: szt | D51: 5 | I51: =ROUND(G51+H51*G51,2) -> 0 | J51: =D51*G51 -> 0 | K51: =L51-J51 -> 0 | L51: =D51*I51 -> 0
I52: RAZEM | J52: =SUM(J9:J51) -> 0 | K52: =SUM(K9:K51) -> 0 | L52: =SUM(L9:L51) -> 0
A56: Oświadczamy, że w cenie oferty uwzględniliśmy wszystkie elementy cenotwórcze wynikajace z zakresu i sposobu realizacji przedmiotu zamówienia.
A58: ………………………………………….
A59: (data i podpis Wykonawcy)

Sheet Zadanie nr 2
A1: Nazwa i adres Wykonawcy…………………………….. | J1: Załącznik nr 2 do SWZ
A3: Nr sprawy: 8/MEB/DCZP/2025/P
A4: Formularz cenowy
A5: Zadanie nr 2*
A6: Lp | B6: Nazwa artykułu | C6: j.m | D6: Ilość | E6: Rysunek poglądowy | F6: Producent; model/numer katalogowy producenta | G6: Cena jednost. netto | H6: % Vat | I6: Cena jednost. brutto | J6: Wartość netto | K6: Wartość Vat | L6: Wartość brutto
A7: 1 | B7: 2 | C7: 3 | D7: 4 | E7: 5 | F7: 6 | G7: 7 | H7: 8 | I7: 9 | J7: 10 | K7: 11 | L7: 12
A8: 2 | B8: Fotel tapicerowany: pikowane oparcie; Zamawiający dopuszcza różnicę w wymiarach: +/- 2 cm; Szerokość całkowita: 80 cm Wysokość całkowita: 97 cm Głębokość całkowita: 89 cm Głębokość siedziska: 56 cm Wysokość do siedziska: 43 cm Siedzisko - rodzaj materiału: tkanina typu velvet/welur (plamoodporna) Stelaż nóg - rodzaj stelaża: 4 nogi Kolor nóg: Czarny/ w kolorze drewna- buk, dąb; Stelaż nóg - rodzaj materiału: drewno; Kolor tapicerki: min. 5 kolorów do wyboru w tym: granatowy, zielony, szary, beżowy, bordowy ; typu fotel ANGEL KR09 lub równoważny; | C8: szt. | D8: 7 | I8: =ROUND(G8+G8*H8,2) -> 0 | J8: =D8*G8 -> 0 | K8: =L8-J8 -> 0 | L8: =D8*I8 -> 0
A9: 3 | B9: Miękki Fotel tapicerowany: wyprofilowane podłokietniki oraz oparcie; Zamawiający dopuszcza różnicę w wymiarach: +/- 2 cm; Szerokość całkowita: 67 cm Szerokość siedziska 44 cm Wysokość całkowita: 65 cm Głębokość całkowita: 68 cm Głębokość siedziska: 49 cm Wysokość do siedziska: 39 cm Rodzaj materiału: tkanina typu velvet/welur (plamoodporna) Stelaż nóg - rodzaj stelaża: 4 nogi drewniane Kolor nóg: Czarny/ w kolorze drewna- buk, dąb; Stelaż nóg - rodzaj materiału: drewno; Kolor tapicerki: min. 5 kolorów do wyboru w tym: granatowy, oliwkowy, szary, beżowy, czarny ; typu fotel Monaco BL75 lub równoważny; | C9: szt. | D9: 6 | I9: =ROUND(G9+G9*H9,2) -> 0 | J9: =D9*G9 -> 0 | K9: =L9-J9 -> 0 | L9: =D9*I9 -> 0
A10: 4 | B10: Fotel uszak: pikowane oparcie; Zamawiający dopuszcza różnicę w wymiarach: +/- 2 cm; Szerokość całkowita: 75 cm Wysokość całkowita: 104 cm Głębokość całkowita: 85 cm Głębokość siedziska: 58 cm Wysokość do siedziska: 43 cm Siedzisko - rodzaj materiału: tkanina typu velvet/welur (plamoodporna) Stelaż nóg - rodzaj stelaża: 4 nogi Kolor nóg: w kolorze drewna- buk, dąb; Stelaż nóg - rodzaj materiału: drewno; Kolor tapicerki: min. 5 kolorów do wyboru w tym: granatowy, zielony, jasnoszary, beżowy ; typu fotel uszak JULIO lub równoważny; | C10: szt. | D10: 2 | I10: =ROUND(G10+G10*H10,2) -> 0 | J10: =D10*G10 -> 0 | K10: =L10-J10 -> 0 | L10: =D10*I10 -> 0
A11: 5 | B11: Fotel Klubowy Eko Skóra: wyprofilowane podłokietniki oraz oparcie; Zamawiający dopuszcza różnicę w wymiarach: +/- 2 cm; Szerokość całkowita: 70 cm Szerokość siedziska 48 cm Wysokość całkowita: 70 cm Stelaż: drewniany Rodzaj materiału: tkanina typu skaj tapicerski eko skóra, skaj ze struktura przypominającą skórę naturalną Stelaż nóg - rodzaj stelaża: 4 nogi drewniane Kolor nóg: Czarny/ w kolorze drewna- buk, dąb; Stelaż nóg - rodzaj materiału: drewno; Kolor tapicerki: min. 5 kolorów do wyboru w tym: granatowy, oliwkowy, szary, beżowy, czarny ; typu fotel klubowy Monaco Eco SKóra lub równoważny; | C11: szt. | D11: 5 | I11: =ROUND(G11+G11*H11,2) -> 0 | J11: =D11*G11 -> 0 | K11: =L11-J11 -> 0 | L11: =D11*I11 -> 0
A12: 6 | B12: Fotel z podłokietnikiem: Zamawiający dopuszcza różnicę w wymiarach: +/- 2 cm; Szerokość całkowita: 70 cm Wysokość całkowita: 83 cm Głębokość całkowita: 88 cm Głębokość siedziska: 63 cm Wysokość do siedziska: 45 cm Siedzisko - rodzaj materiału: tkanina typu skóra ekologiczna Stelaż nóg - rodzaj stelaża: 4 nogi Kolor nóg: Czarny/ w kolorze drewna- buk, dąb; Stelaż nóg i podłokietników - rodzaj materiału: drewno; Kolor tapicerki: min. 5 kolorów do wyboru w tym: ciemny brąz, granatowy, , szary, beżowy ; Dodatkowo 1 poduszka w kolorze tapicerki, | C12: szt. | D12: 2 | I12: =ROUND(G12+G12*H12,2) -> 0 | J12: =D12*G12 -> 0 | K12: =L12-J12 -> 0 | L12: =D12*I12 -> 0
A13: 7 | B13: Wielofunkcyjny fotel rozkładany - może być używany jako łóżko, sofa oraz szezlong, 6-pozycyjne regulowane oparcie: oparcie można dowolnie ustawiać w zakresie od 0° do 85°, Wygodne siedzenie i dodatkowa poduszka ze zdejmowanym pokrowcem na poduszki w kolorze tapicerki, Wymiary całkowite w trybie sofy: 79 x 65 x 79 cm | Wysokość siedziska od ziemi w trybie sofy: 40 cm | Wymiary całkowite trybu łóżka: 184 x 65 x 29 cm | Wysokość siedziska od ziemi w trybie łóżka: 29 c Stelaż nóg - rodzaj stelaża: 4 nogi metalowe Kolor nóg: Czarny, dwa podłokietniki tapicerka: tkanina odporna na zabrudzenia typu welur; min. 3 kolory do wyboru w tym szary, brąz, czarny | C13: szt. | D13: 2 | I13: =ROUND(G13+G13*H13,2) -> 0 | J13: =D13*G13 -> 0 | K13: =L13-J13 -> 0 | L13: =D13*I13 -> 0
A14: 8 | B14: Sofa 2 - osobowa: Wysokość: 75cm, Szerokość: 144 cm; Głąbokość: 69 cm; Siedzisko wysokość: 43 cm; Siedzisko szerokość: 107cm; Siedzisko głębokość: 53 cm; Nóżki wysokość: 22cm; Zamawiający dopuszcza różnicę w wymiarach +/- 2cm; Wykonanie siedziska: sprężyny faliste, tkanina typu velvet lub równoważna,lub równoważna, plamoodporna, wysoka klasa ścieralności; pianka wysokoelastyczna HR; Wykonanie oparcia: tkanina typu velvet,lub równoważna, plamoodporna, wysoka klasa ścieralności; pianka wysokoelastyczna HR; Bez pojemnika na pościel; bez funkcji spania; Nóżki z drewna w kolorze naturalnego drewna lub czarnym; Kolor tapicerki: min. 5 kolorów do wyboru w tym: granatowy, szary; bordowy, typu sofa dwuosobowa voltana sesley lub równoważna | C14: szt. | D14: 1 | I14: =ROUND(G14+G14*H14,2) -> 0 | J14: =D14*G14 -> 0 | K14: =L14-J14 -> 0 | L14: =D14*I14 -> 0
A15: 9 | B15: Sofa 2 - osobowa: Wysokość: 84cm, Szerokość: 164 cm; Głąbokość: 99 cm; Siedzisko wysokość: 46 cm; ; Siedzisko głębokość: 58 cm; Nóżki wysokość: 15cm; Zamawiający dopuszcza różnicę w wymiarach +/- 2cm; Podłokietnuiki tapicerowane, stałe. tkanina typu skaj tapicerski eko skóra, skaj ze struktura przypominającą skórę naturalną Wykonanie siedziska: pianka wysokoelastyczna hr, pasy elastyczne, Wykonanie oparcia: tkanina typu skaj tapicerski eko skóra, skaj ze struktura przypominającą skórę naturalną Bez pojemnika na pościel; bez funkcji spania; Nóżki metalowe, chrom Kolor tapicerki: min. 5 kolorów do wyboru w tym: czarny, granatowy i szary; typu sofa dwuosobowa Milano lub równoważna | C15: szt. | D15: 1 | I15: =ROUND(G15+G15*H15,2) -> 0 | J15: =D15*G15 -> 0 | K15: =L15-J15 -> 0 | L15: =D15*I15 -> 0
A16: 10 | B16: Sofa rozkładana z funkcją spania 3- osobowa o wymiarach: wysokość 77cm (+/- 2 cm), głębokość 81 cm (+/- 2 cm), szerokość 168cm (+/- 2 cm); powierzchnia spania 168cm (+/- 2 cm) × 100 cm (+/- 2 cm), Plus 2x poduski w kolorze wersalki Poduszki wyposażone w zdejmowalne powłoczki, na nóżkach zabezpieczonych przed zarysowaniem podłogi, mogą być wykonane z metalu lub drewna; tkanina odporna na zabrudzenia typu welur; min. 3 kolory do wyboru w tym jasonszary. Typu sofa rozkładana ROXEN lub równoważna. | C16: szt. | D16: 1 | I16: =ROUND(G16+G16*H16,2) -> 0 | J16: =D16*G16 -> 0 | K16: =L16-J16 -> 0 | L16: =D16*I16 -> 0
A17: 11 | B17: Wersalka sofa rozkładana z pojemnikiem na pościel o wymiarach: wysokość 101 cm (+/- 2 cm), głębokość 95 cm (+/- 2 cm), szerokość 200 cm (+/- 2 cm); powierzchnia spania 200cm (+/- 2 cm) × 118 cm (+/- 2 cm), Poduszki wyposażone w zdejmowalne powłoczki, na nóżkach zabezpieczonych przed zarysowaniem podłogi, nózki wykonane z drewna; tkanina odporna na zabrudzenia typu welur; min. 3 kolory do wyboru w tym szary, grafitowy. Typu wersalka sofa rozkładana Iza lub równoważna. | C17: szt. | D17: 2 | I17: =ROUND(G17+G17*H17,2) -> 0 | J17: =D17*G17 -> 0 | K17: =L17-J17 -> 0 | L17: =D17*I17 -> 0
I18: RAZEM | J18: =SUM(J8:J17) -> 0 | K18: =SUM(K8:K17) -> 0 | L18: =SUM(L8:L17) -> 0
A20: Oświadczamy, że w cenie oferty uwzględniliśmy wszystkie elementy cenotwórcze wynikajace z zakresu i sposobu realizacji przedmiotu zamówienia.
A22: ………………………………………….
A23: (data i podpis Wykonawcy)

Sheet Zadanie nr 3
A1: Nazwa i adres Wykonawcy…………………………….. | J1: Załącznik nr 2 do SWZ
A3: Nr sprawy: 8/MEB/DCZP/2025/P
A4: Formularz cenowy
A5: Zadanie nr 3*
A6: Lp | B6: Nazwa artykułu | C6: j.m | D6: Ilość | E6: Rysunek poglądowy | F6: Producent; model/numer katalogowy producenta | G6: Cena jednost. netto | H6: % Vat | I6: Cena jednost. brutto | J6: Wartość netto | K6: Wartość Vat | L6: Wartość brutto
A7: 1 | B7: 2 | C7: 3 | D7: 4 | E7: 5 | F7: 6 | G7: 7 | H7: 8 | I7: 9 | J7: 10 | K7: 11 | L7: 12
A8: 2 | B8: Leżak składany na kółkach Materiał: PP (polipropylen) Wymiary (bez rozkładania): 160 x 71 x 101 cm (dł. x szer. x wys.) Wymiary (po rozłożeniu): 163-200 x 71 x 62-96 cm (dł. x szer. x wys.) Szerokość siedziska: 56 cm Głębokość siedziska (z podnóżkiem): 125 cm Głębokość siedziska (bez podnóżka): 68 cm Wysokość siedziska nad ziemią: 32 cm Wysokość podłokietników nad ziemią: 56 cm Maksymalne obciążenie: 110 kg Kolor: zielony rysunek poglądowy, leżak typu vida lub równoważny | C8: szt. | D8: 15 | I8: =ROUND(G8+G8*H8,2) -> 0 | J8: =D8*G8 -> 0 | K8: =L8-J8 -> 0 | L8: =D8*I8 -> 0
I9: RAZEM | J9: =SUM(J8:J8) -> 0 | K9: =SUM(K8:K8) -> 0 | L9: =SUM(L8:L8) -> 0
A11: Oświadczamy, że w cenie oferty uwzględniliśmy wszystkie elementy cenotwórcze wynikajace z zakresu i sposobu realizacji przedmiotu zamówienia.
A13: ………………………………………….
A14: (data i podpis Wykonawcy)

Sheet Zadanie nr 4
A1: Nazwa i adres Wykonawcy…………………………….. | J1: Załącznik nr 2 do SWZ
A3: Nr sprawy: 8/MEB/DCZP/2025/P
A4: Formularz cenowy
A5: Zadanie nr 4*
A6: Lp | B6: Nazwa artykułu | C6: j.m | D6: Ilość | E6: Rysunek poglądowy | F6: Producent; model/numer katalogowy producenta | G6: Cena jednost. netto | H6: % Vat | I6: Cena jednost. brutto | J6: Wartość netto | K6: Wartość Vat | L6: Wartość brutto
A7: 1 | B7: 2 | C7: 3 | D7: 4 | E7: 5 | F7: 6 | G7: 7 | H7: 8 | I7: 9 | J7: 10 | K7: 11 | L7: 12
A8: 2 | B8: Metalowa szafa kartotekowa: - szafa na dokumenty z 5 szufladami - wymiary zewnętrzne: 128,5x63x60cm (WxSxG) +/- 2 cm - każda szuflada przystosowana do przechowywania kopert, format B5 poziomo x 2 rzędy obok siebie - maksymalny wymiar przechowywanego dokumentu: 215 x 258 mm (WxS) - szuflady wysuwane w 100%, z blokadą wysuwu więcej niż 1 szuflady - nośność szuflady 50kg - zamek centralny, 2 kluczyki w komplecie wykonana z metalalu, min 3 kolory do wybory w tym szary, czarny, biały, malowana farbami proszkowymi poliestrowo-epoksydowymi, posiadającymi atest higieniczny wydany przez PZH. rysunek poglądowy | C8: szt. | D8: 2 | I8: =ROUND(G8+G8*H8,2) -> 0 | J8: =D8*G8 -> 0 | K8: =L8-J8 -> 0 | L8: =D8*I8 -> 0
I9: RAZEM | J9: =SUM(J8:J8) -> 0 | K9: =SUM(K8:K8) -> 0 | L9: =SUM(L8:L8) -> 0
A11: Oświadczamy, że w cenie oferty uwzględniliśmy wszystkie elementy cenotwórcze wynikajace z zakresu i sposobu realizacji przedmiotu zamówienia.
A13: ………………………………………….
A14: (data i podpis Wykonawcy)

Sheet koszty
A1: nr zadania | B1: wartość netto | C1: wartość brutto
A2: 1 | B2: ='Zadanie nr 1'!J52 -> 0 | C2: ='Zadanie nr 1'!L52 -> 0
A3: 2 | B3: ='Zadanie nr 2'!J18 -> 0 | C3: ='Zadanie nr 2'!L18 -> 0
A4: 3 | B4: ='Zadanie nr 3'!J9 -> 0 | C4: ='Zadanie nr 3'!L9 -> 0
A5: 4 | B5: ='Zadanie nr 4'!J9 -> 0 | C5: ='Zadanie nr 4'!L9 -> 0
A6: RAZEM | B6: =SUM(B2:B5) -> 0 | C6: =SUM(C2:C5) -> 0

Sheet Arkusz2
