Workbook

Sheet Zadanie 1
A1: Nazwa i adres Wykonawcy……………………………. | I1: Załącznik nr 2 do SWZ
A2: Nr sprawy: 14/SMED/DCZP/2025/P
A3: FORMULARZ CENOWY
A4: Zadanie nr 1
A5: Lp | B5: Nazwa artykułu | C5: Nazwa, nr katalogowy i producent (podać nr strony ulotki i dokumentów rejestrowych w ofercie) | D5: Opakowanie | E5: Szacunkowa wielkość zamówienia na 24 miesiące | F5: Cena jednost. netto | G5: % Vat | H5: Cena jednost. brutto | I5: Wartość netto | J5: Wartość Vat | K5: Wartość brutto
A6: 1 | B6: 2 | C6: 3 | D6: 4 | E6: 5 | F6: 6 | G6: 7 | H6: 8 | I6: 9 | J6: 10 | K6: 11
A7: 1 | B7: Gaza jałowa o wymiarach 0,5mx1m pakowana pojedynczo, min. 17N wykonana z hydrofilowej gazy bawełnianej,bielona metoda bezchlorową z użyciem wody utlenionej ,o jednorodnej strukturze, bez występujacych na powierzchni luźnych włókien, miękka i bardzo chłonna , posiada założone do wewnątrz brzegi zapobiegające wysnuwaniu sie lużnych nitek | D7: 1 op - 50 szt | E7: 3 | H7: =ROUND(F7+F7*G7,2) -> 0 | I7: =F7*E7 -> 0 | J7: =K7-I7 -> 0 | K7: =H7*E7 -> 0
A8: 2 | B8: Gaza jałowa o wymiarach 1m x 1m pakowana pojedynczo, min. 17N wykonana z hydrofilowej gazy bawełnianej,bielona metoda bezchlorową z użyciem wody utlenionej ,o jednorodnej strukturze, bez występujacych na powierzchni luźnych włókien, miękka i bardzo chłonna , posiada założone do wewnątrz brzegi zapobiegające wysnuwaniu sie lużnych nitek | D8: 1 op - 25 szt | E8: 4 | H8: =ROUND(F8+F8*G8,2) -> 0 | I8: =F8*E8 -> 0 | J8: =K8-I8 -> 0 | K8: =H8*E8 -> 0
A9: 3 | B9: Kompresy niejałowe o wymiarach min. 5cm x 5cm pakowane po 100 szt. ; 17N 8W wykonane z hydrofilowej gazy bawełnianej, bielonej metoda bezchlorową zużyciem wody utlenionej, posiada podwójnie podwijane brzegi zapobiegające wysnuwaniu się luźnych nitek | D9: 1op - 100 szt | E9: 600 | H9: =ROUND(F9+F9*G9,2) -> 0 | I9: =F9*E9 -> 0 | J9: =K9-I9 -> 0 | K9: =H9*E9 -> 0
A10: 4 | B10: Kompresy niejałowe o wymiarach min. 7,5cm x 7,5cm, 17N 8W pakowane po 100 szt. ,wykonane z hydrofilowej gazy bawełnianej, bielonej metoda bezchlorową zużyciem wody utlenionej, posiada podwójnie podwijane brzegi zapobiegające wysnuwaniu się luźnych nitek | D10: 1 op - 100 szt | E10: 600 | H10: =ROUND(F10+F10*G10,2) -> 0 | I10: =F10*E10 -> 0 | J10: =K10-I10 -> 0 | K10: =H10*E10 -> 0
A11: 5 | B11: Kompresy jałowe o wymiarach 7,5cm x 7,5cm , 17N 8W, pakowane po 3 szt. wykonane z hydrofilowej gazy bawełnianej, bielonej metoda bezchlorową zużyciem wody utlenionej, posiada podwójnie podwijane brzegi zapobiegające wysnuwaniu się luźnych nitek, okres trwałości 5 lat | D11: 1 op.- 3szt. | E11: 1500 | H11: =ROUND(F11+F11*G11,2) -> 0 | I11: =F11*E11 -> 0 | J11: =K11-I11 -> 0 | K11: =H11*E11 -> 0
A12: 6 | B12: Kompresy jałowe o wymiarach 10 cm x 10cm, 17N 8W, pakowane po 3 szt. wykonane z hydrofilowej gazy bawełnianej, bielonej metoda bezchlorową zużyciem wody utlenionej, posiada podwójnie podwijane brzegi zapobiegające wysnuwaniu się luźnych nitek, okres trwałości 5 lat | D12: 1 op. - 3szt. | E12: 3300 | H12: =ROUND(F12+F12*G12,2) -> 0 | I12: =F12*E12 -> 0 | J12: =K12-I12 -> 0 | K12: =H12*E12 -> 0
A13: 7 | B13: Bandaż wiskoza, 10 cm x 4 m, - opaska podtrzymująca dziana, niejałowa, delikatna ,lekka,przepuszczajaca powietrze i promienie RTG, biała, hipoalergiczna, jednorazowego użytku, pakowana pojedynczo, okres trwałosci 3 lata | D13: szt. | E13: 1500 | H13: =ROUND(F13+F13*G13,2) -> 0 | I13: =F13*E13 -> 0 | J13: =K13-I13 -> 0 | K13: =H13*E13 -> 0
A14: 8 | B14: Bandaż wiskoza, 15 cm x 4 m, - opaska podtrzymująca dziana, niejałowa, delikatna ,lekka ,przepuszczajaca powietrze i promienie RTG, biała, hipoalergiczna, jednorazowego użytku, pakowany pojedynczo, okres trwałosci 3 lata | D14: szt. | E14: 1000 | H14: =ROUND(F14+F14*G14,2) -> 0 | I14: =F14*E14 -> 0 | J14: =K14-I14 -> 0 | K14: =H14*E14 -> 0
A15: 9 | B15: Elastyczna siatka opatrunkowa w formie rękawa dopasowująca się do kształtu ciała, przeznaczenie: podudzie, kolano, ramię, stopa, łokieć; wymiary: w stanie spoczynku 1m, w stanie rozciągniętym 2,5m , kolor: biały, stosowana do podtrzymywania opatrunków w zastępstwie tradycyjnego bandaża lub plastra, okres trwałości 5 lat | D15: szt. | E15: 30 | H15: =ROUND(F15+F15*G15,2) -> 0 | I15: =F15*E15 -> 0 | J15: =K15-I15 -> 0 | K15: =H15*E15 -> 0
A16: 10 | B16: Elastyczna siatka opatrunkowa w formie rękawa dopasowująca się do kształtu ciała, przeznaczenie: głowa, ramię, podudzie, kolano wzmiary: w stanie spoczynku 1m, w stanie rozciągniętym 2,5m ; kolor: biały, stosowana do podtrzymywania opatrunków w zastępstwie tradycyjnego bandaża lub plastra | D16: szt. | E16: 30 | H16: =ROUND(F16+F16*G16,2) -> 0 | I16: =F16*E16 -> 0 | J16: =K16-I16 -> 0 | K16: =H16*E16 -> 0
A17: 11 | B17: Opaska elastyczna, mająca właściwości kohezyje, umożliwiająca przywieranie do siebie kolejno nałożonych warstw bez konieczności stosowania zapinek, umożliwiająca dostęp powietrza, kolor: biały, o wym. 10cmx4m | D17: 1 op - 20szt. | E17: 6 | H17: =ROUND(F17+F17*G17,2) -> 0 | I17: =F17*E17 -> 0 | J17: =K17-I17 -> 0 | K17: =H17*E17 -> 0
A18: 12 | B18: Opaska elastyczna, mająca właściwości kohezyje, umożliwiająca przywieranie do siebie kolejno nałożonych warstw bez konieczności stosowania zapinek, umożliwiajaca dostęp powietrza, kolor: biały, o wym. 12cmx4m | D18: 1 op - 20szt. | E18: 6 | H18: =ROUND(F18+F18*G18,2) -> 0 | I18: =F18*E18 -> 0 | J18: =K18-I18 -> 0 | K18: =H18*E18 -> 0
... A33: 27 | B33: Opatrunek z wkładem chłonnym - o wymiarach 10 cm x 10 cm, sterylny, jałowy, hipoalergiczny, samoprzylepny, włókninowy - każdy opatrunek pakowany pojedynczo w sterylny blister | D33: 1 op. - 30 szt | E33: 60 | H33: =ROUND(F33+F33*G33,2) -> 0 | I33: =F33*E33 -> 0 | J33: =K33-I33 -> 0 | K33: =H33*E33 -> 0
H34: SUMA | I34: =SUM(I7:I33) -> 0 | J34: =SUM(J7:J33) -> 0 | K34: =SUM(K7:K33) -> 0
A36: Oświadczamy, że w cenie oferty uwzględniliśmy wszystkie elementy cenotwórcze wynikające z zakresu i sposobu realizacji przedmiotu zamówienia.
A37: ………………………………………………………………………… (data i podpis Wykonawcy)

Sheet Zadanie 2
A1: Nazwa i adres Wykonawcy……………………………. | I1: Załącznik nr 2 do SWZ
A2: Nr sprawy: 14/SMED/DCZP/2025/P
A3: FORMULARZ CENOWY
A4: Zadanie nr 2
A5: Lp | B5: Nazwa artykułu | C5: Nazwa, nr katalogowy i producent (podać nr strony ulotki i dokumentów rejestrowych w ofercie) | D5: Opakowanie | E5: Szacunkowa wielkość zamówienia na 24 miesiące | F5: Cena jednost. netto | G5: % Vat | H5: Cena jednost. brutto | I5: Wartość netto | J5: Wartość Vat | K5: Wartość brutto
A6: 1 | B6: 2 | C6: 3 | D6: 4 | E6: 5 | F6: 6 | G6: 7 | H6: 8 | I6: 9 | J6: 10 | K6: 11
A7: 1 | B7: Zestaw do cewnikowania: twardy blister 1 komora, strzykawka z wodą jałową z 10% roztworem gliceryny do wypełnienia cewnika -1 szt,, żel do znieczulania błon śluzowych min.6 ml - 1 szt. ,kompresy z gazy 7,5x7,5 - 8 szt. ,tupfer gazowy bez nitki RTG, 17N , 20 cm x20 cm - 6 szt. pojemnik plastikowy - 1 szt., rękawice nitrylowe diagnostyczne bezpudrowe "M" - 2 szt., lubrykant w strzykawce 5-6 ml - 1 szt., serweta chirurgiczna podfoliowana 50 cm x 60 cm 2-warstwowa -1szt., serweta chirurgiczna podfoliowana 50cm x 60 cm z centralnym otworem o śred. 5 cm i rozcięciem - 1 szt., pęseta plastikowa zielona 12,5 cm - 1 szt. chwytak plastikowy ( kocher) - 1 szt., sterylna woda z gliceryną w strzykawce 8-10 ml - 1 szt. | D7: op. | E7: 50 | H7: =ROUND(F7+F7*G7,2) -> 0 | I7: =E7*F7 -> 0 | J7: =K7-I7 -> 0 | K7: =E7*H7 -> 0
A8: 2 | B8: Zestaw do usuwania szwów - tupfer z gazy bez nitki RTG , 17N, 20cm x 20cm - 6 szt., rękawice diagnostyczne bezpudrowe nitrylowe M-2 szt., pęseta plastikowa niebieska 13 cm- 1 szt., ostrze do ściągania szwów dł.11 cm- 1 szt. | D8: op. | E8: 70 | H8: =ROUND(F8+F8*G8,2) -> 0 | I8: =E8*F8 -> 0 | J8: =K8-I8 -> 0 | K8: =E8*H8 -> 0
H9: RAZEM: | I9: =SUM(I7:I8) -> 0 | J9: =SUM(J7:J8) -> 0 | K9: =SUM(K7:K8) -> 0
A12: Oświadczamy, że w cenie oferty uwzględniliśmy wszystkie elementy cenotwórcze wynikające z zakresu i sposobu realizacji przedmiotu zamówienia.
A13: ………………………………………………………………………… (data i podpis Wykonawcy)

Sheet Zadanie 3
A1: Nazwa i adres Wykonawcy……………………………. | I1: Załącznik nr 2 do SWZ
A2: Nr sprawy: 14/SMED/DCZP/2025/P
A3: FORMULARZ CENOWY
A4: Zadanie nr 3
A5: Lp | B5: Nazwa artykułu | C5: Nazwa, nr katalogowy i producent (podać nr strony ulotki i dokumentów rejestrowych w ofercie) | D5: Opakowanie | E5: Szacunkowa wielkość zamówienia na 24 miesiące | F5: Cena jednost. netto | G5: % Vat | H5: Cena jednost. brutto | I5: Wartość netto | J5: Wartość Vat | K5: Wartość brutto
A6: 1 | B6: 2 | C6: 3 | D6: 4 | E6: 5 | F6: 6 | G6: 7 | H6: 8 | I6: 9 | J6: 10 | K6: 11
A7: 1 | B7: Strzykawka jednorazowego użytku,3-częściowa , cewnikowa , sterylna ,o poj.100 ml , z dwoma łącznikami luer, skala trwała, wyraźna i czytelna co 2 ml, bez lateksu, bez ftalanów, kryza ograniczająca przypadkowe wysunięcie tłoka,uszczelnienie podwójnym pierścieniem na korku położonym na szczycie tłoka,płynny przesuw tłoka ,termin ważności 5 lat | D7: 1op -25 sztuk | E7: 4 | H7: =ROUND(F7+F7*G7,2) -> 0 | I7: =E7*F7 -> 0 | J7: =K7-I7 -> 0 | K7: =H7*E7 -> 0
A8: 2 | B8: Strzykawka jednorazowego użytku, niepirogenna, bez lateksu i ftalanów, 3-częściowa,sterylna, poj.10 ml , luer , trwała, wyraźna i czytelna skala co 0,2 ml, tłoczek gumowy z podwójnym uszczelnieniem, płynny przesuw tłoka. Kryza ograniczająca wysuwanie się tłoka, kontrastujący tłok , termin ważności 5 lat | D8: 1op=100 szt | E8: 20 | H8: =ROUND(F8+F8*G8,2) -> 0 | I8: =E8*F8 -> 0 | J8: =K8-I8 -> 0 | K8: =H8*E8 -> 0
A9: 3 | B9: Strzykawka jednorazowego użytku, niepirogenna, bez lateksu i ftalanów, 3-częściowa,sterylna , poj. 2 ml , luer ,trwała, wyraźna i czytelna skala co 0,1 ml, tłoczek gumowy z podwójnym uszczelnieniem,płynny przesuw tłoka. Kryza ograniczająca wysuwanie się tłoka, kontrastujący tłok, tarmin wazności 5 lat | D9: 1op=100 szt | E9: 120 | H9: =ROUND(F9+F9*G9,2) -> 0 | I9: =E9*F9 -> 0 | J9: =K9-I9 -> 0 | K9: =H9*E9 -> 0
A10: 4 | B10: Strzykawka jednorazowego użytku, niepirogenna, bez lateksu i ftalanów, 3-częściowa,sterylna , poj. 20 ml ,luer, trwała, wyraźna i czytelna skala co 0,5 ml, tłoczek gumowy z podwójnym uszczelnieniem, płynny przesuw tłoka. Kryza ograniczająca wysuwanie się tłoka, kontrastujący tłok , termin ważności 5 lat. | D10: 1op= 50szt | E10: 25 | H10: =ROUND(F10+F10*G10,2) -> 0 | I10: =E10*F10 -> 0 | J10: =K10-I10 -> 0 | K10: =H10*E10 -> 0
A11: 5 | B11: Strzykawka jednorazowego użytku, niepirogenna, bez lateksu i ftalanów, 3-częściowa,sterylna , o poj. 5 ml , luer ,trwała, wyraźna i czytelna skala co 0,2 ml, tłoczek gumowy z podwójnym uszczelnieniem , płynny przesuw tłoka. Kryza ograniczająca wysuwanie się tłoka, kontrastujący tłok, termin ważności 5 lat. | D11: 1op=100szt | E11: 120 | H11: =ROUND(F11+F11*G11,2) -> 0 | I11: =E11*F11 -> 0 | J11: =K11-I11 -> 0 | K11: =H11*E11 -> 0
A12: 6 | B12: Igła iniekcyjna, sterylna,j.u. , 0,8 mm x 40 mm, cienkościenna o wysokim współczynniku penetracji , nasadki barwione zgodne z kodem ISO ułatwiające szybkie rozpoznanie rozmiaru,bez lateksu i ftalanów,niepirogenna, niska siła wkłucia i przesuwu, końcówka igły ostrzona w trzech płaszczyznach, okres ważności 5 lat. | D12: 1op = 100 szt | E12: 150 | H12: =ROUND(F12+F12*G12,2) -> 0 | I12: =E12*F12 -> 0 | J12: =K12-I12 -> 0 | K12: =H12*E12 -> 0
A13: 7 | B13: Igła iniekcyjna, sterylna , j.u. 0,9 mm x 40 mm, cienkościenna o wysokim współczynniku penetracji, nasadki barwione zgodne z kodem ISO ułatwiające szybkie rozpoznanie rozmiaru,bez lateksu i ftalanów,niepirogenna, niska siła wkłucia i przesuwu, końcówka igły ostrzona w trzech płaszczyznach, okres ważności 5 lat. | D13: 1op=100 szt | E13: 190 | H13: =ROUND(F13+F13*G13,2) -> 0 | I13: =E13*F13 -> 0 | J13: =K13-I13 -> 0 | K13: =H13*E13 -> 0
A14: 8 | B14: Igła iniekcyjna, sterylna , j.u. 0,6 mm x 40 mm, cienkościenna o wysokim współczynniku penetracji , nasadki barwione zgodne z kodem ISO ułatwiające szybkie rozpoznanie rozmiaru,bez lateksu i ftalanów,niepirogenna, niska siła wkłucia i przesuwu, końcówka igły ostrzona w trzech płaszczyznach, okres ważności 5 lat. | D14: 1op= 100 szt | E14: 10 | H14: =ROUND(F14+F14*G14,2) -> 0 | I14: =E14*F14 -> 0 | J14: =K14-I14 -> 0 | K14: =H14*E14 -> 0
A15: 9 | B15: Igła iniekcyjna, sterylna , j.u. 1,1 mm x 40 mm, cienkościenna o wysokim współczynniku penetracji , nasadki barwione zgodne z kodem ISO ułatwiające szybkie rozpoznanie rozmiaru,bez lateksu i ftalanów,niepirogenna, niska siła wkłucia i przesuwu, końcówka igły ostrzona w trzech płaszczyznach, okres ważności 5 lat. | D15: 1op= 100 szt | E15: 30 | H15: =ROUND(F15+F15*G15,2) -> 0 | I15: =E15*F15 -> 0 | J15: =K15-I15 -> 0 | K15: =H15*E15 -> 0
A16: 10 | B16: Igła iniekcyjna, sterylna, j.u. 1,2 mm x 40 mm, cienkościenna o wysokim współczynniku penetracji, nasadki barwione zgodne z kodem ISO ułatwiające szybkie rozpoznanie rozmiaru,bez lateksu i ftalanów,niepirogenna, niska siła wkłucia i przesuwu, końcówka igły ostrzona w trzech płaszczyznach, okres ważności 5 lat. | D16: 1op= 100 szt | E16: 15 | H16: =ROUND(F16+F16*G16,2) -> 0 | I16: =E16*F16 -> 0 | J16: =K16-I16 -> 0 | K16: =H16*E16 -> 0
A17: 11 | B17: Bezpieczny nakłuwacz automatyczny, jednorazowy, ostrze trójpłaszczyznowe, o dł. Nakłucia min. 1,8 mm oraz igle 21G, bezpieczny dla personelu i pacjenta o konstrukcji eliminującej przypadkowe ukłucie i zakażenie,bez lateksu i ftalanów. | D17: 1op.=100szt | E17: 160 | H17: =ROUND(F17+F17*G17,2) -> 0 | I17: =E17*F17 -> 0 | J17: =K17-I17 -> 0 | K17: =H17*E17 -> 0
A18: 12 | B18: Kaniula dożylna 1,3 x 45 mm, - wykonana z biokompatybilnego termoplastycznego poliuretanu, kontrastująca w RTG ( min 4 paski RTG) posiada filtr hydrofobowy zapobiegający wypływowi krwi w momencie wkłucia oraz samodomykającą się koreczek portu górnego, bez lateksu i ftalanów, sterylna , opakowania- twardy blister | D18: 1op = 100 szt. | E18: 10 | H18: =ROUND(F18+F18*G18,2) -> 0 | I18: =E18*F18 -> 0 | J18: =K18-I18 -> 0 | K18: =H18*E18 -> 0
... A22: 16 | B22: Zamknięty system dostępu naczyniowego bezigłowy, sterylny nie zawierający metalu, DEHP i lateksu. przystosowany do pracy z końcówkami luer lock, obudowa przeźroczysta- port z zastawką silikonową | D22: szt | E22: 350 | H22: =ROUND(F22+F22*G22,2) -> 0 | I22: =E22*F22 -> 0 | J22: =K22-I22 -> 0 | K22: =H22*E22 -> 0
H23: SUMA | I23: =SUM(I7:I22) -> 0 | J23: =SUM(J7:J22) -> 0 | K23: =SUM(K7:K22) -> 0
A24: Oświadczamy, że w cenie oferty uwzględniliśmy wszystkie elementy cenotwórcze wynikające z zakresu i sposobu realizacji przedmiotu zamówienia.
A25: ………………………………………………………………………… (data i podpis Wykonawcy)

Sheet Zadanie 4
A1: Nazwa i adres Wykonawcy……………………………. | I1: Załącznik nr 2 do SWZ
A2: Nr sprawy: 14/SMED/DCZP/2025/P
A3: FORMULARZ CENOWY
A4: Zadanie nr 4
A5: Lp | B5: Nazwa artykułu | C5: Nazwa, nr katalogowy i producent (podać nr strony ulotki i dokumentów rejestrowych w ofercie) | D5: Opakowanie | E5: Szacunkowa wielkość zamówienia na 24 miąsiące | F5: Cena jednost. netto | G5: % Vat | H5: Cena jednost. brutto | I5: Wartość netto | J5: Wartość Vat | K5: Wartość brutto
A6: 1 | B6: 2 | C6: 3 | D6: 4 | E6: 5 | F6: 6 | G6: 7 | H6: 8 | I6: 9 | J6: 10 | K6: 11
A7: 1 | B7: Cewnik urologiczny lateksowy powlekany silikonem Foley 16 Fr balon 5-10 ml z plastikową zastawką pakowany podwójnie- opakowanie wewnętrzne foliowe, zewnętrzne folia-papier | D7: szt | E7: 40 | H7: =ROUND(F7+F7*G7,2) -> 0 | I7: =E7*F7 -> 0 | J7: =K7-I7 -> 0 | K7: =H7*E7 -> 0
A8: 2 | B8: Cewnik urologiczny lateksowy powlekany silikonem Foley 18 Fr balon 5-10 ml z plastikową zastawką pakowany podwójnie- opakowanie wewnętrzne foliowe, zewnętrzne folia-papier | D8: szt | E8: 25 | H8: =ROUND(F8+F8*G8,2) -> 0 | I8: =E8*F8 -> 0 | J8: =K8-I8 -> 0 | K8: =H8*E8 -> 0
A9: 3 | B9: Cewnik urologiczny lateksowy powlekany silikonem Foley 20 Fr balon 5-10 ml z plastikową zastawką pakowany podwójnie- opakowanie wewnętrzne foliowe, zewnętrzne folia-papier | D9: szt | E9: 35 | H9: =ROUND(F9+F9*G9,2) -> 0 | I9: =E9*F9 -> 0 | J9: =K9-I9 -> 0 | K9: =H9*E9 -> 0
A10: 4 | B10: Cewnik urologiczny lateksowy powlekany silikonem Foley 22 Fr balon 5-10 ml z plastikową zastawką pakowany podwójnie- opakowanie wewnętrzne foliowe, zewnętrzne folia-papier | D10: szt | E10: 10 | H10: =ROUND(F10+F10*G10,2) -> 0 | I10: =E10*F10 -> 0 | J10: =K10-I10 -> 0 | K10: =H10*E10 -> 0
A11: 5 | B11: Zatyczki do cewników urologicznych o budowie schodkowej, sterylne | D11: szt | E11: 100 | H11: =ROUND(F11+F11*G11,2) -> 0 | I11: =E11*F11 -> 0 | J11: =K11-I11 -> 0 | K11: =H11*E11 -> 0
A12: 6 | B12: Żel cewnikowy do znieczulania błon śluzowych, o poj. min 10 ml | D12: szt | E12: 35 | H12: =ROUND(F12+F12*G12,2) -> 0 | I12: =E12*F12 -> 0 | J12: =K12-I12 -> 0 | K12: =H12*E12 -> 0
A13: 7 | B13: Cewnik do odsysania mully CH rozm 12, | D13: 1 op - 10 szt | E13: 40 | H13: =ROUND(F13+F13*G13,2) -> 0 | I13: =E13*F13 -> 0 | J13: =K13-I13 -> 0 | K13: =H13*E13 -> 0
A14: 8 | B14: Cewnik do odsysania mully CH rozm 14, | D14: 1 op - 10 szt | E14: 40 | H14: =ROUND(F14+F14*G14,2) -> 0 | I14: =E14*F14 -> 0 | J14: =K14-I14 -> 0 | K14: =H14*E14 -> 0
A15: 9 | B15: Cewnik do odsysania mully CH rozm 16, | D15: 1 op - 10 szt | E15: 30 | H15: =ROUND(F15+F15*G15,2) -> 0 | I15: =E15*F15 -> 0 | J15: =K15-I15 -> 0 | K15: =H15*E15 -> 0
A16: 10 | B16: Cewnik do odsysania mully CH rozm 18, | D16: 1 op - 10 szt | E16: 10 | H16: =ROUND(F16+F16*G16,2) -> 0 | I16: =E16*F16 -> 0 | J16: =K16-I16 -> 0 | K16: =H16*E16 -> 0
A17: 11 | B17: Dren z łącznikiem pasujący do ssaka New Askir 20, pakwany pojedyńczo, sterylny | D17: szt. | E17: 100 | H17: =ROUND(F17+F17*G17,2) -> 0 | I17: =E17*F17 -> 0 | J17: =K17-I17 -> 0 | K17: =H17*E17 -> 0
A18: 12 | B18: Wkład jednorazowy do ssaka New Askir 20 - pojemność 1L; jednorazowy miękki wkład wykonany z polietylenu, zgrzany hermetycznie do sztywnej pokrywy, wewnątrz której umieszczony jest filtr hydrofobowo - antybakteryjny, który działa również jako system antyprzelewowy. | D18: szt. | E18: 150 | H18: =ROUND(F18+F18*G18,2) -> 0 | I18: =E18*F18 -> 0 | J18: =K18-I18 -> 0 | K18: =H18*E18 -> 0
A19: 13 | B19: Filtr antybakteryjny do ssaka New Askir 20; antybakteryjny filtr do ssaków zapewnia filtrację bakteryjno - wirusową. | D19: szt. | E19: 20 | H19: =ROUND(F19+F19*G19,2) -> 0 | I19: =E19*F19 -> 0 | J19: =K19-I19 -> 0 | K19: =H19*E19 -> 0
H20: SUMA | I20: =SUM(I7:I19) -> 0 | J20: =SUM(J7:J19) -> 0 | K20: =SUM(K7:K19) -> 0
A22: Oświadczamy, że w cenie oferty uwzględniliśmy wszystkie elementy cenotwórcze wynikające z zakresu i sposobu realizacji przedmiotu zamówienia.
A23: ………………………………………………………………………… (data i podpis Wykonawcy)

Sheet Zadanie 5
A1: Nazwa i adres Wykonawcy……………………………. | I1: Załącznik nr 2 do SWZ
A2: Nr sprawy: 14/SMED/DCZP/2025/P
A3: FORMULARZ CENOWY
A4: Zadanie nr 5
A5: Lp | B5: Nazwa artykułu | C5: Nazwa, nr katalogowy i producent (podać nr strony ulotki i dokumentów rejestrowych w ofercie) | D5: Opakowanie | E5: Szacunkowa wielkość zamówienia na 24 miesiące | F5: Cena jednost. netto | G5: % Vat | H5: Cena jednost. brutto | I5: Wartość netto | J5: Wartość Vat | K5: Wartość brutto
A6: 1 | B6: 2 | C6: 3 | D6: 4 | E6: 5 | F6: 6 | G6: 7 | H6: 8 | I6: 9 | J6: 10 | K6: 11
A7: 1 | B7: Jednorazowy basen tekturowy. Kompatybily z pozycją nr 2. | D7: szt. | E7: 150 | H7: =ROUND(F7*G7+F7,2) -> 0 | I7: =E7*F7 -> 0 | J7: =K7-I7 -> 0 | K7: =H7*E7 -> 0
A8: 2 | B8: Pokrywka do basenu tekturowego. Kompatybilna z pozycją nr 1. | D8: szt. | E8: 150 | H8: =ROUND(F8*G8+F8,2) -> 0 | I8: =E8*F8 -> 0 | J8: =K8-I8 -> 0 | K8: =H8*E8 -> 0
A9: 3 | B9: Miska tekturowa do mycia, o wym. Min. 315x255x110mm | D9: szt. | E9: 50 | H9: =ROUND(F9*G9+F9,2) -> 0 | I9: =E9*F9 -> 0 | J9: =K9-I9 -> 0 | K9: =H9*E9 -> 0
A10: 4 | B10: Kaczka j.u. o poj w przedziale 875ml - 1 litr, tekturowa, jednorazowa | D10: szt. | E10: 300 | H10: =ROUND(F10*G10+F10,2) -> 0 | I10: =E10*F10 -> 0 | J10: =K10-I10 -> 0 | K10: =H10*E10 -> 0
A11: 5 | B11: Kieliszki do leków, plastikowe | D11: op = 90szt | E11: 5500 | H11: =ROUND(F11*G11+F11,2) -> 0 | I11: =E11*F11 -> 0 | J11: =K11-I11 -> 0 | K11: =H11*E11 -> 0
A12: 6 | B12: Chusta włókninowa lub bawełniania, w kształcie trójkąta, kolor: biała o wym. min.96cmx96cmx136cm | D12: szt. | E12: 35 | H12: =ROUND(F12*G12+F12,2) -> 0 | I12: =E12*F12 -> 0 | J12: =K12-I12 -> 0 | K12: =H12*E12 -> 0
A13: 7 | B13: Koc ratunkowy foliowy, kolor srebrno - złoty, o wym. min. 160cmx210cm | D13: szt. | E13: 50 | H13: =ROUND(F13*G13+F13,2) -> 0 | I13: =E13*F13 -> 0 | J13: =K13-I13 -> 0 | K13: =H13*E13 -> 0
A14: 8 | B14: Okulary ochronne | D14: szt. | E14: 50 | H14: =ROUND(F14*G14+F14,2) -> 0 | I14: =E14*F14 -> 0 | J14: =K14-I14 -> 0 | K14: =H14*E14 -> 0
A15: 9 | B15: pęsety j. u. sterylne | D15: szt. | E15: 30 | H15: =ROUND(F15*G15+F15,2) -> 0 | I15: =E15*F15 -> 0 | J15: =K15-I15 -> 0 | K15: =H15*E15 -> 0
A16: 10 | B16: Pojemnik na odpady 0,7 L, kolor: czerwony, z możliwością szczelnego zamknięcia; odporny na pęknięcia i odkształcenia, a nawet na przekłucia znajdujących się w środku igieł; uniemożliwia wydostanie się odpadów na zewnątrz; Pokrywa wyposażona w rozetkowy otwór wrzutowy; Spełnia wymagania norm: ASTM F2132-01 (odporność na przebicie) oraz PN-EN ISO 175 (odporność na zanurzenie w ciekłych chemikaliach) | D16: szt | E16: 800 | H16: =ROUND(F16*G16+F16,2) -> 0 | I16: =E16*F16 -> 0 | J16: =K16-I16 -> 0 | K16: =H16*E16 -> 0
A17: 11 | B17: Pojemnik na odpady 10,0 L, kolor: czerwony, z możliwością szczelnego zamknięcia; odporny na pęknięcia i odkształcenia, a nawet na przekłucia znajdujących się w środku igieł; uniemożliwia wydostanie się odpadów na zewnątrz; Pokrywa wyposażona w rozetkowy otwór wrzutowy; Spełnia wymagania norm: ASTM F2132-01 (odporność na przebicie) oraz PN-EN ISO 175 (odporność na zanurzenie w ciekłych chemikaliach) | D17: szt. | E17: 50 | H17: =ROUND(F17*G17+F17,2) -> 0 | I17: =E17*F17 -> 0 | J17: =K17-I17 -> 0 | K17: =H17*E17 -> 0
A18: 12 | B18: Pojemnik na odpady 2,0 L, kolor: czerwony, z możliwością szczelnego zamknięcia; odporny na pęknięcia i odkształcenia, a nawet na przekłucia znajdujących się w środku igieł; uniemożliwia wydostanie się odpadów na zewnątrz; Pokrywa wyposażona w rozetkowy otwór wrzutowy; Spełnia wymagania norm: ASTM F2132-01 (odporność na przebicie) oraz PN-EN ISO 175 (odporność na zanurzenie w ciekłych chemikaliach) | D18: szt | E18: 2100 | H18: =ROUND(F18*G18+F18,2) -> 0 | I18: =E18*F18 -> 0 | J18: =K18-I18 -> 0 | K18: =H18*E18 -> 0
... A30: 24 | B30: Worek do zbiórki moczu zamkniety typ SE -4 | D30: szt | E30: 150 | H30: =ROUND(F30*G30+F30,2) -> 0 | I30: =E30*F30 -> 0 | J30: =K30-I30 -> 0 | K30: =H30*E30 -> 0
H31: SUMA | I31: =SUM(I7:I30) -> 0 | J31: =SUM(J7:J30) -> 0 | K31: =SUM(K7:K30) -> 0
A33: Oświadczamy, że w cenie oferty uwzględniliśmy wszystkie elementy cenotwórcze wynikające z zakresu i sposobu realizacji przedmiotu zamówienia.
A34: ………………………………………………………………………… (data i podpis Wykonawcy)

Sheet Zadanie 6
A1: Nazwa i adres Wykonawcy……………………………. | I1: Załącznik nr 2 do SWZ
A2: Nr sprawy: 14/SMED/DCZP/2025/P
A3: FORMULARZ CENOWY
A4: Zadanie nr 6
A5: Lp | B5: Nazwa artykułu | C5: Nazwa, nr katalogowy i producent (podać nr strony ulotki i dokumentów rejestrowych w ofercie) | D5: Opakowanie | E5: Szacunkowa wielkość zamówienia na 24 miesiące | F5: Cena jednost. netto | G5: % Vat | H5: Cena jednost. brutto | I5: Wartość netto | J5: Wartość Vat | K5: Wartość brutto
A6: 1 | B6: 2 | C6: 3 | D6: 4 | E6: 5 | F6: 6 | G6: 7 | H6: 8 | I6: 9 | J6: 10 | K6: 11
A7: 1 | B7: Papier do EKG do aparatu AsCard, termoaktywny niewoskowany z nadrukiem, siatka milimetrowa kolor pomarańczowy szerokość rolki 112 mm, średnica rolki 25 mm, | D7: rolka | E7: 200 | H7: =ROUND(F7+F7*G7,2) -> 0 | I7: =E7*F7 -> 0 | J7: =K7-I7 -> 0 | K7: =H7*E7 -> 0
A8: 2 | B8: ŻELOWE ELEKTRODY EKG ROZ, OKR 43MM X 50 SZT. | D8: 1 op. = 50szt. | E8: 30 | H8: =ROUND(F8+F8*G8,2) -> 0 | I8: =E8*F8 -> 0 | J8: =K8-I8 -> 0 | K8: =H8*E8 -> 0
A9: 3 | B9: Żel do EKG | D9: 1 op = 250 ml | E9: 45 | H9: =ROUND(F9+F9*G9,2) -> 0 | I9: =E9*F9 -> 0 | J9: =K9-I9 -> 0 | K9: =H9*E9 -> 0
H10: SUMA | I10: =SUM(I7:I9) -> 0 | J10: =SUM(J7:J9) -> 0 | K10: =SUM(K7:K9) -> 0
B12: Oświadczamy, że w cenie oferty uwzględniliśmy wszystkie elementy cenotwórcze wynikające z zakresu i sposobu realizacji przedmiotu zamówienia.
B13: ………………………………………………………………………… (data i podpis Wykonawcy)

Sheet Zadanie 7
A1: Nazwa i adres Wykonawcy……………………………. | I1: Załącznik nr 2 do SWZ
A2: Nr sprawy: 14/SMED/DCZP/2025/P
A3: FORMULARZ CENOWY
A4: Zadanie nr 7
A5: Lp | B5: Nazwa artykułu | C5: Nazwa, nr katalogowy i producent (podać nr strony ulotki i dokumentów rejestrowych w ofercie) | D5: Opakowanie | E5: Szacunkowa wielkość zamówienia na 24 miesiące | F5: Cena jednost. netto | G5: % Vat | H5: Cena jednost. brutto | I5: Wartość netto | J5: Wartość Vat | K5: Wartość brutto
A6: 1 | B6: 2 | C6: 3 | D6: 4 | E6: 5 | F6: 6 | G6: 7 | H6: 8 | I6: 9 | J6: 10 | K6: 11
A7: 1 | B7: Pieluchomajtki dla dorosłych o podwyższonej chłonności, paroprzepuszczalne na całej powierzchni wyrobu chłonnego, elastyczne ściągacze w kroczu i falbanki przeciwwyciekowe, bez elementów lateksowych,możliwość wielokrotnego zamykania i otwierania pieluchy, minimalna chłonność wyrobu według metody ISO - 3100ml dla rozmiaru XL, obwód bioder: 130-170cm | D7: 1 op.=30szt. | E7: 150 | H7: =ROUND(F7+F7*G7,2) -> 0 | I7: =E7*F7 -> 0 | J7: =K7-I7 -> 0 | K7: =E7*H7 -> 0
A8: 2 | B8: Pieluchomajtki dla dorosłych o podwyższonej chłonności, paroprzepuszczalne na całej powierzchni wyrobu chłonnego, elastyczne ściągacze w kroczu i falbanki przeciwwyciekowe skierowane na zewnątrz, bez elementów lateksowych, możliwość wielokrotnego zamykania i otwierania pieluchy, minimalna chłonność wyrobu według metody ISO - 3100g dla rozmiaru L, obwód bioder: 100- 150cm | D8: 1 op.=30szt. | E8: 90 | H8: =ROUND(F8+F8*G8,2) -> 0 | I8: =E8*F8 -> 0 | J8: =K8-I8 -> 0 | K8: =E8*H8 -> 0
A9: 3 | B9: Pieluchomajtki dla dorosłych o podwyższonej chłonności, paroprzepuszczalne na całej powierzchni wyrobu chłonnego, elastyczne ściągacze w kroczu i falbanki przeciwwyciekowe, bez elementów lateksowych, możliwość wielokrotnego zamykania i otwierania pieluchy, minimalna chłonność wyrobu według metody ISO - 2800g dla rozmiaru M, obwód bioder: 75-110cm | D9: 1 op.=30szt. | E9: 150 | H9: =ROUND(F9+F9*G9,2) -> 0 | I9: =E9*F9 -> 0 | J9: =K9-I9 -> 0 | K9: =E9*H9 -> 0
A10: 4 | B10: Pieluchomajtki dla dorosłych rozm. S - oddychające, wewnętrzne falbanki boczne, zapobiegające wyciekom, minimalna chłonność: wg metody ISO dla rozmiaru S - 1500g, op. 30 szt. | D10: 1 op. = 30 szt. | E10: 70 | H10: =ROUND(F10+F10*G10,2) -> 0 | I10: =E10*F10 -> 0 | J10: =K10-I10 -> 0 | K10: =E10*H10 -> 0
A11: 5 | B11: Pieluchomajtki dla dorosłych rozm. M - oddychające, wewnętrzne falbanki boczne, zapobiegające wyciekom, minimalna chłonność: wg metody ISO dla rozmiaru M - 2200g, op. 30 szt | D11: 1 op. = 30 szt. | E11: 60 | H11: =ROUND(F11+F11*G11,2) -> 0 | I11: =E11*F11 -> 0 | J11: =K11-I11 -> 0 | K11: =E11*H11 -> 0
A12: 6 | B12: Pieluchomajtki dla dorosłych rozm. L - oddychające, wewnętrzne falbanki boczne, zapobiegające wyciekom, minimalna chłonność: wg metody ISO dla rozmiaru L - 2500g, op. 30 szt | D12: 1 op. = 30szt. | E12: 120 | H12: =ROUND(F12+F12*G12,2) -> 0 | I12: =E12*F12 -> 0 | J12: =K12-I12 -> 0 | K12: =E12*H12 -> 0
A13: 7 | B13: Pieluchomajtki dla dorosłych rozm. XL - oddychające, wewnętrzne falbanki boczne, zapobiegające wyciekom, minimalna chłonność: wg metody ISO dla rozmiaru XL - 2500 g, op. 30 szt | D13: 1 op.=30szt. | E13: 50 | H13: =ROUND(F13+F13*G13,2) -> 0 | I13: =E13*F13 -> 0 | J13: =K13-I13 -> 0 | K13: =E13*H13 -> 0
A14: 8 | B14: Podpaski higieniczne, anatomiczny kształt, chłonne min. na 3/5, bez osłonek bocznych, grubość 7 mm | D14: 1 op = 10szt. | E14: 350 | H14: =ROUND(F14+F14*G14,2) -> 0 | I14: =E14*F14 -> 0 | J14: =K14-I14 -> 0 | K14: =E14*H14 -> 0
A15: 9 | B15: Lignina, opakowanie 1kg, wymiary 40x60 cm | D15: 1 op. = 1 kg | E15: 100 | H15: =ROUND(F15+F15*G15,2) -> 0 | I15: =E15*F15 -> 0 | J15: =K15-I15 -> 0 | K15: =E15*H15 -> 0
A16: 10 | B16: podkład higieniczny o rozmiarze 90cmx60cm, chłonny, nieprzemakalny, jednorazowego użytku, Posiada wkład chłonny z pulpy celulozowej Materiał: folia zabezpieczająca, włóknina, | D16: 1 op.=30szt. | E16: 200 | H16: =ROUND(F16+F16*G16,2) -> 0 | I16: =E16*F16 -> 0 | J16: =K16-I16 -> 0 | K16: =E16*H16 -> 0
H17: SUMA | I17: =SUM(I7:I16) -> 0 | J17: =SUM(J7:J16) -> 0 | K17: =SUM(K7:K16) -> 0
A18: Oświadczamy, że w cenie oferty uwzględniliśmy wszystkie elementy cenotwórcze wynikające z zakresu i sposobu realizacji przedmiotu zamówienia.
A19: ………………………………………………………………………… (data i podpis Wykonawcy)

Sheet Zadanie 8
A1: Nazwa i adres Wykonawcy……………………………. | I1: Załącznik nr 2 do SWZ
A2: Nr sprawy: 14/SMED/DCZP/2025/P
A3: FORMULARZ CENOWY
A4: Zadanie nr 8
A5: Lp | B5: Nazwa artykułu | C5: Nazwa, nr katalogowy i producent (podać nr strony ulotki i dokumentów rejestrowych w ofercie) | D5: Opakowanie | E5: Szacunkowa wielkość zamówienia na 24 miesiące | F5: Cena jednost. netto | G5: % Vat | H5: Cena jednost. brutto | I5: Wartość netto | J5: Wartość Vat | K5: Wartość brutto
A6: 1 | B6: 2 | C6: 3 | D6: 4 | E6: 5 | F6: 6 | G6: 7 | H6: 8 | I6: 9 | J6: 10 | K6: 11
A7: 1 | B7: Ustniki do alkomatu AlcoSensor IV; pakowane po min. 250 szt. | D7: 1op -250 szt | E7: 55 | H7: =ROUND(F7+F7*G7,2) -> 0 | I7: =E7*F7 -> 0 | J7: =K7-I7 -> 0 | K7: =H7*E7 -> 0
A8: 2 | B8: Ustniki do alkomatu ALKOHIT X100; pakowane po 100szt | D8: op - 100 szt | E8: 3 | H8: =ROUND(F8+F8*G8,2) -> 0 | I8: =E8*F8 -> 0 | J8: =K8-I8 -> 0 | K8: =H8*E8 -> 0
H9: SUMA | I9: =SUM(I7:I8) -> 0 | J9: =SUM(J7:J8) -> 0 | K9: =SUM(K7:K8) -> 0
A11: Oświadczamy, że w cenie oferty uwzględniliśmy wszystkie elementy cenotwórcze wynikające z zakresu i sposobu realizacji przedmiotu zamówienia.
A12: ………………………………………………………………………… (data i podpis Wykonawcy)

Sheet Zadanie 9
A1: Nazwa i adres Wykonawcy……………………………. | I1: Załącznik nr 2 do SWZ
A2: Nr sprawy: 14/SMED/DCZP/2025/P
A3: FORMULARZ CENOWY
A4: Zadanie nr 9
A5: Lp | B5: Nazwa artykułu | C5: Nazwa, nr katalogowy i producent (podać nr strony ulotki i dokumentów rejestrowych w ofercie) | D5: Opakowanie | E5: Szacunkowa wielkość zamówienia na 24 miesiące | F5: Cena jednost. netto | G5: % Vat | H5: Cena jednost. brutto | I5: Wartość netto | J5: Wartość Vat | K5: Wartość brutto
A6: 1 | B6: 2 | C6: 3 | D6: 4 | E6: 5 | F6: 6 | G6: 7 | H6: 8 | I6: 9 | J6: 10 | K6: 11
A7: 1 | B7: Rurka ustno-gardłowa typu guedel utrzymująca drożność ustnej części gardła, charakterystyczne anatomiczne wygięcie rurki, rozmiary kodowane kolorami, jednorazowa, sterylna o rozmiarach : 3, 4 ,5 | D7: szt | E7: 100 | H7: =ROUND(F7*G7+F7,2) -> 0 | I7: =E7*F7 -> 0 | J7: =K7-I7 -> 0 | K7: =H7*E7 -> 0
A8: 2 | B8: Sonda - zgłębnik żołądkowy wykonana z miękkiego PCV, odporny na załamania i skręcania, atraumatyczna, lekko zaokrąglona zamknięta końcówka, cztery otwory boczne o łagodnych krawedziach, kolorystyczny kod rozmiarowy, rozmiar CH 16, 18, 20, 22, 24; dł. 80 cm | D8: szt | E8: 25 | H8: =ROUND(F8*G8+F8,2) -> 0 | I8: =E8*F8 -> 0 | J8: =K8-I8 -> 0 | K8: =H8*E8 -> 0
A9: 3 | B9: Zgłębnik z prowadnicą oraz łącznikiem - do żywienia dożołądkowego lub dojelitowego; wykonany z miękkiego poliuretanu, elementy zgłębnika nie zawierają DEHP i lateksu, przewód posiada centymetrową podziałkę, co ułatwia mierzenie głębokości wprowadzania zgłębnika oraz linie kontrastujące w promieniach RTG; produkt sterylny; prowadnica umożliwiająca wprowadzenie zgłębnika do przewodu pokarmowego; końcówka zgłebnika z dwoma bocznymi otworami oraz otworem kończącym przewód zgłębnika; oznaczony znakiem CE; sterylizowany tlenkiem etylenu; Port żywieniowy z łącznikiem umożliwiający połączenie z zestawem do żywienia lub/i strzykawką; Rozmiary: Ch8 - długość 110cm; Ch10 - długość 110 cm; Ch12 - długość 110 cm; Ch14 - długość 110cm; kompatybilny z pozycją 4 i 5 | D9: szt. | E9: 15 | H9: =ROUND(F9*G9+F9,2) -> 0 | I9: =E9*F9 -> 0 | J9: =K9-I9 -> 0 | K9: =H9*E9 -> 0
A10: 4 | B10: Strzykawka do obsługi żywienia drogą przewodu pokarmowego; pojemność: 60ml; wyrób medyczny; sterylna; pakowana pojedyńczo; kompatybilna z pozycją 3 | D10: szt. | E10: 100 | H10: =ROUND(F10*G10+F10,2) -> 0 | I10: =E10*F10 -> 0 | J10: =K10-I10 -> 0 | K10: =H10*E10 -> 0
H11: SUMA | I11: =SUM(I7:I10) -> 0 | J11: =SUM(J7:J10) -> 0 | K11: =SUM(K7:K10) -> 0
A13: Oświadczamy, że w cenie oferty uwzględniliśmy wszystkie elementy cenotwórcze wynikające z zakresu i sposobu realizacji przedmiotu zamówienia.
A14: ………………………………………………………………………… (data i podpis Wykonawcy)

Sheet Zadanie 10
A1: Nazwa i adres Wykonawcy……………………………. | I1: Załącznik nr 2 do SWZ
A2: Nr sprawy: 14/SMED/DCZP/2025/P
A3: FORMULARZ CENOWY
A4: Zadanie nr 10
A5: Lp | B5: Nazwa artykułu | C5: Nazwa, nr katalogowy i producent (podać nr strony ulotki i dokumentów rejestrowych w ofercie) | D5: Opakowanie | E5: Szacunkowa wielkość zamówienia na 24 miesiące | F5: Cena jednost. netto | G5: % Vat | H5: Cena jednost. brutto | I5: Wartość netto | J5: Wartość Vat | K5: Wartość brutto
A6: 1 | B6: 2 | C6: 3 | D6: 4 | E6: 5 | F6: 6 | G6: 7 | H6: 8 | I6: 9 | J6: 10 | K6: 11
A7: 1 | B7: Resuscytator silikonowy Ambu wielorazowego użytku dla dorosłych, z zaworem zwrotnym (jednostronnym). Maksymalna objętość wtłaczania: jednoręcznie: 800 ml; oburęcznie: 1100ml, Łącznik pacjenta: 15/22 mm, Łącznik wydechowy: 30 mm Obszar nieaktywny: <6 ml; Maksymalne ciśnienie wtłaczania: 4.0 kPa , Objętość worka: 2600 ml; kompatybilny z pozycją 3, 4, 5 i 6 | D7: szt. | E7: 15 | H7: =ROUND(F7+F7*G7,2) -> 0 | I7: =E7*F7 -> 0 | J7: =K7-I7 -> 0 | K7: =E7*H7 -> 0
A8: 2 | B8: Resuscytator Ambu jednorazowego użytku dla dorosłych, przeznaczony do prowadzenia wentylacji pacjenta. Resuscytator PCV posiada zawór bezpieczeństwa, który ogranicza ciśnienie do 60 mbar dla dorosłych. Jednorazowy resuscytator nie zawiera lateksu, dzięki czemu jest idealny dla pacjentów z alergią. Produkt jednorazowego użytku. Zestaw zawiera: resuscytator PVC o objętości 1650 ml, worek samorozprężalny z zastawką bezpieczeństwa maska silikonowa nr 5 rezerwuar tlenu 2000 ml zawór ciśnieniowy 60 cm H2O przewód tlenowy 2,1 m | D8: szt. | E8: 25 | H8: =ROUND(F8+F8*G8,2) -> 0 | I8: =E8*F8 -> 0 | J8: =K8-I8 -> 0 | K8: =E8*H8 -> 0
A9: 3 | B9: Maski anestetyczne dla dorosłych; rozmiary: 3; Wyrób przeznaczony do przesyłania mieszaniny gazów w połączeniu z urządzeniami do sztucznej wentylacji; Właściwości produktu: ukształtowane zgodnie z budową anatomiczną twarzy, pompowany mankiet, zapewniający doskonałą szczelność maski przy minimalnym nacisku, przeźroczyste sklepienie, kolorystyczne pierścienie mocujące - ozaczające poszczególne rozmiary masek; pozbawione lateksów oraz ftalanów; jednorazowe, sterylne, pakowane pojedyńczo; Kompatybilne z pozycją 1 i 6 | D9: szt. | E9: 100 | H9: =ROUND(F9+F9*G9,2) -> 0 | I9: =E9*F9 -> 0 | J9: =K9-I9 -> 0 | K9: =E9*H9 -> 0
A10: 4 | B10: Maski anestetyczne dla dorosłych; rozmiary: 4,; Wyrób przeznaczony do przesyłania mieszaniny gazów w połączeniu z urządzeniami do sztucznej wentylacji; Właściwości produktu: ukształtowane zgodnie z budową anatomiczną twarzy, pompowany mankiet, zapewniający doskonałą szczelność maski przy minimalnym nacisku, przeźroczyste sklepienie, kolorystyczne pierścienie mocujące - ozaczające poszczególne rozmiary masek; pozbawione lateksów oraz ftalanów; jednorazowe, sterylne, pakowane pojedyńczo; Kompatybilne z pozycją 1 i 6 | D10: szt. | E10: 100 | H10: =ROUND(F10+F10*G10,2) -> 0 | I10: =E10*F10 -> 0 | J10: =K10-I10 -> 0 | K10: =E10*H10 -> 0
A11: 5 | B11: Maski anestetyczne dla dorosłych; rozmiary: 5; Wyrób przeznaczony do przesyłania mieszaniny gazów w połączeniu z urządzeniami do sztucznej wentylacji; Właściwości produktu: ukształtowane zgodnie z budową anatomiczną twarzy, pompowany mankiet, zapewniający doskonałą szczelność maski przy minimalnym nacisku, przeźroczyste sklepienie, kolorystyczne pierścienie mocujące - ozaczające poszczególne rozmiary masek; pozbawione lateksów oraz ftalanów; jednorazowe, sterylne, pakowane pojedyńczo; Kompatybilne z pozycją 1 i 6 | D11: szt. | E11: 100 | H11: =ROUND(F11+F11*G11,2) -> 0 | I11: =E11*F11 -> 0 | J11: =K11-I11 -> 0 | K11: =E11*H11 -> 0
A12: 6 | B12: Filtr antybakteryjny - przeciwwirusowy do worka samorozprężalnego tzw. ambu; Zalecana objętośc oddechowa od 150 ml do 1500 ml z łącznikiem na reduktor/ dozownik; kompatybilny z pozycją 1,3,4, 5 | D12: szt. | E12: 100 | H12: =ROUND(F12+F12*G12,2) -> 0 | I12: =E12*F12 -> 0 | J12: =K12-I12 -> 0 | K12: =E12*H12 -> 0
A13: 7 | B13: Jednorazowe pojemniki do reduktorów tlenowych z wodą sterylną o pojemności min. 350 ml maks. 500 ml z łącznikiem na reduktor/dozownik | D13: szt. | E13: 100 | H13: =ROUND(F13+F13*G13,2) -> 0 | I13: =E13*F13 -> 0 | J13: =K13-I13 -> 0 | K13: =E13*H13 -> 0
H14: SUMA | I14: =SUM(I7:I13) -> 0 | J14: =SUM(J7:J13) -> 0 | K14: =SUM(K7:K13) -> 0
A15: Oświadczamy, że w cenie oferty uwzględniliśmy wszystkie elementy cenotwórcze wynikające z zakresu i sposobu realizacji przedmiotu zamówienia.
A16: ………………………………………………………………………… (data i podpis Wykonawcy)

Sheet Zadanie 11
A1: Nazwa i adres Wykonawcy……………………………. | I1: Załącznik nr 2 do SWZ
A2: Nr sprawy: 14/SMED/DCZP/2025/P
A3: FORMULARZ CENOWY
A4: Zadanie nr 11
A5: Lp | B5: Nazwa artykułu | C5: Nazwa, nr katalogowy i producent (podać nr strony ulotki i dokumentów rejestrowych w ofercie) | D5: Opakowanie | E5: Szacunkowa wielkość zamówienia na 24 miesiące | F5: Cena jednost. netto | G5: % Vat | H5: Cena jednost. brutto | I5: Wartość netto | J5: Wartość Vat | K5: Wartość brutto
A6: 1 | B6: 2 | C6: 3 | D6: 4 | E6: 5 | F6: 6 | G6: 7 | H6: 8 | I6: 9 | J6: 10 | K6: 11
A7: 1 | B7: Plaster poiniekcyjny, uciskowy ze spongostanem o wym. 3,8 cm x 7,2 cm, samoprzylepne, z absorbującą poduszeczkę (spongostan). W kolorze skóry. Sterylny z wkładem chłonnym, | D7: 1op. - 50szt. | E7: 25 | H7: =ROUND(F7+F7*G7,2) -> 0 | I7: =E7*F7 -> 0 | J7: =K7-I7 -> 0 | K7: =E7*H7 -> 0
H8: SUMA | I8: =SUM(I7:I7) -> 0 | J8: =SUM(J7:J7) -> 0 | K8: =SUM(K7:K7) -> 0
A9: Oświadczamy, że w cenie oferty uwzględniliśmy wszystkie elementy cenotwórcze wynikające z zakresu i sposobu realizacji przedmiotu zamówienia.
A10: ………………………………………………………………………… (data i podpis Wykonawcy)

Sheet Wartość
A2: Zadanie | B2: wartość netto | C2: wartośc brutto
A3: 1 | B3: ='Zadanie 1'!I34 -> 0 | C3: ='Zadanie 1'!K34 -> 0
A4: 2 | B4: ='Zadanie 2'!I9 -> 0 | C4: ='Zadanie 2'!K9 -> 0
A5: 3 | B5: ='Zadanie 3'!I23 -> 0 | C5: ='Zadanie 3'!K23 -> 0
A6: 4 | B6: ='Zadanie 4'!I20 -> 0 | C6: ='Zadanie 4'!K20 -> 0
A7: 5 | B7: ='Zadanie 5'!I31 -> 0 | C7: ='Zadanie 5'!K31 -> 0
A8: 6 | B8: ='Zadanie 6'!I10 -> 0 | C8: ='Zadanie 6'!K10 -> 0
A9: 7 | B9: ='Zadanie 7'!I17 -> 0 | C9: ='Zadanie 7'!K17 -> 0
A10: 8 | B10: ='Zadanie 8'!I9 -> 0 | C10: ='Zadanie 8'!K9 -> 0
A11: 9 | B11: ='Zadanie 9'!I11 -> 0 | C11: ='Zadanie 9'!K11 -> 0
A12: 10 | B12: ='Zadanie 10'!I14 -> 0 | C12: ='Zadanie 10'!K14 -> 0
A13: 11 | B13: ='Zadanie 11'!I8 -> 0 | C13: ='Zadanie 11'!K8 -> 0
A14: RAZEM | B14: =SUM(B3:B13) -> 0 | C14: =SUM(C3:C13) -> 0
