Workbook

Sheet Zadanie nr 1
A1: Nazwa i adres Wykonawcy…………………………….. | I1: Załącznik nr 2 do SWZ
A3: Nr sprawy: 11/WYP/DCZP/2025/P
A4: Formularz cenowy
A5: Zadanie nr 1*
A6: Lp | B6: Nazwa artykułu | C6: j.m | D6: Ilość | E6: Rysunek poglądowy | F6: Cena jednost. netto | G6: % Vat | H6: Cena jednost. brutto | I6: Wartość netto | J6: Wartość Vat | K6: Wartość brutto
A7: 1 | B7: 2 | C7: 3 | D7: 4 | E7: 5 | F7: 6 | G7: 7 | H7: 8 | I7: 9 | J7: 10 | K7: 11
A8: 1 | B8: Fotel biurowy: ergonomiczny,z regulowanymi podłokietnikam oraz regulacją wysokości siedziska, kolor czarny; profilowane oparcie; fotel wyposażony w podstawę jezdną z kółkami wykonaną z metalu; kółka nie rysujące podłogi lub do powierzchni twardych (panele, kafle); Materiał: tkanina membranowa (siedzisko) oraz siatka (oparcie) | C8: szt. | D8: 9 | H8: =ROUND(F8+F8*G8,2) -> 0 | I8: =D8*F8 -> 0 | J8: =K8-I8 -> 0 | K8: =D8*H8 -> 0
A9: 2 | B9: Krzesło plastikowe składane Materiały Noga tylna/rama tylna/ Noga frontowa/ Rama siedziska/ Kołek/ Ramię zawiasu: stal, Epoksydowa powłoka proszkowa Siedzisko/ Tył/ Stopa: Tworzywo polipropylenowe Kolor czarny lub szary | C9: szt. | D9: 6 | H9: =ROUND(F9+F9*G9,2) -> 0 | I9: =D9*F9 -> 0 | J9: =K9-I9 -> 0 | K9: =D9*H9 -> 0
A10: 3 | B10: Regał metalowy z półkami o wymiarach: wys. 180cm, szer. 80 cm gł.35 cm ; ( +/- 2cm); 5 półek z płyty MDF, możliwośc regulacji wysokości półek; nogi regału zakończone plastikowymi końcówkami; nośność półki min. 150 kg; powierzchnia elementów metalowych wykończona za pomocą lakieru proszkowego; | C10: szt. | D10: 3 | H10: =ROUND(F10+F10*G10,2) -> 0 | I10: =D10*F10 -> 0 | J10: =K10-I10 -> 0 | K10: =D10*H10 -> 0
H11: RAZEM | I11: =SUM(I8:I10) -> 0 | J11: =SUM(J8:J10) -> 0 | K11: =SUM(K8:K10) -> 0
A13: Oświadczamy, że w cenie oferty uwzględniliśmy wszystkie elementy cenotwórcze wynikajace z zakresu i sposobu realizacji przedmiotu zamówienia.
A15: ………………………………………….
A16: (data i podpis Wykonawcy)

Sheet Zadanie nr 2
A1: Nazwa i adres Wykonawcy…………………………….. | J1: Załącznik nr 2 do SWZ
A3: Nr sprawy 11/WYP/DCZP/2025/P
A5: Formularz cenowy
A6: Zadanie nr 2
A7: Lp | B7: Nazwa artykułu | C7: j.m | D7: Ilość | E7: Rysunek poglądowy | F7: Cena jednost. netto | G7: % Vat | H7: Cena jednost. brutto | I7: Wartość netto | J7: Wartość Vat | K7: Wartość brutto
A8: 1 | B8: 2 | C8: 3 | D8: 4 | E8: 5 | F8: 6 | G8: 7 | H8: 8 | I8: 9 | J8: 10 | K8: 11
A9: 1 | B9: Krzesło - jednoczęściowe formowane ze wzmocnionego polipropylenu, bez części odkręcanych i demontowanych. Krawędzie zaokrąglone.Zaprojektowane do ciągłego intensywnego użytkowania; Wysokość siedziska: 460 mm Szerokość siedziska: 365 mm; Głębokość siedziska: 378 mm; Wysokość całkowita: 800 mm Głębokość całkowita: 515 mm Szerokość całkowita: 500 mm Udźwig: min. 150 kg Waga: 3,6 kg W 100% nadaje się do recyklingu; Siedzisko ergonomiczne z opadającą krawędzią. Elastyczne oparcie z otworem wentylacyjnym w dolnej jego części Odporne na uszkodzenia mechaniczne. Odporne na uderzenia. Stabilna konstrukcja uniemożliwia “bujanie się” ; Odporne na plamy, łatwe do czyszczenia. Moliwość użytkowania wewnątrz jak i na zwenątrz Możliwość wyboru spośród min. 10 kolorów (uzgodnione z Zamawiającym przed dostawą); Spełnia normę EN 1729 część 1 i 2, BSEN 16139: 2013 poziom 2 | C9: szt | D9: 18 | H9: =ROUND(F9+F9*G9,2) -> 0 | I9: =D9*F9 -> 0 | J9: =K9-I9 -> 0 | K9: =D9*H9 -> 0
H10: RAZEM | I10: =SUM(I9:I9) -> 0 | J10: =SUM(J9:J9) -> 0 | K10: =SUM(K9:K9) -> 0
A12: Oświadczamy, że w cenie oferty uwzględniliśmy wszystkie elementy cenotwórcze wynikajace z zakresu i sposobu realizacji przedmiotu zamówienia.
A14: ………………………………………….
A15: (data i podpis Wykonawcy)

Sheet Zadanie nr 3
A1: Nazwa i adres Wykonawcy…………………………….. | J1: Załącznik nr 2 do SWZ
A3: Nr sprawy: 11/WYP/DCZP/2025/P
A5: Formularz cenowy
A6: Zadanie nr 3
A7: Lp | B7: Nazwa artykułu | C7: j.m | D7: Ilość | E7: Rysunek poglądowy | F7: Cena jednost. netto | G7: % Vat | H7: Cena jednost. brutto | I7: Wartość netto | J7: Wartość Vat | K7: Wartość brutto
A8: 1 | B8: 2 | C8: 3 | D8: 4 | E8: 5 | F8: 6 | G8: 7 | H8: 8 | I8: 9 | J8: 10 | K8: 11
A9: 1 | B9: Szafka przyłóżkowa o wymiarach: szerokość 43cm (+/-5cm), głębokość 43cm (+/-5cm), wysokości 800cmcm (+/-5cm); konstrukcja szafki z blachy stalowej malowanej proszkowo; szafka wyposażona w szufladę na prowadnicach rolkowych, drzwiczki zamykane z zatrzaskiem magnetycznym, szafka wyposażona w cztery kółka niebrudzące powierzchni o średnicy 5 cm z czego dwa z hamulcami; powierzchnia szafki odporna na działanie środków dezynfekcyjnych; blat szafki z płyty HPL (min. 5 opcji kolorystycznych);drzwi szafki i szuflady malowane w min. 10 opcjach kolorystycznych do wyboru przy składaniu zamówienia; typu Szafka przyłóżkowa typu SM-01 Metalowiec lub równoważna | C9: szt. | D9: 30 | H9: =ROUND(F9+F9*G9,2) -> 0 | I9: =D9*F9 -> 0 | J9: =K9-I9 -> 0 | K9: =D9*H9 -> 0
H10: RAZEM | I10: =SUM(I9:I9) -> 0 | J10: =SUM(J9:J9) -> 0 | K10: =SUM(K9:K9) -> 0
A12: Oświadczamy, że w cenie oferty uwzględniliśmy wszystkie elementy cenotwórcze wynikajace z zakresu i sposobu realizacji przedmiotu zamówienia.
A14: ………………………………………….
A15: (data i podpis Wykonawcy)

Sheet Zadanie 4
A1: Nazwa i adres Wykonawcy…………………………….. | J1: Załącznik nr 2 do SWZ
A3: Nr sprawy: 11/WYP/DCZP/2025/P
A5: Formularz cenowy
A6: Zadanie nr 4
A7: Lp | B7: Nazwa artykułu | C7: j.m | D7: Ilość | E7: Rysunek poglądowy | F7: Cena jednost. netto | G7: % Vat | H7: Cena jednost. brutto | I7: Wartość netto | J7: Wartość Vat | K7: Wartość brutto
A8: 1 | B8: 2 | C8: 3 | D8: 4 | E8: 5 | F8: 6 | G8: 7 | H8: 8 | I8: 9 | J8: 10 | K8: 11
A9: 1 | B9: Pokrowiec pasujący na materac o wymiarach 90cmx200cmx12cm z tkaniny nieprzemakalnej zmywalnej, paroprzepuszczalnej (skład poliester i poliuretan). Materiał pokrowca: trudnopalny, posiadający certyfikat na test „tlącego papierosa i płomień zapałki; temperatura prania 90 st.C; dezynfekcja parą wodną; sterylizacja parowa w temperaturze min.120 st.C; paroprzepuszczalność: ≥ 0,2 Bar. Pokrowiec zdejmowany, posiadający zamek błyskawiczny. Parametry tkaniny: masa powierzchniowa min: 180 [g/m²] | C9: szt. | D9: 50 | E9: x | H9: =ROUND(F9+F9*G9,2) -> 0 | I9: =D9*F9 -> 0 | J9: =K9-I9 -> 0 | K9: =D9*H9 -> 0
H10: RAZEM | I10: =SUM(I9:I9) -> 0 | J10: =SUM(J9:J9) -> 0 | K10: =SUM(K9:K9) -> 0
A12: Oświadczamy, że w cenie oferty uwzględniliśmy wszystkie elementy cenotwórcze wynikajace z zakresu i sposobu realizacji przedmiotu zamówienia.
A14: ………………………………………….
A15: (data i podpis Wykonawcy)

Sheet Zadanie 5
A1: Nazwa i adres Wykonawcy…………………………….. | I1: Załącznik nr 2 do SWZ
A3: Nr sprawy: 11/WYP/DCZP/2025/P
A4: Formularz cenowy
A5: Zadanie nr 5
A6: Lp | B6: Nazwa artykułu | C6: j.m | D6: Ilość | E6: Rysunek poglądowy | F6: Cena jednost. netto | G6: % Vat | H6: Cena jednost. brutto | I6: Wartość netto | J6: Wartość Vat | K6: Wartość brutto
A7: 1 | B7: 2 | C7: 3 | D7: 4 | E7: 5 | F7: 6 | G7: 7 | H7: 8 | I7: 9 | J7: 10 | K7: 11
A8: 1 | B8: Ekspres do kawy typu: PHILIPS LatteGo EP3343/50 (Silent Brew) lub równoważny: ciśnieniowy, automatyczny, Typ ekspresu: Automatyczny Ciśnienie [bar]: 15 Typ młynka: Ceramiczny Rodzaj kawy: Mielona, Ziarnista Dostępne napoje: Cappuccino, Cold Coffee, Espresso, Gorąca woda, Kawa czarna, Kawa na zimno, Latte Macchiato Moc [W]: 1500 Funkcje: Dotykowy ekran, Funkcja Moja Kawa, Pojemnik na mleko, Regulacja ilości zaparzanej kawy, Regulacja mocy kawy, Parzenie 2 kaw jednocześnie, Regulacja stopnia zmielenia kawy, Regulacja temperatury kawy, One Touch Cappuccino, Wbudowany młynek, Spienianie mleka, Filtr, Możliwość zaparzenia 6 rodzajów kaw System spieniania mleka LatteGo Dodatkowo filtry do wody zapobiegający osadzaniu się kamienia: 50 szt. | C8: szt. | D8: 1 | E8: x | H8: =ROUND(F8+F8*G8,2) -> 0 | I8: =D8*F8 -> 0 | J8: =K8-I8 -> 0 | K8: =D8*H8 -> 0
A9: 2 | B9: Kuchenka mikrofalowa typu: AMICA AMGF23E1GS 900W: Pojemność [l]: 23 Sterowanie: Elektroniczne Moc mikrofal: 900 Funkcje podstawowe: Grill, Podgrzewanie, Rozmrażanie | C9: szt. | D9: 1 | E9: x | H9: =ROUND(F9+F9*G9,2) -> 0 | I9: =D9*F9 -> 0 | J9: =K9-I9 -> 0 | K9: =D9*H9 -> 0
A10: 3 | B10: Parwnica do ubrań typu :GÖTZE & JENSEN SI750 Moc [W]: 1800 Rodzaj stopy: Ceramiczna Pojemność zbiornika na wodę [ml]: 180 Funkcje: Automatyczne wyłączenie żelazka, Automatyczny dobór temperatury, Blokada kapania, Dodatkowe uderzenie pary, Pionowy wyrzut pary, Regulacja strumienia pary Mniej Wytwarzanie pary [g/min]: 20 Regulacja strumienia pary: Tak Prasowanie w pionie i poziomie TAK Nakładka ze szczotką do czyszczenia odzieży TAK | C10: szt. | D10: 1 | E10: x | H10: =ROUND(F10+F10*G10,2) -> 0 | I10: =D10*F10 -> 0 | J10: =K10-I10 -> 0 | K10: =D10*H10 -> 0
H11: RAZEM | I11: =SUM(I8:I10) -> 0 | J11: =SUM(J8:J10) -> 0 | K11: =SUM(K8:K10) -> 0
A13: Oświadczamy, że w cenie oferty uwzględniliśmy wszystkie elementy cenotwórcze wynikajace z zakresu i sposobu realizacji przedmiotu zamówienia.
A15: ………………………………………….
A16: (data i podpis Wykonawcy)

Sheet koszty
A1: nr zadania | B1: wartość netto | C1: wartość brutto
A2: 1 | B2: ='Zadanie nr 1'!I11 -> 0 | C2: ='Zadanie nr 1'!K11 -> 0
A3: 2 | B3: ='Zadanie nr 2'!I10 -> 0 | C3: ='Zadanie nr 2'!K10 -> 0
A4: 3 | B4: ='Zadanie nr 3'!I10 -> 0 | C4: ='Zadanie nr 3'!K10 -> 0
A5: 4 | B5: ='Zadanie 4'!I10 -> 0 | C5: ='Zadanie 4'!K10 -> 0
A6: 5 | B6: ='Zadanie 5'!I11 -> 0 | C6: ='Zadanie 5'!K11 -> 0
A7: RAZEM | B7: =SUM(B2:B6) -> 0 | C7: =SUM(C2:C6) -> 0
