Workbook

Sheet Zadanie 1
B1: Nazwa i adres Wykonawcy…………………………….. | J1: Załącznik nr 2.1
B3: Nr sprawy: 32/WYPAGD/DCZP/2024 /P | D3: Formularz cenowy
B5: Zadanie nr 1
A6: Lp | B6: Nazwa artykułu | C6: Producent; model/numer katalogowy producenta | D6: j.m | E6: Ilość zamówienia | F6: Cena jednost. netto | G6: % Vat | H6: Cena jednost. brutto | I6: Wartość netto | J6: Wartość Vat | K6: Wartość brutto
A7: 1 | B7: Ekspres do kawy typu: Ekspres Siemens EQ.500 TQ513R01 lub równoważny: ciśnieniowy, automatyczny, Ciśnienie [bar]: 15 Typ młynka: Ceramiczny Rodzaj kawy: Mielona, Ziarnista Moc [W]: min. 1500 Funkcje: Spienianie mleka, Regulacja mocy kawy, Regulacja ilości zaparzanej kawy, Wbudowany młynek, Wskaźnik poziomu wody, Pojemnik na mleko, Parzenie 2 kaw jednocześnie. | D7: szt. | E7: 4 | H7: =F7*G7+F7 -> 0 | I7: =E7*F7 -> 0 | J7: =I7*G7 -> 0 | K7: =I7+J7 -> 0
A8: 2 | B8: Grzejnik konwektorowy typu VOLTENO V0268 Basic lub produkt równoważny: moc min.750W-max.2000W, termostat, liczba poziomów grzania min.3. | D8: szt. | E8: 3 | H8: =F8*G8+F8 -> 0 | I8: =E8*F8 -> 0 | J8: =I8*G8 -> 0 | K8: =I8+J8 -> 0
A9: 3 | B9: Parownica typu Karcher SC 3 EasyFix lub równoważny: moc grzałki min. 1900W, ciśnienie pary min. 3,5 bar, wyposażona w wąż parowy z pistoletem, filtr odkamieniający, pojemnośc zbiornika 1 l, wyposażenie: Uniwersalna ściereczka podłogowa: 1 szt. Powłoczka z mikrofibry na dyszę ręczną: 1 szt. Filtr odkamieniający we wkładzie Dysza punktowa Dysza ręczna Szczotka okrągła: 1 szt. Ssawka podłogowa Rury ssące 2 x 0,5 m | D9: szt. | E9: 9 | H9: =F9*G9+F9 -> 0 | I9: =E9*F9 -> 0 | J9: =I9*G9 -> 0 | K9: =I9+J9 -> 0
A10: 4 | B10: Odkurzacz uniwersalny typu Karcher WD 3 P V-17/4/20 lub równoważny: (moc 1000W, 17L), Odkurzacz do pracy na mokro i sucho, ze zbiornikiem z tworzywa sztucznego o pojemności 17 litrów, przewodem zasilającym o długości 4 m, 2-metrowym wężem ssącym oraz fizelinową torebką filtracyjną, gniazdo do elektronarzędzi, funkcja wydmuchu. Wyposażenie: Wąż ssący dł. 2 m, Składany uchwyt do przenoszenia Rury ssące, 2 szt., Ssawka uniwersalna, Ssawka szczelinowa, Filtr kartridżowy, jednoczęściowy, Fizelinowa torebka filtracyjna, 1 szt. | D10: szt. | E10: 1 | H10: =F10*G10+F10 -> 0 | I10: =E10*F10 -> 0 | J10: =I10*G10 -> 0 | K10: =I10+J10 -> 0
A11: 5 | B11: Pralka typu WHIRLPOOL FFB 9258 SV PL 9kg lub równoważna: pojemność 9kg, wirowanie 1200 obrotów, sposób załadunku od przodu, możliwość montażu suszarki z poz. 6 | D11: szt. | E11: 1 | H11: =F11*G11+F11 -> 0 | I11: =E11*F11 -> 0 | J11: =I11*G11 -> 0 | K11: =I11+J11 -> 0
A12: 6 | B12: Suszarka typu Whirlpool FFT M22 9X2B PL lub równoważna: pojemność załadunku 9kg, możliwość montażu na pralce z poz. 5 + łącznik do monatażu na pralce | D12: szt. | E12: 1 | H12: =F12*G12+F12 -> 0 | I12: =E12*F12 -> 0 | J12: =I12*G12 -> 0 | K12: =I12+J12 -> 0
A13: 7 | B13: Lodówka wolnostojąca duża (chłodziarka+zamrażarka): kolor inox/stal nierdzewna; wymiary w cm: +/-5 cm(WxSxG): 186x60x65; Bezszronowa (No frost); Regulacja półek | D13: szt. | E13: 1 | H13: =F13*G13+F13 -> 0 | I13: =E13*F13 -> 0 | J13: =I13*G13 -> 0 | K13: =I13+J13 -> 0
H14: RAZEM | I14: =SUM(I7:I13) -> 0 | J14: =SUM(J7:J13) -> 0 | K14: =SUM(K7:K13) -> 0
A16: Oświadczamy, że w cenie oferty uwzględniliśmy wszystkie elementy cenotwórcze wynikajace z zakresu i sposobu realizacji przedmiotu zamówienia.
D18: ………………………………………….
D19: (data i podpis Wykonawcy)

Sheet Zadanie 2
B1: Nazwa i adres Wykonawcy…………………………….. | K1: Załącznik nr 2.2
B3: Nr sprawy: 32/MEBAGD/DCZP/2024 /P | E3: Formularz cenowy
B5: Zadanie nr 2
A6: Lp | B6: Nazwa artykułu | C6: Zdjęcie poglądowe | D6: j.m | E6: Ilość zamówienia | F6: Cena jednost. netto | G6: % Vat | H6: Cena jednost. brutto | I6: Wartość netto | J6: Wartość Vat | K6: Wartość brutto
A7: 1 | B7: Krzesło ISO: konferencyjne z tapicerowanym oparciem i siedziskiem w kolorze czarnym, materiał: eko-skóra/skaj, stelaż: srebrna stal; możliwość sztaplowania. Wymiary (+/-10mm): Wysokość siedziska:480 mm Głębokość siedziska:410 mm Szerokość siedziska:465 mm | D7: szt. | E7: 25 | H7: =F7*G7+F7 -> 0 | I7: =E7*F7 -> 0 | J7: =I7*G7 -> 0 | K7: =I7+J7 -> 0
A8: 2 | B8: Szafa ubraniowa BHP o wymiarach: wysokość: 180-200cm, szerokość: 60-80cm, głębokość: 46 - 55cm; konstrukcja szafy bhp zgrzewana z wysokiej jakości blachy stalowej; antykorozyjna powłoka lakiernicza, gładka, łatwa do utrzymania w B17zystości; kolor: RAL 7035 (popielaty); szafa zawiera dwie odzielne komory, każda zamykana na osobny zamek; wyposażenie szafy: - wzmocnione drzwi (otwierane w kierunku prawe/lewe), - otwory wentylacyjne zapewniające prawidłową cyrkulację powietrza, - stała półka (światło półki - 250 mm), - drążek z 2 haczykami na ubrania, - praktyczny wizytownik na drzwiach, - w komplecie 2 klucze standardowe, - regulatory umożliwiające poziomowanie | D8: szt. | E8: 4 | H8: =F8*G8+F8 -> 0 | I8: =E8*F8 -> 0 | J8: =I8*G8 -> 0 | K8: =I8+J8 -> 0 | T8: l
A9: 3 | B9: Regał metalowy z półkami o wymiarach: wysokość 200 cm, szerokość 90-100 cm, głębokość 50-60 cm ( +/- 2cm); 5 półek z płyty MDF, możliwość regulacji wysokości półek; nogi regału zakończone plastikowymi końcówkami; nośność półki min. 70 kg; powierzchnia elementów metalowych wykończona za pomocą lakieru proszkowego | D9: szt. | E9: 2 | H9: =F9*G9+F9 -> 0 | I9: =E9*F9 -> 0 | J9: =I9*G9 -> 0 | K9: =I9+J9 -> 0
A10: 4 | B10: Sofa 2 - osobowa: Wysokość: 75cm, Szerokość: 143 cm; Głąbokość: 75 cm; Siedzisko wysokość: 42 cm; Siedzisko głębokość: 54 cm; Nóżki wysokość: 21cm; Zamawiający dopuszcza różnicę w wymiarach +/- 2cm; Wykonanie siedziska: sprężyny faliste, tkanina typu velvet lub równoważna,lub równoważna, plamoodporna, wysoka klasa ścieralności; pianka wysokoelastyczna HR; Wykonanie oparcia: tkanina typu velvet,lub równoważna, plamoodporna, wysoka klasa ścieralności; pianka wysokoelastyczna HR; Bez pojemnika na pościel; bez funkcji spania; Nóżki z drewna; Kolor tapicerki: grafit lub granatowy (do ustalenia przy składaniu zamówienia); typu: sofa dwuosobowa Voltana sesley lub równoważna | D10: szt. | E10: 1 | H10: =F10*G10+F10 -> 0 | I10: =E10*F10 -> 0 | J10: =I10*G10 -> 0 | K10: =I10+J10 -> 0
H11: RAZEM | I11: =SUM(I7:I10) -> 0 | J11: =SUM(J7:J10) -> 0 | K11: =SUM(K7:K10) -> 0
A13: Oświadczamy, że w cenie oferty uwzględniliśmy wszystkie elementy cenotwórcze wynikajace z zakresu i sposobu realizacji przedmiotu zamówienia.
E15: ………………………………………….
E16: (data i podpis Wykonawcy)

Sheet Zadanie 3
B1: Nazwa i adres Wykonawcy…………………………….. | K1: Załącznik nr 2.3
B3: Nr sprawy: 32/MEBAGD/DCZP/2024 /P | E3: Formularz cenowy
B5: Zadanie nr 3
A6: Lp | B6: Nazwa artykułu | C6: Zdjęcie poglądowe | D6: j.m | E6: Ilość zamówienia | F6: Cena jednost. netto | G6: % Vat | H6: Cena jednost. brutto | I6: Wartość netto | J6: Wartość Vat | K6: Wartość brutto
A7: 1 | B7: Stolik kwadratowy o wymiarach blatu 80cmx80 cm, wysokość 76 cm (+/- 2 cm), Blat wykonany z płyty melaminowanej o grubości min. 25mm; metalowa konstrukcja stołu wykonana ze spawanych stalowych profili: rama stołu z profili 35 x 20 mm, nogi stołu 30 x 30 mm; nogi malowane proszkowo na kolor czarny lub szary; odporne na środki czystości, zabezpieczone przed zarysowaniem podłóg; takie jak na zdjęciu poglądowym; blat z płyty w kolorze: dąb sonoma - D3025/dąb naturalny/rockford jasny lub równoważna, rysunek poglądowy; | D7: szt. | E7: 10 | H7: =F7*G7+F7 -> 0 | I7: =E7*F7 -> 0 | J7: =I7*G7 -> 0 | K7: =I7+J7 -> 0
H8: RAZEM | I8: =I7 -> 0 | J8: =J7 -> 0 | K8: =K7 -> 0
A10: Oświadczamy, że w cenie oferty uwzględniliśmy wszystkie elementy cenotwórcze wynikajace z zakresu i sposobu realizacji przedmiotu zamówienia.
E12: ………………………………………….
E13: (data i podpis Wykonawcy)

Sheet SUMA
B1: zadanie1 | C1: zadanie2 | D1: zadanie3 | E1: Suma
A2: netto | B2: ='Zadanie 1'!I14 -> 0 | C2: ='Zadanie 2'!I11 -> 0 | D2: ='Zadanie 3'!I8 -> 0 | E2: =SUM(B2:D2) -> 0
A3: brutto | B3: ='Zadanie 1'!K14 -> 0 | C3: ='Zadanie 2'!K11 -> 0 | D3: ='Zadanie 3'!K8 -> 0 | E3: =SUM(B3:D3) -> 0
