Workbook

Sheet Przetarg 2024
A1: FORMULARZ CENOWY
A2: L.p. | B2: Nazwa międzynarodowa | C2: Nazwa handlowa | D2: j.m. | E2: Postać/ rodzaj op j. | F2: Dawka / wielkość op.j. | G2: ilość w op.j. | H2: Ilość do przetargu | I2: ilość orawo opcji | J2: Cena j. netto | K2: VAT % | L2: Kwota j.VAT | M2: Cena j. brutto | N2: wartość netto 12 miesięcy | O2: wartość netto 12 miesięcy-prawo opcji | P2: kwota VAT | Q2: kwota VAT opcji | R2: Wartość brutto 12m-cy | S2: wartość brutto - prawo opcji | T2: Proponowana ilość w op. | U2: Rodzaj ceny | V2: Uwagi
A3: 1 | B3: 2 | C3: 3 | D3: 4 | E3: 5 | F3: 6 | G3: 7 | H3: 8 | I3: 9 | J3: 10 | K3: 11 | L3: 12 | M3: 13 | N3: 14 | P3: 15 | R3: 16 | S3: 17 | T3: 18 | U3: 19 | V3: 20
A4: x | B4: x | C4: x | D4: x | E4: x | F4: x | G4: x | H4: x | I4: x | J4: x | K4: x | L4: [10x11] | M4: [10+12] | N4: [8x10] | O4: [9x10] | P4: [8x12] | Q4: [9x12] | R4: [8x13] | S4: [9x10]
A5: ZADANIE 1
A6: 1 | B6: Furaginum | D6: op. | E6: tabl. | F6: 0,05g | G6: 30 | H6: 140 | I6: 30 | L6: =ROUND((J6*K6),2) -> 0 | M6: =J6+L6 -> 0 | N6: =J6*H6 -> 0 | O6: =I6*J6 -> 0 | P6: =L6*H6 -> 0 | Q6: =I6*L6 -> 0 | R6: =M6*H6 -> 0 | S6: =I6*M6 -> 0
A7: 2 | B7: Sulfamethoxazolum+ Trimethoprimum | D7: op. | E7: tabl. | F7: 0,48g | G7: 20 | H7: 40 | I7: 10 | L7: =ROUND((J7*K7),2) -> 0 | M7: =J7+L7 -> 0 | N7: =J7*H7 -> 0 | O7: =I7*J7 -> 0 | P7: =L7*H7 -> 0 | Q7: =I7*L7 -> 0 | R7: =M7*H7 -> 0 | S7: =I7*M7 -> 0
A8: 3 | B8: Amlodipinum | D8: op. | E8: tabl. | F8: 0,005g | G8: 30 | H8: 90 | I8: 30 | L8: =ROUND((J8*K8),2) -> 0 | M8: =J8+L8 -> 0 | N8: =J8*H8 -> 0 | O8: =I8*J8 -> 0 | P8: =L8*H8 -> 0 | Q8: =I8*L8 -> 0 | R8: =M8*H8 -> 0 | S8: =I8*M8 -> 0
A9: 4 | B9: Amlodipinum | D9: op. | E9: tabl. | F9: 0,01g | G9: 30 | H9: 35 | I9: 10 | L9: =ROUND((J9*K9),2) -> 0 | M9: =J9+L9 -> 0 | N9: =J9*H9 -> 0 | O9: =I9*J9 -> 0 | P9: =L9*H9 -> 0 | Q9: =I9*L9 -> 0 | R9: =M9*H9 -> 0 | S9: =I9*M9 -> 0
A10: 5 | B10: Duloksetyna | D10: op. | E10: tabl.dojelit. | F10: 30mg | G10: 28 | H10: 70 | I10: 15 | L10: =ROUND((J10*K10),2) -> 0 | M10: =J10+L10 -> 0 | N10: =J10*H10 -> 0 | O10: =I10*J10 -> 0 | P10: =L10*H10 -> 0 | Q10: =I10*L10 -> 0 | R10: =M10*H10 -> 0 | S10: =I10*M10 -> 0
A11: 6 | B11: Duloksetyna | D11: op. | E11: tabl.dojelit. | F11: 60mg | G11: 28 | H11: 85 | I11: 10 | L11: =ROUND((J11*K11),2) -> 0 | M11: =J11+L11 -> 0 | N11: =J11*H11 -> 0 | O11: =I11*J11 -> 0 | P11: =L11*H11 -> 0 | Q11: =I11*L11 -> 0 | R11: =M11*H11 -> 0 | S11: =I11*M11 -> 0
A12: 7 | B12: Ramiprilum | D12: op. | E12: tabl. | F12: 0,0025g | G12: 30 | H12: 90 | I12: 30 | L12: =ROUND((J12*K12),2) -> 0 | M12: =J12+L12 -> 0 | N12: =J12*H12 -> 0 | O12: =I12*J12 -> 0 | P12: =L12*H12 -> 0 | Q12: =I12*L12 -> 0 | R12: =M12*H12 -> 0 | S12: =I12*M12 -> 0
A13: 8 | B13: Ramiprilum | D13: op. | E13: tabl. | F13: 0,005g | G13: 30 | H13: 120 | I13: 40 | L13: =ROUND((J13*K13),2) -> 0 | M13: =J13+L13 -> 0 | N13: =J13*H13 -> 0 | O13: =I13*J13 -> 0 | P13: =L13*H13 -> 0 | Q13: =I13*L13 -> 0 | R13: =M13*H13 -> 0 | S13: =I13*M13 -> 0
A14: 9 | B14: Nebivololum | D14: op. | E14: tabl. | F14: 5mg | G14: 28 | H14: 90 | I14: 30 | L14: =ROUND((J14*K15),2) -> 0 | M14: =J14+L14 -> 0 | N14: =J14*H14 -> 0 | O14: =I14*J14 -> 0 | P14: =L14*H14 -> 0 | Q14: =I14*L14 -> 0 | R14: =M14*H14 -> 0 | S14: =I14*M14 -> 0
A15: 10 | B15: Telmisartanum | D15: op. | E15: tabl. | F15: 0,04g | G15: 28 | H15: 12 | I15: 5 | L15: =ROUND((J15*K16),2) -> 0 | M15: =J15+L15 -> 0 | N15: =J15*H15 -> 0 | O15: =I15*J15 -> 0 | P15: =L15*H15 -> 0 | Q15: =I15*L15 -> 0 | R15: =M15*H15 -> 0 | S15: =I15*M15 -> 0
A16: 11 | B16: Telmisartanum | D16: op. | E16: tabl. | F16: 0,08g | G16: 28 | H16: 12 | I16: 5 | L16: =ROUND((J16*K16),2) -> 0 | M16: =J16+L16 -> 0 | N16: =J16*H16 -> 0 | O16: =I16*J16 -> 0 | P16: =L16*H16 -> 0 | Q16: =I16*L16 -> 0 | R16: =M16*H16 -> 0 | S16: =I16*M16 -> 0
A17: 12 | B17: Losartanum | D17: op. | E17: tabl.powl | F17: 50 mg | G17: 30 | H17: 5 | I17: 2 | L17: =ROUND((J17*K17),2) -> 0 | M17: =J17+L17 -> 0 | N17: =J17*H17 -> 0 | O17: =I17*J17 -> 0 | P17: =L17*H17 -> 0 | Q17: =I17*L17 -> 0 | R17: =M17*H17 -> 0 | S17: =I17*M17 -> 0
A18: 13 | B18: Agomelatinum | D18: op. | E18: tabl.powl. | F18: 25mg | G18: 28 | H18: 5 | I18: 0 | L18: =ROUND((J18*K18),2) -> 0 | M18: =J18+L18 -> 0 | N18: =J18*H18 -> 0 | O18: =I18*J18 -> 0 | P18: =L18*H18 -> 0 | Q18: =I18*L18 -> 0 | R18: =M18*H18 -> 0 | S18: =I18*M18 -> 0
A19: 14 | B19: Pregabalinum | D19: op. | E19: kaps./tabl. | F19: 75mg | G19: 56 | H19: 90 | I19: 25 | L19: =ROUND((J19*K19),2) -> 0 | M19: =J19+L19 -> 0 | N19: =J19*H19 -> 0 | O19: =I19*J19 -> 0 | P19: =L19*H19 -> 0 | Q19: =I19*L19 -> 0 | R19: =M19*H19 -> 0 | S19: =I19*M19 -> 0
A20: 15 | B20: Pregabalinum | D20: op. | E20: kaps./tabl. | F20: 150mg | G20: 56 | H20: 100 | I20: 25 | L20: =ROUND((J20*K20),2) -> 0 | M20: =J20+L20 -> 0 | N20: =J20*H20 -> 0 | O20: =I20*J20 -> 0 | P20: =L20*H20 -> 0 | Q20: =I20*L20 -> 0 | R20: =M20*H20 -> 0 | S20: =I20*M20 -> 0
A21: 16 | B21: Formoterolum | D21: op. | E21: pr.do inhal.w kaps. | F21: 12 mcg/ daw | G21: 60 dawek | H21: 10 | I21: 2 | L21: =ROUND((J21*K21),2) -> 0 | M21: =J21+L21 -> 0 | N21: =J21*H21 -> 0 | O21: =I21*J21 -> 0 | P21: =L21*H21 -> 0 | Q21: =I21*L21 -> 0 | R21: =M21*H21 -> 0 | S21: =I21*M21 -> 0
A22: 17 | B22: Omeprazolum | D22: op. | E22: kaps. | F22: 0,02g | G22: 28 | H22: 180 | I22: 50 | L22: =ROUND((J22*K22),2) -> 0 | M22: =J22+L22 -> 0 | N22: =J22*H22 -> 0 | O22: =I22*J22 -> 0 | P22: =L22*H22 -> 0 | Q22: =I22*L22 -> 0 | R22: =M22*H22 -> 0 | S22: =I22*M22 -> 0
A23: 18 | B23: Pantoprazolum | D23: op. | E23: tabl.dojelit. | F23: 0,02g | G23: 28 | H23: 120 | I23: 50 | L23: =ROUND((J23*K23),2) -> 0 | M23: =J23+L23 -> 0 | N23: =J23*H23 -> 0 | O23: =I23*J23 -> 0 | P23: =L23*H23 -> 0 | Q23: =I23*L23 -> 0 | R23: =M23*H23 -> 0 | S23: =I23*M23 -> 0
A24: 19 | B24: Escitalopramum | D24: op. | E24: tabl.powl. | F24: 0,02g | G24: 28 | H24: 30 | I24: 5 | L24: =ROUND((J24*K24),2) -> 0 | M24: =J24+L24 -> 0 | N24: =J24*H24 -> 0 | O24: =I24*J24 -> 0 | P24: =L24*H24 -> 0 | Q24: =I24*L24 -> 0 | R24: =M24*H24 -> 0 | S24: =I24*M24 -> 0
A25: 20 | B25: Escitalopramum | D25: op. | E25: tabl.powl. | F25: 0,01g | G25: 28 | H25: 70 | I25: 10 | L25: =ROUND((J25*K25),2) -> 0 | M25: =J25+L25 -> 0 | N25: =J25*H25 -> 0 | O25: =I25*J25 -> 0 | P25: =L25*H25 -> 0 | Q25: =I25*L25 -> 0 | R25: =M25*H25 -> 0 | S25: =I25*M25 -> 0
A26: 21 | B26: Mianserinum | D26: op. | E26: tabl.powl. | F26: 0,01g | G26: 30 | H26: 70 | I26: 20 | L26: =ROUND((J26*K26),2) -> 0 | M26: =J26+L26 -> 0 | N26: =J26*H26 -> 0 | O26: =I26*J26 -> 0 | P26: =L26*H26 -> 0 | Q26: =I26*L26 -> 0 | R26: =M26*H26 -> 0 | S26: =I26*M26 -> 0
A27: 22 | B27: Mianserinum | D27: op. | E27: tabl.powl. | F27: 0,03g | G27: 30 | H27: 60 | I27: 15 | L27: =ROUND((J27*K27),2) -> 0 | M27: =J27+L27 -> 0 | N27: =J27*H27 -> 0 | O27: =I27*J27 -> 0 | P27: =L27*H27 -> 0 | Q27: =I27*L27 -> 0 | R27: =M27*H27 -> 0 | S27: =I27*M27 -> 0
A28: 23 | B28: Mianserinum | D28: op. | E28: tabl.powl. | F28: 0,06g | G28: 30 | H28: 15 | I28: 5 | L28: =ROUND((J28*K28),2) -> 0 | M28: =J28+L28 -> 0 | N28: =J28*H28 -> 0 | O28: =I28*J28 -> 0 | P28: =L28*H28 -> 0 | Q28: =I28*L28 -> 0 | R28: =M28*H28 -> 0 | S28: =I28*M28 -> 0
A29: 24 | B29: Olanzapinum | D29: op. | E29: ******tabl. uleg.rozp. w jamie ustnej | F29: 5mg | G29: 28 | H29: 250 | I29: 50 | L29: =ROUND((J29*K29),2) -> 0 | M29: =J29+L29 -> 0 | N29: =J29*H29 -> 0 | O29: =I29*J29 -> 0 | P29: =L29*H29 -> 0 | Q29: =I29*L29 -> 0 | R29: =M29*H29 -> 0 | S29: =I29*M29 -> 0
A30: 25 | B30: Olanzapinum | D30: op. | E30: ******tabl. uleg. rozp..w jamie ustnej | F30: 10mg | G30: 28 | H30: 370 | I30: 50 | L30: =ROUND((J30*K30),2) -> 0 | M30: =J30+L30 -> 0 | N30: =J30*H30 -> 0 | O30: =I30*J30 -> 0 | P30: =L30*H30 -> 0 | Q30: =I30*L30 -> 0 | R30: =M30*H30 -> 0 | S30: =I30*M30 -> 0
A31: 26 | B31: Olanzapinum | D31: op. | E31: ******tabl. uleg.rozp.w jamie ustnej | F31: 20mg | G31: 28 | H31: 400 | I31: 60 | L31: =ROUND((J31*K31),2) -> 0 | M31: =J31+L31 -> 0 | N31: =J31*H31 -> 0 | O31: =I31*J31 -> 0 | P31: =L31*H31 -> 0 | Q31: =I31*L31 -> 0 | R31: =M31*H31 -> 0 | S31: =I31*M31 -> 0
A32: 27 | B32: Olanzapinum | D32: op. | E32: tabl. | F32: 5mg | G32: 30 | H32: 30 | I32: 30 | L32: =ROUND((J32*K32),2) -> 0 | M32: =J32+L32 -> 0 | N32: =J32*H32 -> 0 | O32: =I32*J32 -> 0 | P32: =L32*H32 -> 0 | Q32: =I32*L32 -> 0 | R32: =M32*H32 -> 0 | S32: =I32*M32 -> 0
A33: 28 | B33: Olanzapinum | D33: op. | E33: kaps.twarde | F33: 7,5mg | G33: 30 | H33: 30 | I33: 20 | L33: =ROUND((J33*K33),2) -> 0 | M33: =J33+L33 -> 0 | N33: =J33*H33 -> 0 | O33: =I33*J33 -> 0 | P33: =L33*H33 -> 0 | Q33: =I33*L33 -> 0 | R33: =M33*H33 -> 0 | S33: =I33*M33 -> 0
... A58: 53 | B58: Budesonidum | D58: op. | E58: zaw.do nebulizacji | F58: 0,500mg/ml*20poj.a2ml | G58: 20 | H58: 6 | I58: 2 | L58: =ROUND((J58*K58),2) -> 0 | M58: =J58+L58 -> 0 | N58: =J58*H58 -> 0 | O58: =I58*J58 -> 0 | P58: =L58*H58 -> 0 | Q58: =I58*L58 -> 0 | R58: =M58*H58 -> 0 | S58: =I58*M58 -> 0
A59: 54 | B59: Dorzolamidum | D59: op. | E59: krople do oczu | F59: 0.02 | G59: 5ml | H59: 4 | I59: 2 | L59: =ROUND((J59*K59),2) -> 0 | M59: =J59+L59 -> 0 | N59: =J59*H59 -> 0 | O59: =I59*J59 -> 0 | P59: =L59*H59 -> 0 | Q59: =I59*L59 -> 0 | R59: =M59*H59 -> 0 | S59: =I59*M59 -> 0
N60: =SUM(N6:N59) -> 0 | O60: =SUM(O6:O59) -> 0 | P60: =SUM(P6:P59) -> 0 | Q60: =SUM(Q6:Q59) -> 0 | R60: =SUM(R6:R59) -> 0 | S60: =SUM(S6:S59) -> 0
A61: ZADANIE 2
A62: 1 | B62: Amoxicillinum | D62: op. | E62: tabl. | F62: 0,5g | G62: 16 | H62: 3 | I62: 5 | L62: =ROUND((J62*K62),2) -> 0 | M62: =J62+L62 -> 0 | N62: =J62*H62 -> 0 | O62: =I62*J62 -> 0 | P62: =L62*H62 -> 0 | Q62: =I62*L62 -> 0 | R62: =M62*H62 -> 0 | S62: =I62*M62 -> 0
A63: 2 | B63: Clarithromycinum | D63: op. | E63: proszek do sporz.r-u do inf | F63: 0,5g | G63: 1 | H63: 15 | I63: 5 | L63: =ROUND((J63*K63),2) -> 0 | M63: =J63+L63 -> 0 | N63: =J63*H63 -> 0 | O63: =I63*J63 -> 0 | P63: =L63*H63 -> 0 | Q63: =I63*L63 -> 0 | R63: =M63*H63 -> 0 | S63: =I63*M63 -> 0
A64: 3 | B64: Colistimethatum natricum | D64: op. | E64: liof.d/s.r.d/wst., inf.,inj. iv. | F64: 1000000 j .m. | G64: 20 | H64: 4 | I64: 2 | L64: =ROUND((J64*K64),2) -> 0 | M64: =J64+L64 -> 0 | N64: =J64*H64 -> 0 | O64: =I64*J64 -> 0 | P64: =L64*H64 -> 0 | Q64: =I64*L64 -> 0 | R64: =M64*H64 -> 0 | S64: =I64*M64 -> 0
A65: 4 | B65: Cefotaximum- stosowany bez ograniczeń wiekowych (od 1 doby życia) | D65: op. | E65: prosz.d/sp.roztw.d/wstrz.inj. iv. | F65: 1g | G65: 1 | H65: 70 | I65: 30 | L65: =ROUND((J65*K65),2) -> 0 | M65: =J65+L65 -> 0 | N65: =J65*H65 -> 0 | O65: =I65*J65 -> 0 | P65: =L65*H65 -> 0 | Q65: =I65*L65 -> 0 | R65: =M65*H65 -> 0 | S65: =I65*M65 -> 0
A66: 5 | B66: Ceftriaxonum | D66: op. | E66: prosz.d/sp.roztw.d/wstrz, inj. iv. | F66: 1g | G66: 1 | H66: 70 | I66: 30 | L66: =ROUND((J66*K66),2) -> 0 | M66: =J66+L66 -> 0 | N66: =J66*H66 -> 0 | O66: =I66*J66 -> 0 | P66: =L66*H66 -> 0 | Q66: =I66*L66 -> 0 | R66: =M66*H66 -> 0 | S66: =I66*M66 -> 0
A67: 6 | B67: Cefuroximum- posiadający możliwość rozcieńczania w każdym z trzech ogólnie dostępnych rozcieńczalnikach: 0,9% NaCl, 5% roztwór glukozy, wody do inj. (posiadający jak najszersze wskazanie do stosowania m. in. zakażeniu skóry i tkanek miękkich, zakażenia kości i stawów, zapalenie opon mózgowo-rdzeniowych, zapobieganie zakażeniom w chirurgii w okresie okołooperacyjnym) | D67: op. | E67: prosz.d/sporz.zaw.roztw.d/wstrz. ,inj. iv. | F67: 0,75g | G67: 1 | H67: 0 | I67: 10 | L67: =ROUND((J67*K67),2) -> 0 | M67: =J67+L67 -> 0 | N67: =J67*H67 -> 0 | O67: =I67*J67 -> 0 | P67: =L67*H67 -> 0 | Q67: =I67*L67 -> 0 | R67: =M67*H67 -> 0 | S67: =I67*M67 -> 0
A68: 7 | B68: Cefuroximum- posiadający możliwość rozcieńczania w każdym z trzech ogólnie dostępnych rozcieńczalnikach: 0,9% NaCl, 5% roztwór glukozy, wody do inj. (posiadający jak najszersze wskazanie do stosowania m. in. zakażeniu skóry i tkanek miękkich, zakażenia kości i stawów, zapalenie opon mózgowo-rdzeniowych, zapobieganie zakażeniom w chirurgii w okresie okołooperacyjnym) | D68: op. | E68: prosz.d/sp.roztw.d/wstrz., inj. iv. | F68: 1,5g | G68: 1 | H68: 0 | I68: 30 | L68: =ROUND((J68*K68),2) -> 0 | M68: =J68+L68 -> 0 | N68: =J68*H68 -> 0 | O68: =I68*J68 -> 0 | P68: =L68*H68 -> 0 | Q68: =I68*L68 -> 0 | R68: =M68*H68 -> 0 | S68: =I68*M68 -> 0
A69: 8 | B69: Neomycinum | D69: op. | E69: aer. na skórę | F69: 11,72mg/g | G69: 32g | H69: 6 | I69: 4 | L69: =ROUND((J69*K69),2) -> 0 | M69: =J69+L69 -> 0 | N69: =J69*H69 -> 0 | O69: =I69*J69 -> 0 | P69: =L69*H69 -> 0 | Q69: =I69*L69 -> 0 | R69: =M69*H69 -> 0 | S69: =I69*M69 -> 0
A70: 9 | B70: Oxytetracyclinum+ Hydrocortisoni acetas | D70: op. | E70: aer. na skórę | F70: 0,005g+ 1,67mg/ml | G70: 32,25g | H70: 6 | I70: 4 | L70: =ROUND((J70*K70),2) -> 0 | M70: =J70+L70 -> 0 | N70: =J70*H70 -> 0 | O70: =I70*J70 -> 0 | P70: =L70*H70 -> 0 | Q70: =I70*L70 -> 0 | R70: =M70*H70 -> 0 | S70: =I70*M70 -> 0
A71: 10 | B71: Clonazepamum | D71: op. | E71: tabl. | F71: 0,002g | G71: 30 | H71: 350 | I71: 100 | L71: =ROUND((J71*K71),2) -> 0 | M71: =J71+L71 -> 0 | N71: =J71*H71 -> 0 | O71: =I71*J71 -> 0 | P71: =L71*H71 -> 0 | Q71: =I71*L71 -> 0 | R71: =M71*H71 -> 0 | S71: =I71*M71 -> 0
A72: 11 | B72: Clonazepamum | D72: op. | E72: tabl. | F72: 0,5mg | G72: 30 | H72: 950 | I72: 150 | L72: =ROUND((J72*K72),2) -> 0 | M72: =J72+L72 -> 0 | N72: =J72*H72 -> 0 | O72: =I72*J72 -> 0 | P72: =L72*H72 -> 0 | Q72: =I72*L72 -> 0 | R72: =M72*H72 -> 0 | S72: =I72*M72 -> 0
A73: 12 | B73: Clonazepamum | D73: op. | E73: roztw.d/wstrz.,inj. i.v., i.m. | F73: 0,001g/ml | G73: 10 | H73: 350 | I73: 50 | L73: =ROUND((J73*K73),2) -> 0 | M73: =J73+L73 -> 0 | N73: =J73*H73 -> 0 | O73: =I73*J73 -> 0 | P73: =L73*H73 -> 0 | Q73: =I73*L73 -> 0 | R73: =M73*H73 -> 0 | S73: =I73*M73 -> 0
A74: 13 | B74: Oxazepamum | D74: op. | E74: tabl.powl. | F74: 0,01g | G74: 20 | H74: 10 | I74: 5 | L74: =ROUND((J74*K74),2) -> 0 | M74: =J74+L74 -> 0 | N74: =J74*H74 -> 0 | O74: =I74*J74 -> 0 | P74: =L74*H74 -> 0 | Q74: =I74*L74 -> 0 | R74: =M74*H74 -> 0 | S74: =I74*M74 -> 0
A75: 14 | B75: Temazepamum | D75: op. | E75: tabl. | F75: 0,01g | G75: 20 | H75: 1 | I75: 3 | L75: =ROUND((J75*K75),2) -> 0 | M75: =J75+L75 -> 0 | N75: =J75*H75 -> 0 | O75: =I75*J75 -> 0 | P75: =L75*H75 -> 0 | Q75: =I75*L75 -> 0 | R75: =M75*H75 -> 0 | S75: =I75*M75 -> 0
A76: 15 | B76: Lorazepamum | D76: op. | E76: tabl.draż. | F76: 1 mg | G76: 25 | H76: 350 | I76: 100 | L76: =ROUND((J76*K76),2) -> 0 | M76: =J76+L76 -> 0 | N76: =J76*H76 -> 0 | O76: =I76*J76 -> 0 | P76: =L76*H76 -> 0 | Q76: =I76*L76 -> 0 | R76: =M76*H76 -> 0 | S76: =I76*M76 -> 0
A77: 16 | B77: Lorazepamum | D77: op. | E77: tabl.draż. | F77: 2,5 mg | G77: 25 | H77: 200 | I77: 50 | L77: =ROUND((J77*K77),2) -> 0 | M77: =J77+L77 -> 0 | N77: =J77*H77 -> 0 | O77: =I77*J77 -> 0 | P77: =L77*H77 -> 0 | Q77: =I77*L77 -> 0 | R77: =M77*H77 -> 0 | S77: =I77*M77 -> 0
A78: 17 | B78: Estazolamum | D78: op. | E78: tabl. | F78: 2 mg | G78: 20 | H78: 15 | I78: 5 | L78: =ROUND((J78*K78),2) -> 0 | M78: =J78+L78 -> 0 | N78: =J78*H78 -> 0 | O78: =I78*J78 -> 0 | P78: =L78*H78 -> 0 | Q78: =I78*L78 -> 0 | R78: =M78*H78 -> 0 | S78: =I78*M78 -> 0
A79: 18 | B79: Clarithromycinum | D79: op. | E79: tabl.powl. | F79: 0,5g | G79: 14 | H79: 5 | I79: 5 | L79: =ROUND((J79*K79),2) -> 0 | M79: =J79+L79 -> 0 | N79: =J79*H79 -> 0 | O79: =I79*J79 -> 0 | P79: =L79*H79 -> 0 | Q79: =I79*L79 -> 0 | R79: =M79*H79 -> 0 | S79: =I79*M79 -> 0
A80: 19 | B80: Gentamicinum | D80: op. | E80: roztw.d/wstrz.,inj. iv., im. | F80: 0,08g / 2ml | G80: 10 | H80: 0 | I80: 4 | L80: =ROUND((J80*K80),2) -> 0 | M80: =J80+L80 -> 0 | N80: =J80*H80 -> 0 | O80: =I80*J80 -> 0 | P80: =L80*H80 -> 0 | Q80: =I80*L80 -> 0 | R80: =M80*H80 -> 0 | S80: =I80*M80 -> 0
A81: 20 | B81: Nifuroxazidum | D81: op. | E81: tabl.powl. | F81: 0,1g | G81: 24 | H81: 5 | I81: 0 | L81: =ROUND((J81*K81),2) -> 0 | M81: =J81+L81 -> 0 | N81: =J81*H81 -> 0 | O81: =I81*J81 -> 0 | P81: =L81*H81 -> 0 | Q81: =I81*L81 -> 0 | R81: =M81*H81 -> 0 | S81: =I81*M81 -> 0
A82: 21 | B82: Nystatinum | D82: op. | E82: tabl.doj. | F82: 500.000j.m. | G82: 16 | H82: 10 | I82: 5 | L82: =ROUND((J82*K82),2) -> 0 | M82: =J82+L82 -> 0 | N82: =J82*H82 -> 0 | O82: =I82*J82 -> 0 | P82: =L82*H82 -> 0 | Q82: =I82*L82 -> 0 | R82: =M82*H82 -> 0 | S82: =I82*M82 -> 0
... A92: 31 | B92: Vancomycinum | D92: op. | E92: prosz.d/sporz.roztw.d/inf.,i roztw.doust. | F92: 0,5g | G92: 5 | H92: 20 | I92: 5 | L92: =ROUND((J92*K92),2) -> 0 | M92: =J92+L92 -> 0 | N92: =J92*H92 -> 0 | O92: =I92*J92 -> 0 | P92: =L92*H92 -> 0 | Q92: =I92*L92 -> 0 | R92: =M92*H92 -> 0 | S92: =I92*M92 -> 0
N93: =SUM(N62:N92) -> 0 | O93: =SUM(O62:O92) -> 0 | P93: =SUM(P62:P92) -> 0 | Q93: =SUM(Q62:Q92) -> 0 | R93: =SUM(R62:R92) -> 0 | S93: =SUM(S62:S92) -> 0
A94: ZADANIE 3
A95: 1 | B95: Piperacillinum+Tazobactamum | D95: op. | E95: proszek d/sporz.roztw.d/ inf. ,inj.i.v. / fiol. | F95: 4g+0,5g | G95: 10 | H95: 4 | I95: 1 | L95: =ROUND((J95*K95),2) -> 0 | M95: =J95+L95 -> 0 | N95: =J95*H95 -> 0 | O95: =I95*J95 -> 0 | P95: =L95*H95 -> 0 | Q95: =I95*L95 -> 0 | R95: =M95*H95 -> 0 | S95: =I95*M95 -> 0
A96: 2 | B96: Piperacillinum + Tazobactamum | D96: op. | E96: proszek d/sporz.roztw.d/inf., ,inj.i.v./ fiol. | F96: 2g +0,25 g | G96: 10 | H96: 2 | I96: 1 | L96: =ROUND((J96*K96),2) -> 0 | M96: =J96+L96 -> 0 | N96: =J96*H96 -> 0 | O96: =I96*J96 -> 0 | P96: =L96*H96 -> 0 | Q96: =I96*L96 -> 0 | R96: =M96*H96 -> 0 | S96: =I96*M96 -> 0
A97: 3 | B97: Levofloxacinum | D97: op. | E97: r-r do infuzji, poj.100ml | F97: 5mg/ml*100ml | G97: 10 | H97: 3 | I97: 0 | L97: =ROUND((J97*K97),2) -> 0 | M97: =J97+L97 -> 0 | N97: =J97*H97 -> 0 | O97: =I97*J97 -> 0 | P97: =L97*H97 -> 0 | Q97: =I97*L97 -> 0 | R97: =M97*H97 -> 0 | S97: =I97*M97 -> 0
A98: 4 | B98: Imipenemum+ Cilastatinum | D98: op. | E98: pr.d/inf.,inj. iv. | F98: 0,5g+ 0,5g | G98: 10 | H98: 3 | I98: 1 | L98: =ROUND((J98*K98),2) -> 0 | M98: =J98+L98 -> 0 | N98: =J98*H98 -> 0 | O98: =I98*J98 -> 0 | P98: =L98*H98 -> 0 | Q98: =I98*L98 -> 0 | R98: =M98*H98 -> 0 | S98: =I98*M98 -> 0
N99: =SUM(N95:N98) -> 0 | O99: =SUM(O95:O98) -> 0 | P99: =SUM(P95:P98) -> 0 | Q99: =SUM(Q95:Q98) -> 0 | R99: =SUM(R95:R98) -> 0 | S99: =SUM(S95:S98) -> 0
A100: ZADANIE 4
A101: 1 | B101: Enoxaparinum natricum | D101: op. | E101: amp-strz | F101: 0,02g/ 0,2ml | G101: 10 | H101: 0 | I101: 5 | L101: =ROUND((J101*K101),2) -> 0 | M101: =J101+L101 -> 0 | N101: =J101*H101 -> 0 | O101: =I101*J101 -> 0 | P101: =L101*H101 -> 0 | Q101: =I101*L101 -> 0 | R101: =M101*H101 -> 0 | S101: =I101*M101 -> 0
A102: 2 | B102: Enoxaparinum natricum | D102: op. | E102: amp-strz | F102: 0,04g/ 0,4ml | G102: 10 | H102: 100 | I102: 20 | L102: =ROUND((J102*K102),2) -> 0 | M102: =J102+L102 -> 0 | N102: =J102*H102 -> 0 | O102: =I102*J102 -> 0 | P102: =L102*H102 -> 0 | Q102: =I102*L102 -> 0 | R102: =M102*H102 -> 0 | S102: =I102*M102 -> 0
A103: 3 | B103: Enoxaparinum natricum | D103: op. | E103: amp-strz | F103: 0,06g/ 0,6ml | G103: 10 | H103: 45 | I103: 10 | L103: =ROUND((J103*K103),2) -> 0 | M103: =J103+L103 -> 0 | N103: =J103*H103 -> 0 | O103: =I103*J103 -> 0 | P103: =L103*H103 -> 0 | Q103: =I103*L103 -> 0 | R103: =M103*H103 -> 0 | S103: =I103*M103 -> 0
A104: 4 | B104: Enoxaparinum natricum | D104: op. | E104: amp-strz | F104: 0,08g/ 0,8ml | G104: 10 | H104: 40 | I104: 10 | L104: =ROUND((J104*K104),2) -> 0 | M104: =J104+L104 -> 0 | N104: =J104*H104 -> 0 | O104: =I104*J104 -> 0 | P104: =L104*H104 -> 0 | Q104: =I104*L104 -> 0 | R104: =M104*H104 -> 0 | S104: =I104*M104 -> 0
N105: =SUM(N101:N104) -> 0 | O105: =SUM(O101:O104) -> 0 | P105: =SUM(P101:P104) -> 0 | Q105: =SUM(Q101:Q104) -> 0 | R105: =SUM(R101:R104) -> 0 | S105: =SUM(S101:S104) -> 0
A106: ZADANIE 5-ok
A107: 1 | B107: Natrii valproas+ Acidum valproicum | D107: op. | E107: tabl. o przedł. uwal. | F107: 0,2g+ 0,087g | G107: 30 | H107: 150 | I107: 50 | L107: =ROUND((J107*K107),2) -> 0 | M107: =J107+L107 -> 0 | N107: =J107*H107 -> 0 | O107: =I107*J107 -> 0 | P107: =L107*H107 -> 0 | Q107: =I107*L107 -> 0 | R107: =M107*H107 -> 0 | S107: =I107*M107 -> 0
A108: 2 | B108: Natrii valproas+ Acidum valproicum | D108: op. | E108: tabl. o przedł. uwal. | F108: 0,333g+ 0,145g | G108: 30 | H108: 850 | I108: 100 | L108: =ROUND((J108*K108),2) -> 0 | M108: =J108+L108 -> 0 | N108: =J108*H108 -> 0 | O108: =I108*J108 -> 0 | P108: =L108*H108 -> 0 | Q108: =I108*L108 -> 0 | R108: =M108*H108 -> 0 | S108: =I108*M108 -> 0
A109: 3 | B109: Natrii valproas+ Acidum valproicum | D109: op. | E109: granulat o przedł. uwal. | F109: 500 mg | G109: 30 | H109: 50 | I109: 10 | L109: =ROUND((J109*K109),2) -> 0 | M109: =J109+L109 -> 0 | N109: =J109*H109 -> 0 | O109: =I109*J109 -> 0 | P109: =L109*H109 -> 0 | Q109: =I109*L109 -> 0 | R109: =M109*H109 -> 0 | S109: =I109*M109 -> 0
A110: 4 | B110: Natrii valproas+ Acidum valproicum | D110: op. | E110: granulat o przedł. uwal. | F110: 750 mg | G110: 30 | H110: 15 | I110: 10 | L110: =ROUND((J110*K110),2) -> 0 | M110: =J110+L110 -> 0 | N110: =J110*H110 -> 0 | O110: =I110*J110 -> 0 | P110: =L110*H110 -> 0 | Q110: =I110*L110 -> 0 | R110: =M110*H110 -> 0 | S110: =I110*M110 -> 0
A111: 5 | B111: Amisulpridum | D111: op. | E111: tabl. | F111: 200 mg | G111: 30 | H111: 110 | I111: 30 | L111: =ROUND((J111*K111),2) -> 0 | M111: =J111+L111 -> 0 | N111: =J111*H111 -> 0 | O111: =I111*J111 -> 0 | P111: =L111*H111 -> 0 | Q111: =I111*L111 -> 0 | R111: =M111*H111 -> 0 | S111: =I111*M111 -> 0
A112: 6 | B112: Amisulpridum | D112: op. | E112: tabl. | F112: 400 mg | G112: 30 | H112: 110 | I112: 40 | L112: =ROUND((J112*K112),2) -> 0 | M112: =J112+L112 -> 0 | N112: =J112*H112 -> 0 | O112: =I112*J112 -> 0 | P112: =L112*H112 -> 0 | Q112: =I112*L112 -> 0 | R112: =M112*H112 -> 0 | S112: =I112*M112 -> 0
N113: =SUM(N107:N112) -> 0 | O113: =SUM(O107:O112) -> 0 | P113: =SUM(P107:P112) -> 0 | Q113: =SUM(Q107:Q112) -> 0 | R113: =SUM(R107:R112) -> 0 | S113: =SUM(S107:S112) -> 0
A114: ZADANIE 6
A115: 1 | B115: Gliclazidum | D115: op. | E115: tabl. o przedłużonym uwalnianiu | F115: 0,03g | G115: 90 | H115: 15 | I115: 5 | L115: =ROUND((J115*K115),2) -> 0 | M115: =J115+L115 -> 0 | N115: =J115*H115 -> 0 | O115: =I115*J115 -> 0 | P115: =L115*H115 -> 0 | Q115: =I115*L115 -> 0 | R115: =M115*H115 -> 0 | S115: =I115*M115 -> 0
A116: 2 | B116: Indapamidum | D116: op. | E116: tabl.o przedłuzonym uwalnianiu | F116: 1,5mg | G116: 108 | H116: 15 | I116: 5 | L116: =ROUND((J116*K116),2) -> 0 | M116: =J116+L116 -> 0 | N116: =J116*H116 -> 0 | O116: =I116*J116 -> 0 | P116: =L116*H116 -> 0 | Q116: =I116*L116 -> 0 | R116: =M116*H116 -> 0 | S116: =I116*M116 -> 0
A117: 3 | B117: Perindoprilum | D117: op. | E117: tabl.powl. | F117: 0,005g | G117: 90 | H117: 27 | I117: 3 | L117: =ROUND((J117*K117),2) -> 0 | M117: =J117+L117 -> 0 | N117: =J117*H117 -> 0 | O117: =I117*J117 -> 0 | P117: =L117*H117 -> 0 | Q117: =I117*L117 -> 0 | R117: =M117*H117 -> 0 | S117: =I117*M117 -> 0
A118: 4 | B118: Tianeptinum | D118: op. | E118: tabl.powl. | F118: 0,0125g | G118: 108 | H118: 12 | I118: 3 | L118: =ROUND((J118*K118),2) -> 0 | M118: =J118+L118 -> 0 | N118: =J118*H118 -> 0 | O118: =I118*J118 -> 0 | P118: =L118*H118 -> 0 | Q118: =I118*L118 -> 0 | R118: =M118*H118 -> 0 | S118: =I118*M118 -> 0
A119: 5 | B119: Trimetazidinum | D119: op. | E119: tabl.o przedłużonym uwalnianiu | F119: 0,035g | G119: 90 | H119: 2 | I119: 0 | L119: =ROUND((J119*K119),2) -> 0 | M119: =J119+L119 -> 0 | N119: =J119*H119 -> 0 | O119: =I119*J119 -> 0 | P119: =L119*H119 -> 0 | Q119: =I119*L119 -> 0 | R119: =M119*H119 -> 0 | S119: =I119*M119 -> 0
D120: op | N120: =SUM(N115:N119) -> 0 | O120: =SUM(O115:O119) -> 0 | P120: =SUM(P115:P119) -> 0 | Q120: =SUM(Q115:Q119) -> 0 | R120: =SUM(R115:R119) -> 0 | S120: =SUM(S115:S119) -> 0
A121: ZADANIE 7
A122: 1 | B122: Acidum acetylsalicylicum | D122: op. | E122: tabl. | F122: 0,3g | G122: 10 | H122: 50 | I122: 15 | L122: =ROUND((J122*K122),2) -> 0 | M122: =J122+L122 -> 0 | N122: =J122*H122 -> 0 | O122: =I122*J122 -> 0 | P122: =L122*H122 -> 0 | Q122: =I122*L122 -> 0 | R122: =M122*H122 -> 0 | S122: =I122*M122 -> 0
A123: 2 | B123: Metamizolum natricum | D123: op. | E123: roztw.d/wstrz. ,inj. i.m., i.v. | F123: 2,5g/5ml | G123: 5 | H123: 7 | I123: 0 | L123: =ROUND((J123*K123),2) -> 0 | M123: =J123+L123 -> 0 | N123: =J123*H123 -> 0 | O123: =I123*J123 -> 0 | P123: =L123*H123 -> 0 | Q123: =I123*L123 -> 0 | R123: =M123*H123 -> 0 | S123: =I123*M123 -> 0
A124: 3 | B124: Tramadoli hydrochloridum | D124: 50mg/1ml*5amp. | E124: , roztw.d/wstrz.,inj. i.m., i.v., s.c. | F124: 0,05g/ml | G124: 5 | H124: 3 | I124: 0 | L124: =ROUND((J124*K124),2) -> 0 | M124: =J124+L124 -> 0 | N124: =J124*H124 -> 0 | O124: =I124*J124 -> 0 | P124: =L124*H124 -> 0 | Q124: =I124*L124 -> 0 | R124: =M124*H124 -> 0 | S124: =I124*M124 -> 0
A125: 4 | B125: Tramadoli hydrochloridum | D125: op. | E125: roztw.d/wstrz.,,inj. i.m., i.v., s.c. | F125: 0,1g/2ml | G125: 5 | H125: 3 | I125: 0 | L125: =ROUND((J125*K125),2) -> 0 | M125: =J125+L125 -> 0 | N125: =J125*H125 -> 0 | O125: =I125*J125 -> 0 | P125: =L125*H125 -> 0 | Q125: =I125*L125 -> 0 | R125: =M125*H125 -> 0 | S125: =I125*M125 -> 0
A126: 5 | B126: Tramadoli hydrochloridum | D126: op. | E126: kaps. | F126: 0,05g | G126: 20 | H126: 15 | I126: 5 | L126: =ROUND((J126*K126),2) -> 0 | M126: =J126+L126 -> 0 | N126: =J126*H126 -> 0 | O126: =I126*J126 -> 0 | P126: =L126*H126 -> 0 | Q126: =I126*L126 -> 0 | R126: =M126*H126 -> 0 | S126: =I126*M126 -> 0
A127: 6 | B127: Torasemidum | D127: op. | E127: tabl. | F127: 0,02g | G127: 30 | H127: 10 | I127: 5 | L127: =ROUND((J127*K127),2) -> 0 | M127: =J127+L127 -> 0 | N127: =J127*H127 -> 0 | O127: =I127*J127 -> 0 | P127: =L127*H127 -> 0 | Q127: =I127*L127 -> 0 | R127: =M127*H127 -> 0 | S127: =I127*M127 -> 0
A128: 7 | B128: Torasemidum | D128: op. | E128: tabl. | F128: 0,005g | G128: 30 | H128: 80 | I128: 20 | L128: =ROUND((J128*K128),2) -> 0 | M128: =J128+L128 -> 0 | N128: =J128*H128 -> 0 | O128: =I128*J128 -> 0 | P128: =L128*H128 -> 0 | Q128: =I128*L128 -> 0 | R128: =M128*H128 -> 0 | S128: =I128*M128 -> 0
A129: 8 | B129: Aciclovirum | D129: op. | E129: tabl.powl. | F129: 0,8g | G129: 30 | H129: 4 | I129: 2 | L129: =ROUND((J129*K129),2) -> 0 | M129: =J129+L129 -> 0 | N129: =J129*H129 -> 0 | O129: =I129*J129 -> 0 | P129: =L129*H129 -> 0 | Q129: =I129*L129 -> 0 | R129: =M129*H129 -> 0 | S129: =I129*M129 -> 0
A130: 9 | B130: Simvastatinum | D130: op. | E130: tabl.powl. | F130: 0,02g | G130: 28 | H130: 2 | I130: 0 | L130: =ROUND((J130*K130),2) -> 0 | M130: =J130+L130 -> 0 | N130: =J130*H130 -> 0 | O130: =I130*J130 -> 0 | P130: =L130*H130 -> 0 | Q130: =I130*L130 -> 0 | R130: =M130*H130 -> 0 | S130: =I130*M130 -> 0
A131: 10 | B131: Simvastatinum | D131: op. | E131: tabl.powl. | F131: 0,01g | G131: 28 | H131: 2 | I131: 0 | L131: =ROUND((J131*K131),2) -> 0 | M131: =J131+L131 -> 0 | N131: =J131*H131 -> 0 | O131: =I131*J131 -> 0 | P131: =L131*H131 -> 0 | Q131: =I131*L131 -> 0 | R131: =M131*H131 -> 0 | S131: =I131*M131 -> 0
A132: 11 | B132: Metronidazolum | D132: op. | E132: tabl. | F132: 0,25g | G132: 20 | H132: 20 | I132: 10 | L132: =ROUND((J132*K132),2) -> 0 | M132: =J132+L132 -> 0 | N132: =J132*H132 -> 0 | O132: =I132*J132 -> 0 | P132: =L132*H132 -> 0 | Q132: =I132*L132 -> 0 | R132: =M132*H132 -> 0 | S132: =I132*M132 -> 0
A133: 12 | B133: Metronidazolum | D133: op. | E133: tabl.dopochw. | F133: 0,5g | G133: 10 | H133: 1 | I133: 0 | L133: =ROUND((J133*K133),2) -> 0 | M133: =J133+L133 -> 0 | N133: =J133*H133 -> 0 | O133: =I133*J133 -> 0 | P133: =L133*H133 -> 0 | Q133: =I133*L133 -> 0 | R133: =M133*H133 -> 0 | S133: =I133*M133 -> 0
...

Sheet SUMA
A1: Zadanie | B1: Zamówienie podst. | C1: Zamówienie podst. | D1: Prawo opcji | E1: Prawo opcji | F1: Razem zamówienie podstawowe+prawo opcji
B2: wartość netto | C2: wartość brutto | D2: wartość netto | E2: wartość brutto | F2: wartość netto | G2: wartość brutto
A3: 1 | B3: ='Przetarg 2024'!N60 -> 0 | C3: ='Przetarg 2024'!R60 -> 0 | D3: ='Przetarg 2024'!O60 -> 0 | E3: ='Przetarg 2024'!S60 -> 0 | F3: =B3+D3 -> 0 | G3: =C3+E3 -> 0
A4: 2 | B4: ='Przetarg 2024'!N93 -> 0 | C4: ='Przetarg 2024'!R93 -> 0 | D4: ='Przetarg 2024'!O93 -> 0 | E4: ='Przetarg 2024'!S93 -> 0 | F4: =B4+D4 -> 0 | G4: =C4+E4 -> 0
A5: 3 | B5: ='Przetarg 2024'!N99 -> 0 | C5: ='Przetarg 2024'!R99 -> 0 | D5: ='Przetarg 2024'!O99 -> 0 | E5: ='Przetarg 2024'!S99 -> 0 | F5: =B5+D5 -> 0 | G5: =C5+E5 -> 0
A6: 4 | B6: ='Przetarg 2024'!N105 -> 0 | C6: ='Przetarg 2024'!R105 -> 0 | D6: ='Przetarg 2024'!O105 -> 0 | E6: ='Przetarg 2024'!S105 -> 0 | F6: =B6+D6 -> 0 | G6: =C6+E6 -> 0
A7: 5 | B7: ='Przetarg 2024'!N113 -> 0 | C7: ='Przetarg 2024'!R113 -> 0 | D7: ='Przetarg 2024'!O113 -> 0 | E7: ='Przetarg 2024'!S113 -> 0 | F7: =B7+D7 -> 0 | G7: =C7+E7 -> 0
A8: 6 | B8: ='Przetarg 2024'!N120 -> 0 | C8: ='Przetarg 2024'!R120 -> 0 | D8: ='Przetarg 2024'!O120 -> 0 | E8: ='Przetarg 2024'!S120 -> 0 | F8: =B8+D8 -> 0 | G8: =C8+E8 -> 0
A9: 7 | B9: ='Przetarg 2024'!N183 -> 0 | C9: ='Przetarg 2024'!R183 -> 0 | D9: ='Przetarg 2024'!O183 -> 0 | E9: ='Przetarg 2024'!S183 -> 0 | F9: =B9+D9 -> 0 | G9: =C9+E9 -> 0
A10: 8 | B10: ='Przetarg 2024'!N425 -> 0 | C10: ='Przetarg 2024'!R425 -> 0 | D10: ='Przetarg 2024'!O425 -> 0 | E10: ='Przetarg 2024'!S425 -> 0 | F10: =B10+D10 -> 0 | G10: =C10+E10 -> 0
A11: 9 | B11: ='Przetarg 2024'!N436 -> 0 | C11: ='Przetarg 2024'!R436 -> 0 | D11: ='Przetarg 2024'!O436 -> 0 | E11: ='Przetarg 2024'!S436 -> 0 | F11: =B11+D11 -> 0 | G11: =C11+E11 -> 0
A12: 10 | B12: ='Przetarg 2024'!N444 -> 0 | C12: ='Przetarg 2024'!R444 -> 0 | D12: ='Przetarg 2024'!O444 -> 0 | E12: ='Przetarg 2024'!S444 -> 0 | F12: =B12+D12 -> 0 | G12: =C12+E12 -> 0
A13: 11 | B13: ='Przetarg 2024'!N455 -> 0 | C13: ='Przetarg 2024'!R455 -> 0 | D13: ='Przetarg 2024'!O455 -> 0 | E13: ='Przetarg 2024'!S455 -> 0 | F13: =B13+D13 -> 0 | G13: =C13+E13 -> 0
A14: 12 | B14: ='Przetarg 2024'!N497 -> 0 | C14: ='Przetarg 2024'!R497 -> 0 | D14: ='Przetarg 2024'!O497 -> 0 | E14: ='Przetarg 2024'!S497 -> 0 | F14: =B14+D14 -> 0 | G14: =C14+E14 -> 0
A15: 13 | B15: ='Przetarg 2024'!N502 -> 0 | C15: ='Przetarg 2024'!R502 -> 0 | D15: ='Przetarg 2024'!O502 -> 0 | E15: ='Przetarg 2024'!S502 -> 0 | F15: =B15+D15 -> 0 | G15: =C15+E15 -> 0
A16: 14 | B16: ='Przetarg 2024'!N506 -> 0 | C16: ='Przetarg 2024'!R506 -> 0 | D16: ='Przetarg 2024'!O506 -> 0 | E16: ='Przetarg 2024'!S506 -> 0 | F16: =B16+D16 -> 0 | G16: =C16+E16 -> 0
A17: 15 | B17: ='Przetarg 2024'!N509 -> 0 | C17: ='Przetarg 2024'!R509 -> 0 | D17: ='Przetarg 2024'!O509 -> 0 | E17: ='Przetarg 2024'!S509 -> 0 | F17: =B17+D17 -> 0 | G17: =C17+E17 -> 0
A18: 16 | B18: ='Przetarg 2024'!N514 -> 0 | C18: ='Przetarg 2024'!R514 -> 0 | D18: ='Przetarg 2024'!O514 -> 0 | E18: ='Przetarg 2024'!S514 -> 0 | F18: =B18+D18 -> 0 | G18: =C18+E18 -> 0
A19: 17 | B19: ='Przetarg 2024'!N560 -> 0 | C19: ='Przetarg 2024'!R560 -> 0 | D19: ='Przetarg 2024'!O560 -> 0 | E19: ='Przetarg 2024'!S560 -> 0 | F19: =B19+D19 -> 0 | G19: =C19+E19 -> 0
A20: 18 | B20: ='Przetarg 2024'!N565 -> 0 | C20: ='Przetarg 2024'!R565 -> 0 | D20: ='Przetarg 2024'!O565 -> 0 | E20: ='Przetarg 2024'!S565 -> 0 | F20: =B20+D20 -> 0 | G20: =C20+E20 -> 0
A21: 19 | B21: ='Przetarg 2024'!N571 -> 0 | C21: ='Przetarg 2024'!R571 -> 0 | D21: ='Przetarg 2024'!O571 -> 0 | E21: ='Przetarg 2024'!S571 -> 0 | F21: =B21+D21 -> 0 | G21: =C21+E21 -> 0
A22: Razem | B22: =SUM(B3:B21) -> 0 | C22: =SUM(C3:C21) -> 0 | D22: =SUM(D3:D21) -> 0 | E22: =SUM(E3:E21) -> 0 | F22: =SUM(F3:F21) -> 0 | G22: =SUM(G3:G21) -> 0
