Workbook

Sheet Przetarg 2024
A1: FORMULARZ CENOWY
A2: L.p. | B2: Nazwa międzynarodowa | C2: Nazwa handlowa | D2: j.m. | E2: Postać/ rodzaj op j. | F2: Dawka / wielkość op.j. | G2: ilość w op.j. | H2: Ilość do przetargu | I2: ilość orawo opcji | J2: Cena j. netto | K2: VAT % | L2: Kwota j.VAT | M2: Cena j. brutto | N2: wartość netto 12 miesięcy | O2: wartość netto 12 miesięcy-prawo opcji | P2: kwota VAT | Q2: kwota VAT opcji | R2: Wartość brutto 12m-cy | S2: wartość brutto - prawo opcji | T2: Proponowana ilość w op. | U2: Rodzaj ceny | V2: Uwagi
A3: 1 | B3: 2 | C3: 3 | D3: 4 | E3: 5 | F3: 6 | G3: 7 | H3: 8 | I3: 9 | J3: 10 | K3: 11 | L3: 12 | M3: 13 | N3: 14 | P3: 15 | R3: 16 | S3: 17 | T3: 18 | U3: 19 | V3: 20
A4: x | B4: x | C4: x | D4: x | E4: x | F4: x | G4: x | H4: x | I4: x | J4: x | K4: x | L4: [10x11] | M4: [10+12] | N4: [8x10] | O4: [9x10] | P4: [8x12] | Q4: [9x12] | R4: [8x13] | S4: [9x10]
A5: ZADANIE 1
A6: 1 | B6: Furaginum | D6: op. | E6: tabl. | F6: 0,05g | G6: 30 | H6: 140 | I6: 30 | L6: =ROUND((J6*K6),2) -> 0 | M6: =J6+L6 -> 0 | N6: =J6*H6 -> 0 | O6: =I6*J6 -> 0 | P6: =L6*H6 -> 0 | Q6: =I6*L6 -> 0 | R6: =M6*H6 -> 0 | S6: =I6*M6 -> 0
A7: 2 | B7: Sulfamethoxazolum+ Trimethoprimum | D7: op. | E7: tabl. | F7: 0,48g | G7: 20 | H7: 40 | I7: 10 | L7: =ROUND((J7*K7),2) -> 0 | M7: =J7+L7 -> 0 | N7: =J7*H7 -> 0 | O7: =I7*J7 -> 0 | P7: =L7*H7 -> 0 | Q7: =I7*L7 -> 0 | R7: =M7*H7 -> 0 | S7: =I7*M7 -> 0
A8: 3 | B8: Amlodipinum | D8: op. | E8: tabl. | F8: 0,005g | G8: 30 | H8: 90 | I8: 30 | L8: =ROUND((J8*K8),2) -> 0 | M8: =J8+L8 -> 0 | N8: =J8*H8 -> 0 | O8: =I8*J8 -> 0 | P8: =L8*H8 -> 0 | Q8: =I8*L8 -> 0 | R8: =M8*H8 -> 0 | S8: =I8*M8 -> 0
A9: 4 | B9: Amlodipinum | D9: op. | E9: tabl. | F9: 0,01g | G9: 30 | H9: 35 | I9: 10 | L9: =ROUND((J9*K9),2) -> 0 | M9: =J9+L9 -> 0 | N9: =J9*H9 -> 0 | O9: =I9*J9 -> 0 | P9: =L9*H9 -> 0 | Q9: =I9*L9 -> 0 | R9: =M9*H9 -> 0 | S9: =I9*M9 -> 0
A10: 5 | B10: Duloksetyna | D10: op. | E10: tabl.dojelit. | F10: 30mg | G10: 28 | H10: 70 | I10: 15 | L10: =ROUND((J10*K10),2) -> 0 | M10: =J10+L10 -> 0 | N10: =J10*H10 -> 0 | O10: =I10*J10 -> 0 | P10: =L10*H10 -> 0 | Q10: =I10*L10 -> 0 | R10: =M10*H10 -> 0 | S10: =I10*M10 -> 0
A11: 6 | B11: Duloksetyna | D11: op. | E11: tabl.dojelit. | F11: 60mg | G11: 28 | H11: 85 | I11: 10 | L11: =ROUND((J11*K11),2) -> 0 | M11: =J11+L11 -> 0 | N11: =J11*H11 -> 0 | O11: =I11*J11 -> 0 | P11: =L11*H11 -> 0 | Q11: =I11*L11 -> 0 | R11: =M11*H11 -> 0 | S11: =I11*M11 -> 0
A12: 7 | B12: Ramiprilum | D12: op. | E12: tabl. | F12: 0,0025g | G12: 30 | H12: 90 | I12: 30 | L12: =ROUND((J12*K12),2) -> 0 | M12: =J12+L12 -> 0 | N12: =J12*H12 -> 0 | O12: =I12*J12 -> 0 | P12: =L12*H12 -> 0 | Q12: =I12*L12 -> 0 | R12: =M12*H12 -> 0 | S12: =I12*M12 -> 0
A13: 8 | B13: Ramiprilum | D13: op. | E13: tabl. | F13: 0,005g | G13: 30 | H13: 120 | I13: 40 | L13: =ROUND((J13*K13),2) -> 0 | M13: =J13+L13 -> 0 | N13: =J13*H13 -> 0 | O13: =I13*J13 -> 0 | P13: =L13*H13 -> 0 | Q13: =I13*L13 -> 0 | R13: =M13*H13 -> 0 | S13: =I13*M13 -> 0
A14: 9 | B14: Nebivololum | D14: op. | E14: tabl. | F14: 5mg | G14: 28 | H14: 90 | I14: 30 | L14: =ROUND((J14*K15),2) -> 0 | M14: =J14+L14 -> 0 | N14: =J14*H14 -> 0 | O14: =I14*J14 -> 0 | P14: =L14*H14 -> 0 | Q14: =I14*L14 -> 0 | R14: =M14*H14 -> 0 | S14: =I14*M14 -> 0
A15: 10 | B15: Telmisartanum | D15: op. | E15: tabl. | F15: 0,04g | G15: 28 | H15: 12 | I15: 5 | L15: =ROUND((J15*K16),2) -> 0 | M15: =J15+L15 -> 0 | N15: =J15*H15 -> 0 | O15: =I15*J15 -> 0 | P15: =L15*H15 -> 0 | Q15: =I15*L15 -> 0 | R15: =M15*H15 -> 0 | S15: =I15*M15 -> 0
A16: 11 | B16: Telmisartanum | D16: op. | E16: tabl. | F16: 0,08g | G16: 28 | H16: 12 | I16: 5 | L16: =ROUND((J16*K16),2) -> 0 | M16: =J16+L16 -> 0 | N16: =J16*H16 -> 0 | O16: =I16*J16 -> 0 | P16: =L16*H16 -> 0 | Q16: =I16*L16 -> 0 | R16: =M16*H16 -> 0 | S16: =I16*M16 -> 0
A17: 12 | B17: Losartanum | D17: op. | E17: tabl.powl | F17: 50 mg | G17: 30 | H17: 5 | I17: 2 | L17: =ROUND((J17*K17),2) -> 0 | M17: =J17+L17 -> 0 | N17: =J17*H17 -> 0 | O17: =I17*J17 -> 0 | P17: =L17*H17 -> 0 | Q17: =I17*L17 -> 0 | R17: =M17*H17 -> 0 | S17: =I17*M17 -> 0
A18: 13 | B18: Agomelatinum | D18: op. | E18: tabl.powl. | F18: 25mg | G18: 28 | H18: 5 | I18: 0 | L18: =ROUND((J18*K18),2) -> 0 | M18: =J18+L18 -> 0 | N18: =J18*H18 -> 0 | O18: =I18*J18 -> 0 | P18: =L18*H18 -> 0 | Q18: =I18*L18 -> 0 | R18: =M18*H18 -> 0 | S18: =I18*M18 -> 0
A19: 14 | B19: Pregabalinum | D19: op. | E19: kaps./tabl. | F19: 75mg | G19: 56 | H19: 90 | I19: 25 | L19: =ROUND((J19*K19),2) -> 0 | M19: =J19+L19 -> 0 | N19: =J19*H19 -> 0 | O19: =I19*J19 -> 0 | P19: =L19*H19 -> 0 | Q19: =I19*L19 -> 0 | R19: =M19*H19 -> 0 | S19: =I19*M19 -> 0
A20: 15 | B20: Pregabalinum | D20: op. | E20: kaps./tabl. | F20: 150mg | G20: 56 | H20: 100 | I20: 25 | L20: =ROUND((J20*K20),2) -> 0 | M20: =J20+L20 -> 0 | N20: =J20*H20 -> 0 | O20: =I20*J20 -> 0 | P20: =L20*H20 -> 0 | Q20: =I20*L20 -> 0 | R20: =M20*H20 -> 0 | S20: =I20*M20 -> 0
A21: 16 | B21: Formoterolum | D21: op. | E21: pr.do inhal.w kaps. | F21: 12 mcg/ daw | G21: 60 dawek | H21: 10 | I21: 2 | L21: =ROUND((J21*K21),2) -> 0 | M21: =J21+L21 -> 0 | N21: =J21*H21 -> 0 | O21: =I21*J21 -> 0 | P21: =L21*H21 -> 0 | Q21: =I21*L21 -> 0 | R21: =M21*H21 -> 0 | S21: =I21*M21 -> 0
A22: 17 | B22: Omeprazolum | D22: op. | E22: kaps. | F22: 0,02g | G22: 28 | H22: 180 | I22: 50 | L22: =ROUND((J22*K22),2) -> 0 | M22: =J22+L22 -> 0 | N22: =J22*H22 -> 0 | O22: =I22*J22 -> 0 | P22: =L22*H22 -> 0 | Q22: =I22*L22 -> 0 | R22: =M22*H22 -> 0 | S22: =I22*M22 -> 0
A23: 18 | B23: Pantoprazolum | D23: op. | E23: tabl.dojelit. | F23: 0,02g | G23: 28 | H23: 120 | I23: 50 | L23: =ROUND((J23*K23),2) -> 0 | M23: =J23+L23 -> 0 | N23: =J23*H23 -> 0 | O23: =I23*J23 -> 0 | P23: =L23*H23 -> 0 | Q23: =I23*L23 -> 0 | R23: =M23*H23 -> 0 | S23: =I23*M23 -> 0
A24: 19 | B24: Escitalopramum | D24: op. | E24: tabl.powl. | F24: 0,02g | G24: 28 | H24: 30 | I24: 5 | L24: =ROUND((J24*K24),2) -> 0 | M24: =J24+L24 -> 0 | N24: =J24*H24 -> 0 | O24: =I24*J24 -> 0 | P24: =L24*H24 -> 0 | Q24: =I24*L24 -> 0 | R24: =M24*H24 -> 0 | S24: =I24*M24 -> 0
A25: 20 | B25: Escitalopramum | D25: op. | E25: tabl.powl. | F25: 0,01g | G25: 28 | H25: 70 | I25: 10 | L25: =ROUND((J25*K25),2) -> 0 | M25: =J25+L25 -> 0 | N25: =J25*H25 -> 0 | O25: =I25*J25 -> 0 | P25: =L25*H25 -> 0 | Q25: =I25*L25 -> 0 | R25: =M25*H25 -> 0 | S25: =I25*M25 -> 0
A26: 21 | B26: Mianserinum | D26: op. | E26: tabl.powl. | F26: 0,01g | G26: 30 | H26: 70 | I26: 20 | L26: =ROUND((J26*K26),2) -> 0 | M26: =J26+L26 -> 0 | N26: =J26*H26 -> 0 | O26: =I26*J26 -> 0 | P26: =L26*H26 -> 0 | Q26: =I26*L26 -> 0 | R26: =M26*H26 -> 0 | S26: =I26*M26 -> 0
A27: 22 | B27: Mianserinum | D27: op. | E27: tabl.powl. | F27: 0,03g | G27: 30 | H27: 60 | I27: 15 | L27: =ROUND((J27*K27),2) -> 0 | M27: =J27+L27 -> 0 | N27: =J27*H27 -> 0 | O27: =I27*J27 -> 0 | P27: =L27*H27 -> 0 | Q27: =I27*L27 -> 0 | R27: =M27*H27 -> 0 | S27: =I27*M27 -> 0
A28: 23 | B28: Mianserinum | D28: op. | E28: tabl.powl. | F28: 0,06g | G28: 30 | H28: 15 | I28: 5 | L28: =ROUND((J28*K28),2) -> 0 | M28: =J28+L28 -> 0 | N28: =J28*H28 -> 0 | O28: =I28*J28 -> 0 | P28: =L28*H28 -> 0 | Q28: =I28*L28 -> 0 | R28: =M28*H28 -> 0 | S28: =I28*M28 -> 0
A29: 24 | B29: Olanzapinum | D29: op. | E29: ******tabl. uleg.rozp. w jamie ustnej | F29: 5mg | G29: 28 | H29: 250 | I29: 50 | L29: =ROUND((J29*K29),2) -> 0 | M29: =J29+L29 -> 0 | N29: =J29*H29 -> 0 | O29: =I29*J29 -> 0 | P29: =L29*H29 -> 0 | Q29: =I29*L29 -> 0 | R29: =M29*H29 -> 0 | S29: =I29*M29 -> 0
A30: 25 | B30: Olanzapinum | D30: op. | E30: ******tabl. uleg. rozp..w jamie ustnej | F30: 10mg | G30: 28 | H30: 370 | I30: 50 | L30: =ROUND((J30*K30),2) -> 0 | M30: =J30+L30 -> 0 | N30: =J30*H30 -> 0 | O30: =I30*J30 -> 0 | P30: =L30*H30 -> 0 | Q30: =I30*L30 -> 0 | R30: =M30*H30 -> 0 | S30: =I30*M30 -> 0
A31: 26 | B31: Olanzapinum | D31: op. | E31: ******tabl. uleg.rozp.w jamie ustnej | F31: 20mg | G31: 28 | H31: 400 | I31: 60 | L31: =ROUND((J31*K31),2) -> 0 | M31: =J31+L31 -> 0 | N31: =J31*H31 -> 0 | O31: =I31*J31 -> 0 | P31: =L31*H31 -> 0 | Q31: =I31*L31 -> 0 | R31: =M31*H31 -> 0 | S31: =I31*M31 -> 0
A32: 27 | B32: Olanzapinum | D32: op. | E32: tabl. | F32: 5mg | G32: 30 | H32: 30 | I32: 30 | L32: =ROUND((J32*K32),2) -> 0 | M32: =J32+L32 -> 0 | N32: =J32*H32 -> 0 | O32: =I32*J32 -> 0 | P32: =L32*H32 -> 0 | Q32: =I32*L32 -> 0 | R32: =M32*H32 -> 0 | S32: =I32*M32 -> 0
A33: 28 | B33: Olanzapinum | D33: op. | E33: kaps.twarde | F33: 7,5mg | G33: 30 | H33: 30 | I33: 20 | L33: =ROUND((J33*K33),2) -> 0 | M33: =J33+L33 -> 0 | N33: =J33*H33 -> 0 | O33: =I33*J33 -> 0 | P33: =L33*H33 -> 0 | Q33: =I33*L33 -> 0 | R33: =M33*H33 -> 0 | S33: =I33*M33 -> 0
... A58: 53 | B58: Budesonidum | D58: op. | E58: zaw.do nebulizacji | F58: 0,500mg/ml*20poj.a2ml | G58: 20 | H58: 6 | I58: 2 | L58: =ROUND((J58*K58),2) -> 0 | M58: =J58+L58 -> 0 | N58: =J58*H58 -> 0 | O58: =I58*J58 -> 0 | P58: =L58*H58 -> 0 | Q58: =I58*L58 -> 0 | R58: =M58*H58 -> 0 | S58: =I58*M58 -> 0
A59: 54 | B59: Dorzolamidum | D59: op. | E59: krople do oczu | F59: 0.02 | G59: 5ml | H59: 4 | I59: 2 | L59: =ROUND((J59*K59),2) -> 0 | M59: =J59+L59 -> 0 | N59: =J59*H59 -> 0 | O59: =I59*J59 -> 0 | P59: =L59*H59 -> 0 | Q59: =I59*L59 -> 0 | R59: =M59*H59 -> 0 | S59: =I59*M59 -> 0
N60: =SUM(N6:N59) -> 0 | O60: =SUM(O6:O59) -> 0 | P60: =SUM(P6:P59) -> 0 | Q60: =SUM(Q6:Q59) -> 0 | R60: =SUM(R6:R59) -> 0 | S60: =SUM(S6:S59) -> 0
A61: ZADANIE 2
A62: 1 | B62: Amoxicillinum | D62: op. | E62: tabl. | F62: 0,5g | G62: 16 | H62: 3 | I62: 5 | L62: =ROUND((J62*K62),2) -> 0 | M62: =J62+L62 -> 0 | N62: =J62*H62 -> 0 | O62: =I62*J62 -> 0 | P62: =L62*H62 -> 0 | Q62: =I62*L62 -> 0 | R62: =M62*H62 -> 0 | S62: =I62*M62 -> 0
A63: 2 | B63: Clarithromycinum | D63: op. | E63: proszek do sporz.r-u do inf | F63: 0,5g | G63: 1 | H63: 15 | I63: 5 | L63: =ROUND((J63*K63),2) -> 0 | M63: =J63+L63 -> 0 | N63: =J63*H63 -> 0 | O63: =I63*J63 -> 0 | P63: =L63*H63 -> 0 | Q63: =I63*L63 -> 0 | R63: =M63*H63 -> 0 | S63: =I63*M63 -> 0
A64: 3 | B64: Colistimethatum natricum | D64: op. | E64: liof.d/s.r.d/wst., inf.,inj. iv. | F64: 1000000 j .m. | G64: 20 | H64: 4 | I64: 2 | L64: =ROUND((J64*K64),2) -> 0 | M64: =J64+L64 -> 0 | N64: =J64*H64 -> 0 | O64: =I64*J64 -> 0 | P64: =L64*H64 -> 0 | Q64: =I64*L64 -> 0 | R64: =M64*H64 -> 0 | S64: =I64*M64 -> 0
...

Sheet SUMA
A1: Zadanie | B1: Zamówienie podst. | C1: Zamówienie podst. | D1: Prawo opcji | E1: Prawo opcji | F1: Razem zamówienie podstawowe+prawo opcji
B2: wartość netto | C2: wartość brutto | D2: wartość netto | E2: wartość brutto | F2: wartość netto | G2: wartość brutto
A3: 1 | B3: ='Przetarg 2024'!N60 -> 0 | C3: ='Przetarg 2024'!R60 -> 0 | D3: ='Przetarg 2024'!O60 -> 0 | E3: ='Przetarg 2024'!S60 -> 0 | F3: =B3+D3 -> 0 | G3: =C3+E3 -> 0
A4: 2 | B4: ='Przetarg 2024'!N93 -> 0 | C4: ='Przetarg 2024'!R93 -> 0 | D4: ='Przetarg 2024'!O93 -> 0 | E4: ='Przetarg 2024'!S93 -> 0 | F4: =B4+D4 -> 0 | G4: =C4+E4 -> 0
A5: 3 | B5: ='Przetarg 2024'!N99 -> 0 | C5: ='Przetarg 2024'!R99 -> 0 | D5: ='Przetarg 2024'!O99 -> 0 | E5: ='Przetarg 2024'!S99 -> 0 | F5: =B5+D5 -> 0 | G5: =C5+E5 -> 0
A6: 4 | B6: ='Przetarg 2024'!N105 -> 0 | C6: ='Przetarg 2024'!R105 -> 0 | D6: ='Przetarg 2024'!O105 -> 0 | E6: ='Przetarg 2024'!S105 -> 0 | F6: =B6+D6 -> 0 | G6: =C6+E6 -> 0
A7: 5 | B7: ='Przetarg 2024'!N113 -> 0 | C7: ='Przetarg 2024'!R113 -> 0 | D7: ='Przetarg 2024'!O113 -> 0 | E7: ='Przetarg 2024'!S113 -> 0 | F7: =B7+D7 -> 0 | G7: =C7+E7 -> 0
A8: 6 | B8: ='Przetarg 2024'!N120 -> 0 | C8: ='Przetarg 2024'!R120 -> 0 | D8: ='Przetarg 2024'!O120 -> 0 | E8: ='Przetarg 2024'!S120 -> 0 | F8: =B8+D8 -> 0 | G8: =C8+E8 -> 0
A9: 7 | B9: ='Przetarg 2024'!N183 -> 0 | C9: ='Przetarg 2024'!R183 -> 0 | D9: ='Przetarg 2024'!O183 -> 0 | E9: ='Przetarg 2024'!S183 -> 0 | F9: =B9+D9 -> 0 | G9: =C9+E9 -> 0
A10: 8 | B10: ='Przetarg 2024'!N425 -> 0 | C10: ='Przetarg 2024'!R425 -> 0 | D10: ='Przetarg 2024'!O425 -> 0 | E10: ='Przetarg 2024'!S425 -> 0 | F10: =B10+D10 -> 0 | G10: =C10+E10 -> 0
A11: 9 | B11: ='Przetarg 2024'!N436 -> 0 | C11: ='Przetarg 2024'!R436 -> 0 | D11: ='Przetarg 2024'!O436 -> 0 | E11: ='Przetarg 2024'!S436 -> 0 | F11: =B11+D11 -> 0 | G11: =C11+E11 -> 0
A12: 10 | B12: ='Przetarg 2024'!N444 -> 0 | C12: ='Przetarg 2024'!R444 -> 0 | D12: ='Przetarg 2024'!O444 -> 0 | E12: ='Przetarg 2024'!S444 -> 0 | F12: =B12+D12 -> 0 | G12: =C12+E12 -> 0
A13: 11 | B13: ='Przetarg 2024'!N455 -> 0 | C13: ='Przetarg 2024'!R455 -> 0 | D13: ='Przetarg 2024'!O455 -> 0 | E13: ='Przetarg 2024'!S455 -> 0 | F13: =B13+D13 -> 0 | G13: =C13+E13 -> 0
A14: 12 | B14: ='Przetarg 2024'!N497 -> 0 | C14: ='Przetarg 2024'!R497 -> 0 | D14: ='Przetarg 2024'!O497 -> 0 | E14: ='Przetarg 2024'!S497 -> 0 | F14: =B14+D14 -> 0 | G14: =C14+E14 -> 0
A15: 13 | B15: ='Przetarg 2024'!N502 -> 0 | C15: ='Przetarg 2024'!R502 -> 0 | D15: ='Przetarg 2024'!O502 -> 0 | E15: ='Przetarg 2024'!S502 -> 0 | F15: =B15+D15 -> 0 | G15: =C15+E15 -> 0
A16: 14 | B16: ='Przetarg 2024'!N506 -> 0 | C16: ='Przetarg 2024'!R506 -> 0 | D16: ='Przetarg 2024'!O506 -> 0 | E16: ='Przetarg 2024'!S506 -> 0 | F16: =B16+D16 -> 0 | G16: =C16+E16 -> 0
A17: 15 | B17: ='Przetarg 2024'!N509 -> 0 | C17: ='Przetarg 2024'!R509 -> 0 | D17: ='Przetarg 2024'!O509 -> 0 | E17: ='Przetarg 2024'!S509 -> 0 | F17: =B17+D17 -> 0 | G17: =C17+E17 -> 0
A18: 16 | B18: ='Przetarg 2024'!N514 -> 0 | C18: ='Przetarg 2024'!R514 -> 0 | D18: ='Przetarg 2024'!O514 -> 0 | E18: ='Przetarg 2024'!S514 -> 0 | F18: =B18+D18 -> 0 | G18: =C18+E18 -> 0
A19: 17 | B19: ='Przetarg 2024'!N560 -> 0 | C19: ='Przetarg 2024'!R560 -> 0 | D19: ='Przetarg 2024'!O560 -> 0 | E19: ='Przetarg 2024'!S560 -> 0 | F19: =B19+D19 -> 0 | G19: =C19+E19 -> 0
A20: 18 | B20: ='Przetarg 2024'!N565 -> 0 | C20: ='Przetarg 2024'!R565 -> 0 | D20: ='Przetarg 2024'!O565 -> 0 | E20: ='Przetarg 2024'!S565 -> 0 | F20: =B20+D20 -> 0 | G20: =C20+E20 -> 0
A21: 19 | B21: ='Przetarg 2024'!N571 -> 0 | C21: ='Przetarg 2024'!R571 -> 0 | D21: ='Przetarg 2024'!O571 -> 0 | E21: ='Przetarg 2024'!S571 -> 0 | F21: =B21+D21 -> 0 | G21: =C21+E21 -> 0
A22: Razem | B22: =SUM(B3:B21) -> 0 | C22: =SUM(C3:C21) -> 0 | D22: =SUM(D3:D21) -> 0 | E22: =SUM(E3:E21) -> 0 | F22: =SUM(F3:F21) -> 0 | G22: =SUM(G3:G21) -> 0
