Workbook

Sheet zadanie nr 1 - dozowniki
B1: Nazwa i adres Wykonawcy…………………………….. | J1: Załącznik nr 2.1
B3: Nr sprawy: 25/ŚDICZ/DCZP/2018/P | D3: Formularz cenowy
B5: Zadanie nr 1
A7: Lp | B7: Nazwa przedmiotu zamówienia | C7: Nazwa, nr katalogowy i producent (podać nr strony ulotki i dokumentów rejestrowych w ofercie) | D7: Opakowanie | E7: Szacunkowa wielkość zamówienia | F7: Cena jednost. netto | G7: % Vat | H7: Cena jednost. brutto | I7: Wartość netto | J7: Wartość Vat | K7: Wartość brutto
A8: 1 | B8: 2 | C8: 3 | D8: 3 | E8: 4 | F8: 5 | G8: 6 | H8: 7 | I8: 8 | J8: 9 | K8: 11
A9: 1 | B9: Pianka do mycia rąk bez środków zapachowych, bez środków barwiących, stworzona do częstego mycia rąk o pojemności min. 1200 ml. Zaginanie się butelki wraz z zużyciem mydła. Wkad fabrycznie zamknięty, wymieniany razem z pompką dozującą w celu wyeliminowania ryzyka kontaminacji mydła dolewanego, odpowiadający dozownikowi w pozycji 1 Pakowany po 2 sztuki | D9: op. | E9: 5
A10: 2 | B10: Pianka do mycia rąk bez środków zapachowych, bez środków barwiących, stworzona do częstego mycia rąk o pojemności min. 1200 ml. Zaginanie się butelki wraz z zużyciem mydła. Wkad fabrycznie zamknięty, wymieniany razem z pompką dozującą w celu wyeliminowania ryzyka kontaminacji mydła dolewanego, odpowiadający dozownikowi w pozycji 2 Pakowany po 2 sztuki | D10: op. | E10: 5
H11: RAZEM | I11: =SUM(I9:I10) -> 0 | J11: =SUM(J9:J10) -> 0 | K11: =SUM(K9:K10) -> 0
B13: 1) Oświadczamy że w cenie oferty uwzględniliśmy wszystkie elementy cenotwórcze wynikajace z zakresu i sposobu realizacji przedmiotu zamówienia.
B14: 2) Poz. 3 musi pasować do dozowników Gojo LTX-12..
B15: ………………………………………………………………………… (data i podpis Wykonawcy)

Sheet zadanie nr 2 - koncentraty
B1: Nazwa i adres Wykonawcy…………………………….. | J1: Załącznik nr 2.2
B3: Nr sprawy: 25/ŚDICZ/DCZP/2018/P | D3: Formularz cenowy
B5: Zadanie nr 2
A7: Lp | B7: Nazwa przedmiotu zamówienia | C7: Nazwa, nr katalogowy i producent (podać nr strony ulotki i dokumentów rejestrowych w ofercie) | D7: opakowanie | E7: Szacunkowa wielkość zamówienia | F7: Cena jednost. netto | G7: % Vat | H7: Cena jednost. brutto | I7: Wartość netto | J7: Wartość Vat | K7: Wartość brutto
A8: 1 | B8: 2 | C8: 3 | D8: 3 | E8: 4 | F8: 5 | G8: 6 | H8: 7 | I8: 8 | J8: 9 | K8: 11
A9: 1 | B9: Koncentrat czyszczący do sanitariatów. Posiada znakomite właściwości czyszczące. Usuwa kamień z wody i moczu, przy codziennym stosowaniu. Daje świeży zapach i wysoki połysk. Przeznaczony do wszystkich powierzchni przedmiotów znajdujących się w pomieszczeniach sanitarnych. Idealny do podłóg, drzwi, ścian, umywalek i prysznicy. pH: 0,9-1,5 (100%). Skład: >5 -<15% niejonowe związki powierzchniowo czynne, 10-30 % kwas amidosiarkowy (VI), 10-25 % etoksylowany alkohol tłuszczowy>5EO, kwas cytrynowy 1-3%. Wydajność 1 l koncentratu – 1000 l roztworu roboczego.Produkt barwiony. Opakowanie butelka 1 litr. | D9: szt. | E9: 50
A10: 2 | B10: Krem do rąk poj 100ml. Skład: Aqua, Paraffinum Liquidum, Octyl Palmitate, Glycerin, Sorbitan Oleate, Polyglyceryl-3 Ricinoleate, Lactic Acid, Magnesium Sulfate, Ascorbyt Palmitate, Glyceryl Oleate, Glyceryl Laurate, Arachis Hypogaea, Tocopherol, Citric Acid, Methylparaben, Propylparaben, Parfum. | D10: szt. | E10: 300
A11: 3 | B11: Mleczko do czyszczenia 1/2l | D11: szt. | E11: 100
A12: 4 | B12: Mleczko do czyszczenia mebli, w opakowaniu 250 ml. Jednocześnie polerujące i czyszczące, dobrze maskujące rysy na meblach drewnianych. | D12: szt | E12: 20
A13: 5 | B13: Mydło w płynie antybakteryjne 5l | D13: szt. | E13: 50
A14: 6 | B14: Płyn - skoncentrowany do czyszczenia, dezynfekcji. Doskonale zmywający i dezynfekujący, skuteczny wobec grzybów i bakterii,Preparat zawierający 4,5 % aktywnego chloru. Posiadający atesty PZH, Pozwolenia Ministra Zdrowia, spełnia wymagania HACCP. Opakowanie 5kg. | D14: szt. | E14: 50
A15: 7 | B15: Płyn do mycia naczyń w koncentracie o zapachu cytrynowym lub miętowym, opakowanie 5L | D15: szt. | E15: 50
A16: 8 | B16: Preparat do mycia i konserwacji mebli. Składający się z mieszaniny anionowych i niejonowych związków powierzchniowo czynnych oraz substancje konserwujące i kompozycje zapachowe. PH – 8,5 Opakowanie pojemności 0,5L. z atomizerem. | D16: szt. | E16: 50
A17: 9 | B17: Preparat w koncentracie do silnych zabrudzeń z kamienia i rdzy, opakowanie o poj. 1L ; PH koncentratu = 1 | D17: szt | E17: 50
A18: 10 | B18: Środek do mycia i pielęgnacji posadzek o właściwościach zwilżających. Do czyszczenia powierzchni podłóg z codziennych zabrudzeń oraz środek posiadający niskie właściwości pieniące. Zawiera polimery rozpuszczalne w wodzie, zabezpieczając powłokę podłogi na narastanie zabrudzeń. Środek nie podlega przepisom CLP dotyczącym etykietowania, co oznacza brak wymagań dotyczących stosowania środków ochrony osobistej. Produkt posiada certyfikat Eco-Label. Certyfikowany wg normy DIN 18032. Zalecane stężenie roztworu roboczego: 0,25-0,5%. Skład: alcohol ethoxylate ≥3 - <5%, alkilosulfobursztyniany ≥3 - <5%, alkohol etylowy ≥1 - <2.5%, niejonowe środki powierzchniowo czynne >5 - ≤15%, anionowe środki powierzchniowo czynne <5%, mydło, pH 8,9-9,9 100%.. Opakowanie butelka 1L | D18: szt. | E18: 200
A19: 11 | B19: Skoncentrowany środek do mycia powierzchni ogólnych i szklanych o właściwościach zwilżających. Do wszystkich powierzchni zmywalnych /glazura, meble, powierzchnie laminowane, lamperie etc., (w tym do powierzchni błyszczących /szyby, lustra, przeszklenia). Zawierający alkohol i aktywne składniki ułatwiające czyszczenie powierzchni i podłóg, szczególnie powierzchni błyszczących, bez pozostawiania smug. Środek nie podlega przepisom CLP dotyczącym etykietowania, co oznacza brak wymagań dotyczących stosowania środków ochrony osobistej. Produkt posiada certyfikat Eco-Label.Stężenie roztworu roboczego: 0,25-0,5% Skład: anionowe środki powierzchniowo czynne ≤5%, alkilosulfobursztyniany ≥1 - >2,5%, alkohol etylowy ≥5 - <10%, pH koncentratu 6,3 do 7,3. Środek barwiony. Opakowanie butelka 1L. | C19: brial | D19: op. | E19: 200
H20: RAZEM | I20: =SUM(I9:I19) -> 0 | J20: =SUM(J9:J19) -> 0 | K20: =SUM(K9:K19) -> 0
B22: 1. Do wszystkich produktów Zamawiający wymaga dostarczenia aktualnych kart charakterystyki i kart technicznych produktów wystawionych przez producenta środków potwierdzających zgodność produktów z SIWZ.
B23: 2. Do produktów z pozycji 1,15,17 Zamawiający wymaga na czas trwania umowy dostarczenia bezpłatnie …………… szt. Przepływowych systemów dozujących, wykonanych z ABS umożliwiających podłączenie 4 preparatów (wersja na 2 butelki i 2 wiadra) z dozowaniem w stężeniu od 0,1%.
B24: 3. Dodatkowo do produktów z pozycji 1,15,17 Zamawiający wymaga użyczenia na czas umowy ……………… szt. zamykanych na klucz pojemników kompatybilnych z systemem dozującym, na 1L butelki z koncentratem z w/w produktów, uniemożliwiające dostęp do preparatu osobom postronnym. 1 pojemnik na 1 butelkę. Zamknięte pojemniki nie mogą zasłaniać dolnej części butelek z koncentratem, umożliwiając tym samym ocenę ilość środka w butelce bez konieczności otwierania pojemników.
B25: 4. Systemy dozujące i pojemniki na koncentraty będą dostarczone i zamontowane przez wykonawcę we wskazanych przez zamawiającego miejscach w terminie ………………. dni przedmiotu zamówienia.
B26: 5. Do pozycji 1 i 17 Zamawiający wymaga dostarczenia po ………. butelek 650ml z atomizerem z regulacją strumienia, opisanych sitodrukiem
B27: 6. Do produktów z pozycji 9 i 17 Zamawiający wymaga na czas trwania umowy dostarczenia, zamontowania i serwisowania bezpłatnie …………………. szt. dozowników automatycznych, elektrycznych, dwuskładnikowych, zasilanych 12 volt i 230 volt
B28: 7. Wykonawca , którego oferta w toku postępowania zostanie wybrana za najkorzystniejsza zobowiazany jest do przeprowadzenia w siedzibie zamawiającego, po podpisaniu umowy szkolenia produktowego dla personelu z zakresu bezpiecznego i skutecznego używania zaoferownych środków i systemów dozujących oraz szkoleń przypominajacych na rządanie zamawiającego w trakcie realizacji umowy.
B29: 8. Wykonawca , którego oferta zostanie wybrana za najkorzystniejszą w toku postępowania dostarczy ……………….. szt. zalaminowanych planów higieny dotyczących postępowania z preparatami.
B30: 9. Preparaty z pozycji 1,6,13,14,15,17 muszą być kompatybilne i pochodzić od jednego producenta
B31: 10. Zamawiający wymaga przeprowadzania przeglądów serwisowych dozowników, potwierdzonych odpowiednim raportem min. 1 raz na pół roku
B32: 11. Wykonawca zapewni do wszystkich zamontowanych systemów dozujacych opieke serwisową na każde wezwanie zamawiającego.
B33: 12. W przypadku wątpliwości co do zgodności złożonych ofert z SIWZ, Zamawiający zastrzega sobie prawo wezwania wykonawców do dostarczenia dokumentów lub prezentacji środków i systemu dozującego w siedzibie zamawiającego.
B35: ………………………………… Data i podpis Wykonawcy

Sheet zadanie nr 3 - mopy
B1: Nazwa i adres Wykonawcy…………………………….. | J1: Załącznik nr 2.3
B3: Nr sprawy: 25/ŚDICZ/DCZP/2018/P | D3: Formularz cenowy
B5: Zadanie nr 3
A7: Lp | B7: Nazwa przedmiotu zamówienia | C7: Nazwa, nr katalogowy i producent (podać nr strony ulotki i dokumentów rejestrowych w ofercie) | D7: opakowanie | E7: Szacunkowa wielkość zamówienia | F7: Cena jednost. netto | G7: % Vat | H7: Cena jednost. brutto | I7: Wartość netto | J7: Wartość Vat | K7: Wartość brutto
A8: 1 | B8: 2 | C8: 3 | D8: 3 | E8: 4 | F8: 5 | G8: 6 | H8: 7 | I8: 8 | J8: 9 | K8: 11
A9: 1 | B9: Mop o wym 40 cm mocowany taśmowo do uchwytu, kompatybilny z zamawianą podstawką mopa, umożliwiająca bezdotykowe płukanie i namaczanie.. Waga mopa - 87 cm , wykonany z 70% mikrowłókno poliestrowe, 30% poliester i obszyciem tylnym z 100% poliestru. Mop o wyjątkowo twardych włóknach ciętych do zeskrobywania silnie przywartych zanieczyszczeń z posadzek o wyraźnej teksturze/szorstkich/profilowanych. Mop z wszytymi lamelkami do kodowania kolorystycznego. | D9: szt. | E9: 100
A10: 2 | B10: Nakładka bawełniana z dodatkiem włókien mikrofazowych (poliester, bawełna, wiskoza, poliester-mikrofaza), mocowana taśmowo do uchwytu, kompatybilna z zamawianą podstawką mopa, umożliwiająca bezdotykowe płukanie i namaczanie. Gwarantowana wytrzymałość, bez zmiany właściwości materiału, po co najmniej 400 cyklach prania przeprowadzonych w profesjonalnej pralnicy, w temperaturze 95°C. Wytrzymała na środki dezynfekcyjne zarejestrowane do prania bielizny szpitalnej. Utrata wagi po 400 cyklach winna być nie większa niż 10%. Waga mopa 130g ± 10 gr, chłonność mopa 340ml ± 10%. | D10: szt. | E10: 100
A11: 3 | B11: Dwufunkcyjna, kieszeniowo - taśmowa ( taśmy powinny być wsuwane) podstawa do mopa płaskiego o długości od 39 do 40 cm, szerokości 10 cm, waga 490 g ± 10%. Podstawa mopa powinna cechować się łatwością utrzymania wysokiego stanu higienicznego (mało załamków i miejsc trudnodostępnych), łączyć się przegubowo z drążkiem, być wykonana z odpornego na odkształcenia i zarysowania tworzywa sztucznego. Podstawa powinna składać się na płasko, tj. obydwa ramiona muszą do siebie przylegać całą swoją powierzchnią. Mechanizm pozwalający na składanie się uchwytu powinien być łatwy w użyciu, trwały a elementy metalowe takie, jak sprężynki i sworznie wykonane ze stali nierdzewnej. Uchwyt powinien być odporny na proces sterylizacji parowej w autoclav’ie o parametrach: 121°C i 1 atm. | D11: szt. | E11: 5
A12: 4 | B12: Prasa i wyciskarka mogą być używane z 15 i 25 litrowym wiadrem UltraSpeed, - specjalny uchwyt na prasie i wyciskarce dla wygodnego mocowania kija. | D12: szt | E12: 5
H13: RAZEM | I13: =SUM(I9:I12) -> 0 | J13: =SUM(J9:J12) -> 0 | K13: =SUM(K9:K12) -> 0
B15: 1) Oświadczamy że w cenie oferty uwzględniliśmy wszystkie elementy cenotwórcze wynikajace z zakresu i sposobu realizacji przedmiotu zamówienia.
B17: ………………………………………………………………………… (data i podpis Wykonawcy)
B35: W cenie usługi zawarte są wszystkie koszty niezbędne do realizacji zadania/ z pominięciem ceny za materiały/
B38: ………………………………… Data i podpis Wykonawcy

Sheet zadanie nr 4 - ścierki
B1: Nazwa i adres Wykonawcy…………………………….. | J1: Załącznik nr 2.4
B3: Nr sprawy: 25/ŚDICZ/DCZP/2018/P | D3: Formularz cenowy
B5: Zadanie nr 4
A7: Lp | B7: Nazwa przedmiotu zamówienia | C7: Nazwa, nr katalogowy i producent (podać nr strony ulotki i dokumentów rejestrowych w ofercie) | D7: opakowanie | E7: Szacunkowa wielkość zamówienia | F7: Cena jednost. netto | G7: % Vat | H7: Cena jednost. brutto | I7: Wartość netto | J7: Wartość Vat | K7: Wartość brutto
A8: 1 | B8: 2 | C8: 3 | D8: 3 | E8: 4 | F8: 5 | G8: 6 | H8: 7 | I8: 8 | J8: 9 | K8: 11
A9: 1 | B9: Fartuch foliowy 100 szt. w op. | D9: op. | E9: 10
A10: 2 | B10: Gąbka do szorowania z padem o wym.7 x 15cm Wym.: 7x15cm | D10: szt. | E10: 300
A11: 3 | B11: Kostka toaletowa z koszyczkiem, czyści, odświeża, działa przeciwbakteryjnie. Wyjątkowo trwała wystarczająca na min. 500 spłukań. Opakowanie kostka + koszyczek. | D11: szt | E11: 300
A12: 4 | B12: Kosz pedałowy 15l, okrągły | D12: szt | E12: 15
A13: 5 | B13: Płytka na owady | D13: szt. | E13: 20
A14: 6 | B14: Szczotka do pajęczyn + kij teleskopowy o dł. min. 450 cm | D14: szt | E14: 6
A15: 7 | B15: Szczotka domowa o min. 28,5 cm + kij drewniany min. 120 cm; drewniana, lakierowana, włosie mieszane | D15: szt | E15: 10
A16: 8 | B16: Ścierka niebieska z mikrowłókien (mikrofazy), posiadająca dobre właściwości czyszczące bez pozostawiania smug i kłaczków. Brzegi ścierki trwale wykończone. Ścierka wykonane w 100% z materiału syntetycznego ( mieszanki włókien poliestru i poliamidu) o wymiarach nie mniejszych niż 40 x 40 cm, cechująca się: odpornością na rozerwanie, dobrym wchłanianiem kurzu, absorpcją wody na poziomie 400% wagi lub wyższym. Wytrzymała na środki dezynfekcyjne zarejestrowane do prania bielizny szpitalnej. Posiadająca dobre właściwości czyszczące bez pozostawiania smug i kłaczków, cechująca się wysokimi zdolnościami do zbierania zarodników bakteryjnych (Pseudomonas aeruginosa i Staphylococcus ureus) z czyszczonej powierzchni (min 99,92% z neutralnym środkiem myjącym, stosowanym w stężeniu 1% i ilości cieczy roboczej nie większej niż 40ml na ścierkę, czyszcząc powierzchnię wykonaną z PCW). | D16: szt | E16: 200
H17: Razem | I17: =SUM(I9:I16) -> 0 | J17: =SUM(J9:J16) -> 0 | K17: =SUM(K9:K16) -> 0
B20: 1) Oświadczamy że w cenie oferty uwzględniliśmy wszystkie elementy cenotwórcze wynikajace z zakresu i sposobu realizacji przedmiotu zamówienia.
B22: ………………………………………………………………………… (data i podpis Wykonawcy)

Sheet koszta
A1: Nr zadnia | B1: wartość netto | C1: wartość VAT | D1: wartość brutto
A2: 1 | B2: ='zadanie nr 1 - dozowniki'!I11 -> 0 | C2: ='zadanie nr 1 - dozowniki'!J11 -> 0 | D2: ='zadanie nr 1 - dozowniki'!K11 -> 0
A3: 2 | B3: ='zadanie nr 2 - koncentraty'!I20 -> 0 | C3: ='zadanie nr 2 - koncentraty'!J20 -> 0 | D3: ='zadanie nr 2 - koncentraty'!K20 -> 0
A4: 3 | B4: ='zadanie nr 3 - mopy'!I13 -> 0 | C4: ='zadanie nr 3 - mopy'!J13 -> 0 | D4: ='zadanie nr 3 - mopy'!K13 -> 0
A5: 4 | B5: ='zadanie nr 4 - ścierki'!I17 -> 0 | C5: ='zadanie nr 4 - ścierki'!J17 -> 0 | D5: ='zadanie nr 4 - ścierki'!K17 -> 0
A6: suma | B6: =SUM(B2:B5) -> 0 | C6: =SUM(C2:C5) -> 0 | D6: =SUM(D2:D5) -> 0
